BEGIN:VCALENDAR
VERSION:2.0
PRODID:IEEE vTools.Events//EN
CALSCALE:GREGORIAN
BEGIN:VTIMEZONE
TZID:America/New_York
BEGIN:DAYLIGHT
DTSTART:20230312T030000
TZOFFSETFROM:-0500
TZOFFSETTO:-0400
RRULE:FREQ=YEARLY;BYDAY=2SU;BYMONTH=3
TZNAME:EDT
END:DAYLIGHT
BEGIN:STANDARD
DTSTART:20221106T010000
TZOFFSETFROM:-0400
TZOFFSETTO:-0500
RRULE:FREQ=YEARLY;BYDAY=1SU;BYMONTH=11
TZNAME:EST
END:STANDARD
END:VTIMEZONE
BEGIN:VEVENT
DTSTAMP:20230316T235536Z
UID:4173C9B9-F31E-4EB7-A597-26E5B78B82BA
DTSTART;TZID=America/New_York:20230308T114500
DTEND;TZID=America/New_York:20230308T130000
DESCRIPTION:IEEE Communications Society Mohawk Valley chapter is proud to h
 ost a Distinguished Lecturer talk by Dr. Josep Jornet from Northeastern Un
 iversity. The event will be held in-person at the Innvoare Advancement Cen
 ter in Rome\, NY. Please let ngwethawdar@ieee.org know if you are attendin
 g to make sure we have enough pizza. If there is enough interest/request\,
  we will set up a WebEx link\, however\, please understand that A/V is dif
 ficult for a hybrid event and we ask for your patience.\n\nSpeaker(s): Dr.
  Josep Jornet\, \n\nAgenda: \n11:45 am - 12:00 pm Meeting set up\; Sociliz
 ation and pizza\n\n12:00 pm -1:00 pm IEEE ComSoc Distinguished Lecturer Ta
 lk by Dr. Josep Jornet\n\nRoom: Pythagorean A\, Innovare Advancement Cente
 r\, 592 Hangar Road\, Rome\, New York\, United States\, 13441
LOCATION:Room: Pythagorean A\, Innovare Advancement Center\, 592 Hangar Roa
 d\, Rome\, New York\, United States\, 13441
ORGANIZER:ngwethawdar@ieee.org
SEQUENCE:4
SUMMARY:IEEE ComSoc Distinguished Lecturer Series: Terahertz Communications
 : How Far Are We?
URL;VALUE=URI:https://events.vtools.ieee.org/m/350826
X-ALT-DESC:Description: &lt;br /&gt;&lt;p&gt;IEEE Communications Society Mohawk Valley 
 chapter is proud to host a Distinguished Lecturer talk by Dr. Josep Jornet
  from Northeastern University. The event will be held in-person at the Inn
 voare Advancement Center in Rome\, NY. Please let ngwethawdar@ieee.org kno
 w if you are attending to make sure we have enough pizza. If there is enou
 gh interest/request\, we will set up a WebEx link\, however\, please under
 stand that A/V is difficult for a hybrid event and we ask for your patienc
 e.&amp;nbsp\;&lt;/p&gt;&lt;br /&gt;&lt;br /&gt;Agenda: &lt;br /&gt;&lt;p&gt;11:45 am - 12:00 pm Meeting set 
 up\; Socilization and pizza&lt;/p&gt;\n&lt;p&gt;12:00 pm -1:00 pm IEEE ComSoc Distingu
 ished Lecturer Talk by Dr. Josep Jornet&lt;/p&gt;
END:VEVENT
END:VCALENDAR

