BEGIN:VCALENDAR
VERSION:2.0
PRODID:IEEE vTools.Events//EN
CALSCALE:GREGORIAN
BEGIN:VTIMEZONE
TZID:Mexico/General
BEGIN:STANDARD
DTSTART:20221030T010000
TZOFFSETFROM:-0500
TZOFFSETTO:-0600
TZNAME:CST
END:STANDARD
END:VTIMEZONE
BEGIN:VEVENT
DTSTAMP:20230407T234855Z
UID:A4F5C5C1-9168-4591-80DE-E66B2B6C8685
DTSTART;TZID=Mexico/General:20230330T113000
DTEND;TZID=Mexico/General:20230330T123000
DESCRIPTION:In this talk\, Dr. Michele Nogueira will present her insights f
 rom academia to motivate students and young professionals to follow their 
 goals and dreams in a STEM career.\n\nDr. Nogueira correlates her journey 
 in her successful engineering career to a triathlon training she has follo
 wed in order to complete the race called &quot;70.3 Ironman&quot;.\n\nCo-sponsored b
 y: Universidad Autónoma del Estado de Morelos (UAEM)\n\nSpeaker(s): Miche
 le Nogueira\, \n\nRoom: Auditorio\, Bldg: B\, Avenida Universidad 1001\, C
 olonia Chamilpa\, Facultad de Ciencias Químicas e Ingeniería\, Cuernavac
 a\, Morelos\, Mexico\, 62210\, Virtual: https://events.vtools.ieee.org/m/3
 51499
LOCATION:Room: Auditorio\, Bldg: B\, Avenida Universidad 1001\, Colonia Cha
 milpa\, Facultad de Ciencias Químicas e Ingeniería\, Cuernavaca\, Morelo
 s\, Mexico\, 62210\, Virtual: https://events.vtools.ieee.org/m/351499
ORGANIZER:jvazquez@ineel.mx
SEQUENCE:8
SUMMARY:My adventure in STEM: My insights from the backstage
URL;VALUE=URI:https://events.vtools.ieee.org/m/351499
X-ALT-DESC:Description: &lt;br /&gt;&lt;div class=&quot;&quot;&gt;\n&lt;p&gt;&lt;strong&gt;In this talk\, Dr.
  Michele Nogueira will present her insights from academia to motivate stud
 ents and young professionals to follow their goals and dreams in a STEM ca
 reer.&lt;/strong&gt;&lt;/p&gt;\n&lt;p&gt;&lt;strong&gt;Dr. Nogueira correlates her journey in her 
 successful engineering career to a triathlon training she has followed in 
 order to complete the race called &quot;70.3 Ironman&quot;.&lt;/strong&gt;&lt;/p&gt;\n&lt;/div&gt;
END:VEVENT
END:VCALENDAR

