BEGIN:VCALENDAR
VERSION:2.0
PRODID:IEEE vTools.Events//EN
CALSCALE:GREGORIAN
BEGIN:VTIMEZONE
TZID:America/Los_Angeles
BEGIN:DAYLIGHT
DTSTART:20230312T030000
TZOFFSETFROM:-0800
TZOFFSETTO:-0700
RRULE:FREQ=YEARLY;BYDAY=2SU;BYMONTH=3
TZNAME:PDT
END:DAYLIGHT
BEGIN:STANDARD
DTSTART:20231105T010000
TZOFFSETFROM:-0700
TZOFFSETTO:-0800
RRULE:FREQ=YEARLY;BYDAY=1SU;BYMONTH=11
TZNAME:PST
END:STANDARD
END:VTIMEZONE
BEGIN:VEVENT
DTSTAMP:20230321T171551Z
UID:CC900A27-14BB-4993-8E77-3C69A8AF37B5
DTSTART;TZID=America/Los_Angeles:20230318T094500
DTEND;TZID=America/Los_Angeles:20230318T110000
DESCRIPTION:Speaker: Allen Upward\n\nRegistration is optional\, but we want
  to know who to expect.\n10:00 AM P.D.T. You can log in at 9:45 AM (12:45 
 PM Montreal) to check connection and say hello.\nAll IEEE members are welc
 ome\, especially those Life Members that don&#39;t have a local Affinity Group
 .\n\nWe are looking for speakers for the rest of the year\, contact Carl Z
 anon &lt;sczanon@shaw.ca&gt; if interested.\n\nSpeaker(s): Allen Upward\, \n\nAg
 enda: \n9:45 AM Zoom opens\n10:00 AM Welcome and speaker introduction by C
 arl Zanon\n10:05 AM Speaker\n\nPortable Electric (PE) was founded in 2015\
 , and is a Vancouver-based technology company and manufacturer of the VOLT
 stack 5 kV to 30 kV e-Generator\, a clean energy alternative to traditiona
 l gas and diesel generators.\nEV Car chargers: the installation of 40 7 kW
  Level 2 and 13 DC Fast Chargers across the Kootenays region. The charger 
 also acts as an e-generator to power e-bikes\, audio equipment\, food truc
 ks and more. It will be available in multiple locations including farmers 
 markets\, community events and local concerts.\nWeighing only 42 lbs and c
 onveniently packaged in a briefcase-style kit\, the Sunstack folding solar
  kit can operate anywhere there is sunlight and deploys in seconds.\n\nVir
 tual: https://events.vtools.ieee.org/m/351747
LOCATION:Virtual: https://events.vtools.ieee.org/m/351747
ORGANIZER:cguelke@telus.net
SEQUENCE:6
SUMMARY:Vancouver TALK 14: Cleantech Alternative to Portable Diesel Generat
 ors
URL;VALUE=URI:https://events.vtools.ieee.org/m/351747
X-ALT-DESC:Description: &lt;br /&gt;&lt;p&gt;Speaker: Allen Upward&lt;/p&gt;\n&lt;p&gt;Registration
  is optional\, but we want to know who to expect.&lt;br /&gt;&lt;strong&gt;10:00 AM P.
 D.T. You can log in at 9:45 AM (12:45 PM Montreal) to check connection and
  say hello.&lt;br /&gt;&lt;/strong&gt;All IEEE members are welcome\, especially those 
 Life Members that don&#39;t have a local Affinity Group.&lt;strong&gt;&lt;br /&gt;&lt;/strong
 &gt;&lt;/p&gt;\n&lt;p&gt;We are looking for speakers for the rest of the year\, contact C
 arl Zanon &amp;lt\;sczanon@shaw.ca&amp;gt\; if interested.&lt;/p&gt;&lt;br /&gt;&lt;br /&gt;Agenda: 
 &lt;br /&gt;&lt;p&gt;9:45 AM Zoom opens&lt;br /&gt;10:00 AM Welcome and speaker introduction
  by Carl Zanon&lt;br /&gt;10:05 AM Speaker&lt;/p&gt;\n&lt;p&gt;Portable Electric (PE) was fo
 unded in 2015\, and is a Vancouver-based technology company and manufactur
 er of the VOLTstack 5 kV to 30 kV e-Generator\, a clean energy alternative
  to traditional gas and diesel generators.&lt;br /&gt;EV Car chargers: the insta
 llation of 40 7 kW Level 2 and 13 DC Fast Chargers across the Kootenays re
 gion.&amp;nbsp\; The charger also acts as an e-generator to power e-bikes\, au
 dio equipment\, food trucks and more. It will be available in multiple loc
 ations including farmers markets\, community events and local concerts.&lt;br
  /&gt;Weighing only 42 lbs and conveniently packaged in a briefcase-style kit
 \, the Sunstack folding solar kit can operate anywhere there is sunlight a
 nd deploys in seconds.&amp;nbsp\;&lt;/p&gt;
END:VEVENT
END:VCALENDAR

