BEGIN:VCALENDAR
VERSION:2.0
PRODID:IEEE vTools.Events//EN
CALSCALE:GREGORIAN
BEGIN:VTIMEZONE
TZID:America/Denver
BEGIN:DAYLIGHT
DTSTART:20230312T030000
TZOFFSETFROM:-0700
TZOFFSETTO:-0600
RRULE:FREQ=YEARLY;BYDAY=2SU;BYMONTH=3
TZNAME:MDT
END:DAYLIGHT
BEGIN:STANDARD
DTSTART:20231105T010000
TZOFFSETFROM:-0600
TZOFFSETTO:-0700
RRULE:FREQ=YEARLY;BYDAY=1SU;BYMONTH=11
TZNAME:MST
END:STANDARD
END:VTIMEZONE
BEGIN:VEVENT
DTSTAMP:20230317T210544Z
UID:67232DA6-2C15-4ADB-9407-4049C8C4F6CB
DTSTART;TZID=America/Denver:20230316T180000
DTEND;TZID=America/Denver:20230316T200000
DESCRIPTION:The IEEE Denver Young Professionals Affinity Group is finally k
 icking off their first event!\n\nJoin us for an exciting event filled with
  food\, networking\, and getting to know everyone calling the Mile High Ci
 ty home. We&#39;ll discuss future YP events\, recap the recent Rising Stars ev
 ent in Las Vegas\, and preview the upcoming YP session at the GreenTech co
 nference in April\, all in one place. Don&#39;t miss out on this opportunity t
 o connect and engage with other young professionals\, or discover ways to 
 contribute and support young professionals in the field.\n\nFood&#39;s on us w
 hile it lasts!\n\nWhen: Thursday\, March 16th from 6pm to 8pm\nWhere: Coar
 k Collective Food Hall (15775 E Arapahoe Rd\, Centennial\, CO 80016)\n\nCo
 -sponsored by: IEEE Denver Section\n\nAgenda: \n6pm to 6:30pm: Registratio
 n\, networking and ordering food\n6:30pm to 6:45pm: Introduction\n6:45pm t
 o 7:15pm: Presentation\n7:15pm to 8pm: Discussion\, swags and a raffle\n\n
 15775 E Arapahoe Rd\, Centennial\, Colorado\, United States\, 80116
LOCATION:15775 E Arapahoe Rd\, Centennial\, Colorado\, United States\, 8011
 6
ORGANIZER:h.idrees@ieee.org
SEQUENCE:3
SUMMARY:IEEE Denver Young Professionals Kickoff!
URL;VALUE=URI:https://events.vtools.ieee.org/m/351791
X-ALT-DESC:Description: &lt;br /&gt;&lt;p&gt;The &lt;strong&gt;IEEE Denver Young Professional
 s Affinity Group&lt;/strong&gt; is finally kicking off their first event!&lt;/p&gt;\n&lt;
 p&gt;&lt;span style=&quot;font-weight: 400\;&quot;&gt;Join us for an exciting event filled wi
 th food\, networking\, and getting to know everyone calling the Mile High 
 City home. We&#39;ll discuss future YP events\, recap the recent Rising Stars 
 event in Las Vegas\, and preview the upcoming YP session at the GreenTech 
 conference in April\, all in one place. Don&#39;t miss out on this opportunity
  to connect and engage with other young professionals\, or discover ways t
 o contribute and support young professionals in the field.&lt;/span&gt;&lt;/p&gt;\n&lt;p&gt;
 &lt;em&gt;Food&#39;s on us while it lasts!&lt;/em&gt;&lt;/p&gt;\n&lt;p&gt;&lt;strong&gt;&lt;em&gt;When: Thursday\,
  March 16th from 6pm to 8pm&lt;/em&gt;&lt;/strong&gt;&lt;br /&gt;&lt;strong&gt;&lt;em&gt;Where: Coark Co
 llective Food Hall (15775 E Arapahoe Rd\, Centennial\, CO 80016)&lt;/em&gt;&lt;/str
 ong&gt;&lt;/p&gt;&lt;br /&gt;&lt;br /&gt;Agenda: &lt;br /&gt;&lt;p&gt;&lt;span style=&quot;font-weight: 400\;&quot;&gt;6pm 
 to 6:30pm: Registration\, networking and ordering food&lt;br /&gt;&lt;/span&gt;&lt;span s
 tyle=&quot;font-weight: 400\;&quot;&gt;6:30pm to 6:45pm: Introduction&lt;br /&gt;&lt;/span&gt;&lt;span
  style=&quot;font-weight: 400\;&quot;&gt;6:45pm to 7:15pm: Presentation&lt;br /&gt;&lt;/span&gt;&lt;sp
 an style=&quot;font-weight: 400\;&quot;&gt;7:15pm to 8pm: Discussion\, swags and a raff
 le&lt;/span&gt;&lt;/p&gt;
END:VEVENT
END:VCALENDAR

