BEGIN:VCALENDAR
VERSION:2.0
PRODID:IEEE vTools.Events//EN
CALSCALE:GREGORIAN
BEGIN:VTIMEZONE
TZID:America/Lima
BEGIN:DAYLIGHT
DTSTART:20380118T221407
TZOFFSETFROM:-0500
TZOFFSETTO:-0500
RRULE:FREQ=YEARLY;BYDAY=3MO;BYMONTH=1
TZNAME:-05
END:DAYLIGHT
BEGIN:STANDARD
DTSTART:19940331T230000
TZOFFSETFROM:-0400
TZOFFSETTO:-0500
RRULE:FREQ=YEARLY;BYDAY=-1TH;BYMONTH=3
TZNAME:-05
END:STANDARD
END:VTIMEZONE
BEGIN:VEVENT
DTSTAMP:20241020T231512Z
UID:96C8D21D-AC6C-48FE-A4E8-D6D1042B5E1D
DTSTART;TZID=America/Lima:20230402T200000
DTEND;TZID=America/Lima:20230407T200000
DESCRIPTION:El programa piloto &quot;Centro de Innovación Tecnológico de Softw
 are y Hardware&quot; por parte de la municipalidad de lima tiene como objetivo 
 fomentar a la juventud limeña a aprender sobre variados temas\, en esta o
 casión con el apoyo de las dos organizaciones juveniles\, IEEE Comsoc UNM
 SM y IEEE Computer Society UNMSM\, se dictará los siguientes cursos:\n\nH
 ardware y Software\n\nEl curso tiene como finalidad dirigirse a la comunid
 ad interesada en profundizar en temas de tecnología. Por lo que a través
  del curso de Hardware se brindará una visión general de conceptos relac
 ionados con Arduino\, para que el alumno tenga la capacidad de crear su pr
 opio proyecto\, todo esto haciendo uso de una plataforma virtual gratuita\
 , conocida como Tinkercad y Software en el cual se verá el funcionamiento
  de la web\, y los elementos que la componen\, para con ello aprender los 
 elementos necesarios con los cuales se pueden crear nuestras propias webs.
  Poniendo así a disposición de los participantes la posibilidad de crear
  plataformas on line que les brinde la oportunidad de incrementar su desar
 rollo personal o profesional.\n\nIntroducción a la Red\nTiene como objeti
 vo poder comprender el internet y su relación con redes informáticas\, e
 s esencial conocer algunos de sus conceptos básicos. Este curso cubre los
  fundamentos de las redes y los dispositivos de red\, los medios y los pro
 tocolos. Observará el flujo de datos a través de una red y configurará 
 dispositivos para conectar a redes.\n\nBackend con NOde.JS\n\nA través de
  este curso se examinará lo que vemos al interactuar con una aplicación 
 web\, lo que hace realmente útil a estas herramientas y la dotan de la ca
 pacidad para comunicarse entre si\, formando un ecosistema digital complet
 o que nos facilita nuestras actividades día a día\, es aquella lógica i
 nterna que el usuario no es capaz de ver. El área de desarrollo web que s
 e encarga de tan valiosa tarea es el Backend. A través de ello se conocer
 á los conceptos básicos de esta área para poder hacer aplicaciones web 
 más útiles e interesantes.\n\nVirtual: https://events.vtools.ieee.org/m/
 352034
LOCATION:Virtual: https://events.vtools.ieee.org/m/352034
ORGANIZER:ieeecomsoc.fiee@unmsm.edu.pe
SEQUENCE:6
SUMMARY:Cursos de Centro de Innovación Tecnológico de Software y Hardware
URL;VALUE=URI:https://events.vtools.ieee.org/m/352034
X-ALT-DESC:Description: &lt;br /&gt;&lt;p&gt;&lt;span style=&quot;vertical-align: inherit\;&quot;&gt;&lt;s
 pan style=&quot;vertical-align: inherit\;&quot;&gt;&lt;span style=&quot;vertical-align: inherit
 \;&quot;&gt;&lt;span style=&quot;vertical-align: inherit\;&quot;&gt;&lt;span style=&quot;vertical-align: i
 nherit\;&quot;&gt;&lt;span style=&quot;vertical-align: inherit\;&quot;&gt;&lt;span style=&quot;vertical-al
 ign: inherit\;&quot;&gt;&lt;span style=&quot;vertical-align: inherit\;&quot;&gt;&lt;span style=&quot;verti
 cal-align: inherit\;&quot;&gt;&lt;span style=&quot;vertical-align: inherit\;&quot;&gt;&lt;span style=
 &quot;vertical-align: inherit\;&quot;&gt;&lt;span style=&quot;vertical-align: inherit\;&quot;&gt;El pro
 grama piloto &quot;Centro de Innovaci&amp;oacute\;n Tecnol&amp;oacute\;gico de Software
  y Hardware&quot; por parte de la municipalidad de lima tiene como objetivo fom
 entar a la juventud lime&amp;ntilde\;a a aprender sobre variados temas\, en es
 ta ocasi&amp;oacute\;n con el apoyo de las dos organizaciones juveniles\, IEEE
  Comsoc UNMSM y IEEE Computer Society UNMSM\, se dictar&amp;aacute\; los sigui
 entes cursos:&lt;/span&gt;&lt;/span&gt;&lt;/span&gt;&lt;/span&gt;&lt;/span&gt;&lt;/span&gt;&lt;/span&gt;&lt;/span&gt;&lt;/spa
 n&gt;&lt;/span&gt;&lt;/span&gt;&lt;/span&gt;&lt;/p&gt;\n&lt;p&gt;&lt;strong&gt;&lt;span style=&quot;vertical-align: inher
 it\;&quot;&gt;&lt;span style=&quot;vertical-align: inherit\;&quot;&gt;&lt;span style=&quot;vertical-align:
  inherit\;&quot;&gt;&lt;span style=&quot;vertical-align: inherit\;&quot;&gt;&lt;span style=&quot;vertical-
 align: inherit\;&quot;&gt;&lt;span style=&quot;vertical-align: inherit\;&quot;&gt;&lt;span style=&quot;ver
 tical-align: inherit\;&quot;&gt;&lt;span style=&quot;vertical-align: inherit\;&quot;&gt;&lt;span styl
 e=&quot;vertical-align: inherit\;&quot;&gt;&lt;span style=&quot;vertical-align: inherit\;&quot;&gt;&lt;spa
 n style=&quot;vertical-align: inherit\;&quot;&gt;&lt;span style=&quot;vertical-align: inherit\;
 &quot;&gt;Hardware y Software&lt;/span&gt;&lt;/span&gt;&lt;/span&gt;&lt;/span&gt;&lt;/span&gt;&lt;/span&gt;&lt;/span&gt;&lt;/sp
 an&gt;&lt;/span&gt;&lt;/span&gt;&lt;/span&gt;&lt;/span&gt;&lt;/strong&gt;&lt;/p&gt;\n&lt;p&gt;&lt;span style=&quot;vertical-ali
 gn: inherit\;&quot;&gt;&lt;span style=&quot;vertical-align: inherit\;&quot;&gt;&lt;span style=&quot;vertic
 al-align: inherit\;&quot;&gt;&lt;span style=&quot;vertical-align: inherit\;&quot;&gt;&lt;span style=&quot;
 vertical-align: inherit\;&quot;&gt;&lt;span style=&quot;vertical-align: inherit\;&quot;&gt;&lt;span s
 tyle=&quot;vertical-align: inherit\;&quot;&gt;&lt;span style=&quot;vertical-align: inherit\;&quot;&gt;&lt;
 span style=&quot;vertical-align: inherit\;&quot;&gt;&lt;span style=&quot;vertical-align: inheri
 t\;&quot;&gt;&lt;span style=&quot;vertical-align: inherit\;&quot;&gt;&lt;span style=&quot;vertical-align: 
 inherit\;&quot;&gt;El curso tiene como finalidad dirigirse a la comunidad interesa
 da en profundizar en temas de tecnolog&amp;iacute\;a. &lt;/span&gt;&lt;/span&gt;&lt;/span&gt;&lt;/s
 pan&gt;&lt;/span&gt;&lt;/span&gt;&lt;/span&gt;&lt;/span&gt;&lt;/span&gt;&lt;/span&gt;&lt;/span&gt;&lt;span style=&quot;vertical
 -align: inherit\;&quot;&gt;&lt;span style=&quot;vertical-align: inherit\;&quot;&gt;&lt;span style=&quot;ve
 rtical-align: inherit\;&quot;&gt;&lt;span style=&quot;vertical-align: inherit\;&quot;&gt;&lt;span sty
 le=&quot;vertical-align: inherit\;&quot;&gt;&lt;span style=&quot;vertical-align: inherit\;&quot;&gt;&lt;sp
 an style=&quot;vertical-align: inherit\;&quot;&gt;&lt;span style=&quot;vertical-align: inherit\
 ;&quot;&gt;&lt;span style=&quot;vertical-align: inherit\;&quot;&gt;&lt;span style=&quot;vertical-align: in
 herit\;&quot;&gt;&lt;span style=&quot;vertical-align: inherit\;&quot;&gt;Por lo que a trav&amp;eacute\
 ;s del curso de Hardware se brindar&amp;aacute\; una visi&amp;oacute\;n general de
  conceptos relacionados con Arduino\, para que el alumno tenga la capacida
 d de crear su propio proyecto\, todo esto haciendo uso de una plataforma v
 irtual gratuita\, conocida como Tinkercad y Software en el cual se ver&amp;aac
 ute\; el funcionamiento de la web\, y los elementos que la componen\, para
  con ello aprender los elementos necesarios con los cuales se pueden crear
  nuestras propias webs. &lt;/span&gt;&lt;/span&gt;&lt;/span&gt;&lt;/span&gt;&lt;/span&gt;&lt;/span&gt;&lt;/span&gt;&lt;
 /span&gt;&lt;/span&gt;&lt;/span&gt;&lt;/span&gt;&lt;span style=&quot;vertical-align: inherit\;&quot;&gt;&lt;span s
 tyle=&quot;vertical-align: inherit\;&quot;&gt;&lt;span style=&quot;vertical-align: inherit\;&quot;&gt;&lt;
 span style=&quot;vertical-align: inherit\;&quot;&gt;&lt;span style=&quot;vertical-align: inheri
 t\;&quot;&gt;&lt;span style=&quot;vertical-align: inherit\;&quot;&gt;&lt;span style=&quot;vertical-align: 
 inherit\;&quot;&gt;&lt;span style=&quot;vertical-align: inherit\;&quot;&gt;&lt;span style=&quot;vertical-a
 lign: inherit\;&quot;&gt;&lt;span style=&quot;vertical-align: inherit\;&quot;&gt;&lt;span style=&quot;vert
 ical-align: inherit\;&quot;&gt;Poniendo as&amp;iacute\; a disposici&amp;oacute\;n de los p
 articipantes la posibilidad de crear plataformas on line que les brinde la
  oportunidad de incrementar su desarrollo personal o profesional.&amp;nbsp\;&lt;/
 span&gt;&lt;/span&gt;&lt;/span&gt;&lt;/span&gt;&lt;/span&gt;&lt;/span&gt;&lt;/span&gt;&lt;/span&gt;&lt;/span&gt;&lt;/span&gt;&lt;/span
 &gt;&lt;/span&gt;&lt;/p&gt;\n&lt;p&gt;&lt;strong&gt;&lt;span style=&quot;vertical-align: inherit\;&quot;&gt;&lt;span sty
 le=&quot;vertical-align: inherit\;&quot;&gt;&lt;span style=&quot;vertical-align: inherit\;&quot;&gt;&lt;sp
 an style=&quot;vertical-align: inherit\;&quot;&gt;Introducci&amp;oacute\;n a la Red&lt;/span&gt;&lt;
 /span&gt;&lt;/span&gt;&lt;/span&gt;&lt;/strong&gt;&lt;br /&gt;&lt;span style=&quot;vertical-align: inherit\;&quot;
 &gt;&lt;span style=&quot;vertical-align: inherit\;&quot;&gt;&lt;span style=&quot;vertical-align: inhe
 rit\;&quot;&gt;&lt;span style=&quot;vertical-align: inherit\;&quot;&gt; Tiene como objetivo poder 
 comprender el internet y su relaci&amp;oacute\;n con redes inform&amp;aacute\;tica
 s\, es esencial conocer algunos de sus conceptos b&amp;aacute\;sicos. &lt;/span&gt;&lt;
 /span&gt;&lt;/span&gt;&lt;span style=&quot;vertical-align: inherit\;&quot;&gt;&lt;span style=&quot;vertical
 -align: inherit\;&quot;&gt;&lt;span style=&quot;vertical-align: inherit\;&quot;&gt;Este curso cubr
 e los fundamentos de las redes y los dispositivos de red\, los medios y lo
 s protocolos. &lt;/span&gt;&lt;/span&gt;&lt;/span&gt;&lt;span style=&quot;vertical-align: inherit\;&quot;
 &gt;&lt;span style=&quot;vertical-align: inherit\;&quot;&gt;&lt;span style=&quot;vertical-align: inhe
 rit\;&quot;&gt;Observar&amp;aacute\; el flujo de datos a trav&amp;eacute\;s de una red y c
 onfigurar&amp;aacute\; dispositivos para conectar a redes.&amp;nbsp\;&lt;/span&gt;&lt;/span
 &gt;&lt;/span&gt;&lt;/span&gt;&lt;/p&gt;\n&lt;p&gt;&lt;strong&gt;&lt;span style=&quot;vertical-align: inherit\;&quot;&gt;&lt;s
 pan style=&quot;vertical-align: inherit\;&quot;&gt;&lt;span style=&quot;vertical-align: inherit
 \;&quot;&gt;&lt;span style=&quot;vertical-align: inherit\;&quot;&gt;Backend con NOde.JS&lt;/span&gt;&lt;/sp
 an&gt;&lt;/span&gt;&lt;/span&gt;&lt;/strong&gt;&lt;/p&gt;\n&lt;p&gt;&lt;span style=&quot;vertical-align: inherit\;&quot;
 &gt;&lt;span style=&quot;vertical-align: inherit\;&quot;&gt;&lt;span style=&quot;vertical-align: inhe
 rit\;&quot;&gt;&lt;span style=&quot;vertical-align: inherit\;&quot;&gt;&lt;span style=&quot;vertical-align
 : inherit\;&quot;&gt;&lt;span style=&quot;vertical-align: inherit\;&quot;&gt;&lt;span style=&quot;vertical
 -align: inherit\;&quot;&gt;&lt;span style=&quot;vertical-align: inherit\;&quot;&gt;&lt;span style=&quot;ve
 rtical-align: inherit\;&quot;&gt;&lt;span style=&quot;vertical-align: inherit\;&quot;&gt;&lt;span sty
 le=&quot;vertical-align: inherit\;&quot;&gt;&lt;span style=&quot;vertical-align: inherit\;&quot;&gt;A t
 rav&amp;eacute\;s de este curso se examinar&amp;aacute\; lo que vemos al interactu
 ar con una aplicaci&amp;oacute\;n web\, lo que hace realmente &amp;uacute\;til a e
 stas herramientas y la dotan de la capacidad para comunicarse entre si\, f
 ormando un ecosistema digital completo que nos facilita nuestras actividad
 es d&amp;iacute\;a a d&amp;iacute\;a\, es aquella l&amp;oacute\;gica interna que el us
 uario no es capaz de ver. &lt;/span&gt;&lt;/span&gt;&lt;/span&gt;&lt;/span&gt;&lt;/span&gt;&lt;/span&gt;&lt;/span
 &gt;&lt;/span&gt;&lt;/span&gt;&lt;/span&gt;&lt;/span&gt;&lt;span style=&quot;vertical-align: inherit\;&quot;&gt;&lt;span
  style=&quot;vertical-align: inherit\;&quot;&gt;&lt;span style=&quot;vertical-align: inherit\;&quot;
 &gt;&lt;span style=&quot;vertical-align: inherit\;&quot;&gt;&lt;span style=&quot;vertical-align: inhe
 rit\;&quot;&gt;&lt;span style=&quot;vertical-align: inherit\;&quot;&gt;&lt;span style=&quot;vertical-align
 : inherit\;&quot;&gt;&lt;span style=&quot;vertical-align: inherit\;&quot;&gt;&lt;span style=&quot;vertical
 -align: inherit\;&quot;&gt;&lt;span style=&quot;vertical-align: inherit\;&quot;&gt;&lt;span style=&quot;ve
 rtical-align: inherit\;&quot;&gt;El &amp;aacute\;rea de desarrollo web que se encarga 
 de tan valiosa tarea es el Backend. &lt;/span&gt;&lt;/span&gt;&lt;/span&gt;&lt;/span&gt;&lt;/span&gt;&lt;/s
 pan&gt;&lt;/span&gt;&lt;/span&gt;&lt;/span&gt;&lt;/span&gt;&lt;/span&gt;&lt;span style=&quot;vertical-align: inheri
 t\;&quot;&gt;&lt;span style=&quot;vertical-align: inherit\;&quot;&gt;&lt;span style=&quot;vertical-align: 
 inherit\;&quot;&gt;&lt;span style=&quot;vertical-align: inherit\;&quot;&gt;&lt;span style=&quot;vertical-a
 lign: inherit\;&quot;&gt;&lt;span style=&quot;vertical-align: inherit\;&quot;&gt;&lt;span style=&quot;vert
 ical-align: inherit\;&quot;&gt;&lt;span style=&quot;vertical-align: inherit\;&quot;&gt;&lt;span style
 =&quot;vertical-align: inherit\;&quot;&gt;&lt;span style=&quot;vertical-align: inherit\;&quot;&gt;&lt;span
  style=&quot;vertical-align: inherit\;&quot;&gt;A trav&amp;eacute\;s de ello se conocer&amp;aac
 ute\; los conceptos b&amp;aacute\;sicos de esta &amp;aacute\;rea para poder hacer 
 aplicaciones web m&amp;aacute\;s &amp;uacute\;tiles e interesantes.&lt;/span&gt;&lt;/span&gt;&lt;
 /span&gt;&lt;/span&gt;&lt;/span&gt;&lt;/span&gt;&lt;/span&gt;&lt;/span&gt;&lt;/span&gt;&lt;/span&gt;&lt;/span&gt;&lt;/span&gt;&lt;/p&gt;
END:VEVENT
END:VCALENDAR

