BEGIN:VCALENDAR
VERSION:2.0
PRODID:IEEE vTools.Events//EN
CALSCALE:GREGORIAN
BEGIN:VTIMEZONE
TZID:America/New_York
BEGIN:DAYLIGHT
DTSTART:20230312T030000
TZOFFSETFROM:-0500
TZOFFSETTO:-0400
RRULE:FREQ=YEARLY;BYDAY=2SU;BYMONTH=3
TZNAME:EDT
END:DAYLIGHT
BEGIN:STANDARD
DTSTART:20231105T010000
TZOFFSETFROM:-0400
TZOFFSETTO:-0500
RRULE:FREQ=YEARLY;BYDAY=1SU;BYMONTH=11
TZNAME:EST
END:STANDARD
END:VTIMEZONE
BEGIN:VEVENT
DTSTAMP:20230330T053100Z
UID:20B1842F-228B-4FED-BB29-C55B104F6BF3
DTSTART;TZID=America/New_York:20230329T183000
DTEND;TZID=America/New_York:20230329T203000
DESCRIPTION:Ready to take your circuit designs to the next level?\n\nIEEE C
 oncordia brings you: Printed Circuit Board Design using KiCad!\n\nWhat is 
 PCB design?\nPCB design is the placement of components and their connectio
 ns inside a delimited space using a computer-aided design software.\n\nIMP
 ORTANT INFORMATION\n- No previous experience required.\n- For this event\,
  you have to bring your own laptop.\n- Download KiCad BEFORE the tutorial\
 , you can get your free copy at https://www.kicad.org/download/\n\nIn this
  two-part PCB tutorial series\, you will learn how to design a printed cir
 cuit board (PCB) starting with the schematic drawing of your circuit. Part
  1 will focus on creating the schematic diagram\, which is the foundation 
 for the layout and design of your PCB.\n\nPART 1 – INTRO TO SCHEMATIC DE
 SIGN:\n- Introduction to PCB design\n- Overview of the schematic diagram a
 nd its importance in PCB design\n- Creating a new project and adding compo
 nents to the schematic\n- Connecting components using nets and wires\n- Ad
 ding labels\, values\, and annotations to the schematic\n- Checking the sc
 hematic for errors and fixing them\n- Generating a netlist and saving the 
 schematic file\n\nBy the end of part 1\, you will have a complete schemati
 c diagram of your circuit design\, ready to be imported into a PCB layout 
 software for the next step in the PCB design process.\n\nStay tuned for pa
 rt 2\, where we will cover PCB layout and routing!\n\nDETAILS\nDate: Wedne
 sday March 29th\, 2023\nTime: 6:30 PM to 8:30 PM\nLocation: H655\nTickets:
  5$ on vtools\n\nRoom: H655\, Bldg: Hall Building\, 1550 De Maisonneuve We
 st\, Montreal\, Quebec\, Canada\, H3G 2E9
LOCATION:Room: H655\, Bldg: Hall Building\, 1550 De Maisonneuve West\, Mont
 real\, Quebec\, Canada\, H3G 2E9
ORGANIZER:acadmics@ieeeconcordia.ca
SEQUENCE:7
SUMMARY:IEEE Concordia PCB Tutorial Part 1
URL;VALUE=URI:https://events.vtools.ieee.org/m/352087
X-ALT-DESC:Description: &lt;br /&gt;&lt;div class=&quot;contents-2MsGLg&quot;&gt;\n&lt;div class=&quot;ma
 rkup-eYLPri messageContent-2t3eCI&quot;&gt;Ready to take your circuit designs to t
 he next level?&lt;/div&gt;\n&lt;div class=&quot;markup-eYLPri messageContent-2t3eCI&quot;&gt;&amp;nb
 sp\;&lt;/div&gt;\n&lt;div class=&quot;markup-eYLPri messageContent-2t3eCI&quot;&gt;IEEE Concordi
 a brings you: Printed Circuit Board Design using KiCad!&lt;/div&gt;\n&lt;div class=
 &quot;markup-eYLPri messageContent-2t3eCI&quot;&gt;&amp;nbsp\;&lt;/div&gt;\n&lt;div class=&quot;markup-eY
 LPri messageContent-2t3eCI&quot;&gt;&lt;strong&gt;What is PCB design?&lt;/strong&gt;&lt;/div&gt;\n&lt;d
 iv class=&quot;markup-eYLPri messageContent-2t3eCI&quot;&gt;PCB design is the placement
  of components and their connections inside a delimited space using a comp
 uter-aided design software.&lt;/div&gt;\n&lt;div class=&quot;markup-eYLPri messageConten
 t-2t3eCI&quot;&gt;&amp;nbsp\;&lt;/div&gt;\n&lt;div class=&quot;markup-eYLPri messageContent-2t3eCI&quot;&gt;
 &lt;strong&gt; IMPORTANT INFORMATION &lt;/strong&gt;&lt;/div&gt;\n&lt;div class=&quot;markup-eYLPri 
 messageContent-2t3eCI&quot;&gt;- No previous experience required.&lt;/div&gt;\n&lt;div clas
 s=&quot;markup-eYLPri messageContent-2t3eCI&quot;&gt;- For this event\, you have to bri
 ng your own laptop.&lt;/div&gt;\n&lt;div class=&quot;markup-eYLPri messageContent-2t3eCI
 &quot;&gt;- Download KiCad BEFORE the tutorial\, you can get your free copy at &lt;a 
 class=&quot;anchor-1X4H4q anchorUnderlineOnHover-wiZFZ_&quot; tabindex=&quot;0&quot; title=&quot;ht
 tps://www.kicad.org/download/&quot; role=&quot;button&quot; href=&quot;https://www.kicad.org/d
 ownload/&quot; target=&quot;_blank&quot; rel=&quot;noreferrer noopener&quot;&gt;https://www.kicad.org/
 download/&lt;/a&gt;&lt;/div&gt;\n&lt;div class=&quot;markup-eYLPri messageContent-2t3eCI&quot;&gt;&amp;nbs
 p\;&lt;/div&gt;\n&lt;div class=&quot;markup-eYLPri messageContent-2t3eCI&quot;&gt;In this two-pa
 rt PCB tutorial series\, you will learn how to design a printed circuit bo
 ard (PCB) starting with the schematic drawing of your circuit. Part 1 will
  focus on creating the schematic diagram\, which is the foundation for the
  layout and design of your PCB.&lt;/div&gt;\n&lt;div class=&quot;markup-eYLPri messageCo
 ntent-2t3eCI&quot;&gt;&amp;nbsp\;&lt;/div&gt;\n&lt;div class=&quot;markup-eYLPri messageContent-2t3e
 CI&quot;&gt;&lt;strong&gt;PART 1 &amp;ndash\; INTRO TO SCHEMATIC DESIGN: &lt;/strong&gt;&lt;/div&gt;\n&lt;d
 iv class=&quot;markup-eYLPri messageContent-2t3eCI&quot;&gt;- Introduction to PCB desig
 n&lt;/div&gt;\n&lt;div class=&quot;markup-eYLPri messageContent-2t3eCI&quot;&gt;- Overview of th
 e schematic diagram and its importance in PCB design&lt;/div&gt;\n&lt;div class=&quot;ma
 rkup-eYLPri messageContent-2t3eCI&quot;&gt;- Creating a new project and adding com
 ponents to the schematic&lt;/div&gt;\n&lt;div class=&quot;markup-eYLPri messageContent-2
 t3eCI&quot;&gt;- Connecting components using nets and wires&lt;/div&gt;\n&lt;div class=&quot;mar
 kup-eYLPri messageContent-2t3eCI&quot;&gt;- Adding labels\, values\, and annotatio
 ns to the schematic&lt;/div&gt;\n&lt;div class=&quot;markup-eYLPri messageContent-2t3eCI
 &quot;&gt;- Checking the schematic for errors and fixing them&lt;/div&gt;\n&lt;div class=&quot;m
 arkup-eYLPri messageContent-2t3eCI&quot;&gt;- Generating a netlist and saving the 
 schematic file&lt;/div&gt;\n&lt;div class=&quot;markup-eYLPri messageContent-2t3eCI&quot;&gt;&amp;nb
 sp\;&lt;/div&gt;\n&lt;div class=&quot;markup-eYLPri messageContent-2t3eCI&quot;&gt;By the end of
  part 1\, you will have a complete schematic diagram of your circuit desig
 n\, ready to be imported into a PCB layout software for the next step in t
 he PCB design process.&lt;/div&gt;\n&lt;div class=&quot;markup-eYLPri messageContent-2t3
 eCI&quot;&gt;&amp;nbsp\;&lt;/div&gt;\n&lt;div class=&quot;markup-eYLPri messageContent-2t3eCI&quot;&gt;Stay 
 tuned for part 2\, where we will cover PCB layout and routing!&lt;/div&gt;\n&lt;div
  class=&quot;markup-eYLPri messageContent-2t3eCI&quot;&gt;&amp;nbsp\;&lt;/div&gt;\n&lt;div class=&quot;ma
 rkup-eYLPri messageContent-2t3eCI&quot;&gt;&lt;strong&gt;DETAILS&lt;/strong&gt;&lt;/div&gt;\n&lt;div cl
 ass=&quot;markup-eYLPri messageContent-2t3eCI&quot;&gt;Date: Wednesday March 29th\, 202
 3&lt;/div&gt;\n&lt;div class=&quot;markup-eYLPri messageContent-2t3eCI&quot;&gt;Time: 6:30 PM to
  8:30 PM&lt;/div&gt;\n&lt;div class=&quot;markup-eYLPri messageContent-2t3eCI&quot;&gt;Location:
  H655&lt;/div&gt;\n&lt;div class=&quot;markup-eYLPri messageContent-2t3eCI&quot;&gt;Tickets: 5$ 
 on vtools&amp;nbsp\;&lt;/div&gt;\n&lt;/div&gt;\n&lt;div id=&quot;message-accessories-1040446335695
 999067&quot; class=&quot;container-2sjPya&quot;&gt;\n&lt;article class=&quot;embedWrapper-1MtIDg emb
 edFull-1HGV2S embed-hKpSrO markup-eYLPri&quot; aria-hidden=&quot;false&quot;&gt;\n&lt;div class
 =&quot;gridContainer-1cF_Ic&quot;&gt;\n&lt;div class=&quot;grid-1aWVsE&quot;&gt;&amp;nbsp\;&lt;/div&gt;\n&lt;/div&gt;\n
 &lt;/article&gt;\n&lt;/div&gt;
END:VEVENT
END:VCALENDAR

