BEGIN:VCALENDAR
VERSION:2.0
PRODID:IEEE vTools.Events//EN
CALSCALE:GREGORIAN
BEGIN:VTIMEZONE
TZID:America/New_York
BEGIN:DAYLIGHT
DTSTART:20230312T030000
TZOFFSETFROM:-0500
TZOFFSETTO:-0400
RRULE:FREQ=YEARLY;BYDAY=2SU;BYMONTH=3
TZNAME:EDT
END:DAYLIGHT
BEGIN:STANDARD
DTSTART:20231105T010000
TZOFFSETFROM:-0400
TZOFFSETTO:-0500
RRULE:FREQ=YEARLY;BYDAY=1SU;BYMONTH=11
TZNAME:EST
END:STANDARD
END:VTIMEZONE
BEGIN:VEVENT
DTSTAMP:20240207T031856Z
UID:74DABF4F-D3D2-4132-9FBD-BA66F96289DC
DTSTART;TZID=America/New_York:20230426T110000
DTEND;TZID=America/New_York:20230426T130000
DESCRIPTION:This talk describes two new Heterogeneous Multichip Packaged (M
 CP) devices prototyped under the DoD State of the Art (SOTA) Heterogeneous
  Integrated Packaging (SHIP) program. These devices were designed by integ
 rating state-of-the-art Quad-Channel Direct RF Data Converter Tiles (DCTs)
  operating at 64 Giga Samples per Second (GSPS) in the same package with l
 eading-edge Field Programmable Gate Array (FPGA) devices. The DCTs also in
 clude built-in Digital Upconverters (DUCs) and Digital Downconverters (DDC
 s) to offload this processing from the FPGAs and lower the overall power o
 f the device. The DUCs and DDCs can be tuned in real-time across the full 
 32GHz of instantaneous input bandwidth (IBW). The Direct RF capabilities o
 f the DCTs combined with the massive IBW\, high dynamic range\, low latenc
 y\, small size\, and low power of these devices allow unprecedented improv
 ements to the Size\, Weight\, Power &amp; Cost (SWAP-C) for Electronic Warfare
  Systems. We will give an overview of the SHIP program\, describe the two 
 MCP configurations offered\, describe the operating modes of the Data Conv
 erter Tiles\, show some RF performance measurements of the DCTs\, and fina
 lly will discuss some target applications for the MCP devices.\nAttend vir
 tually or in person and enjoy a complimentary lunch while learning about t
 his technology!\n\nPresenters:\n\nDr. Darren Crum\, Technical Area Lead an
 d Program Technical Manager\, NSWC Crane\n\nMr. Ben Esposito\, Senior Prin
 cipal Engineer\, Intel PSG\n\nMr. Carmine Pagano\, SHIP Systems Architect 
 &amp; Technical Director\, Intel PSG\n\nCo-sponsored by: MTT/AP-S\, AES Chapte
 r\n\nSpeaker(s): Dr. Darren Crum\, Mr. Ben Esposito\n\nAgenda: \nWednesday
 \, April 26\, 2023\, 1130 AM-1:00 PM (EST)\n\nVenue: L3Harris Technologies
 \, Auditorium\, 77 River Road\, Clifton\, NJ\n\nand YOUR DESK via MS Teams
 !\n\nRSVP No Later Than Thursday\, April 18 to Nicole Zaretski\, [Nicole.Z
 aretski@l3harris.com](mailto:Nicole.Zaretski@l3harris.com?subject=RSVP:%20
 24%20Jan%20AOC%20L&amp;L)\n\nPlease note: in-person attendance is limited to U
 S-ONLY. Non-L3Harris individuals will be required to provide information f
 or security screening prior to arrival Seating is Limited - Pizza and Beve
 rages are Provided for Lunch Courtesy of\n\nBldg: Auditorium \, L3Harris T
 echnologies\, 77 River Road\, Clifton\, New Jersey\, United States
LOCATION:Bldg: Auditorium \, L3Harris Technologies\, 77 River Road\, Clifto
 n\, New Jersey\, United States
ORGANIZER:anisha_apte@ieee.org
SEQUENCE:5
SUMMARY:Game Changing Technology for EW Systems
URL;VALUE=URI:https://events.vtools.ieee.org/m/352229
X-ALT-DESC:Description: &lt;br /&gt;&lt;p&gt;This talk describes two new Heterogeneous 
 Multichip Packaged (MCP) devices prototyped under the DoD State of the Art
  (SOTA) Heterogeneous Integrated Packaging (SHIP) program.&amp;nbsp\; These de
 vices were designed by integrating state-of-the-art Quad-Channel Direct RF
  Data Converter Tiles (DCTs) operating at 64 Giga Samples per Second (GSPS
 ) in the same package with leading-edge Field Programmable Gate Array (FPG
 A) devices.&amp;nbsp\; The DCTs also include built-in Digital Upconverters (DU
 Cs) and Digital Downconverters (DDCs) to offload this processing from the 
 FPGAs and lower the overall power of the device.&amp;nbsp\; The DUCs and DDCs 
 can be tuned in real-time across the full 32GHz of instantaneous input ban
 dwidth (IBW).&amp;nbsp\; The Direct RF capabilities of the DCTs combined with 
 the massive IBW\, high dynamic range\, low latency\, small size\, and low 
 power of these devices allow unprecedented improvements to the Size\, Weig
 ht\, Power &amp;amp\; Cost (SWAP-C) for Electronic Warfare Systems.&amp;nbsp\; We 
 will give an overview of the SHIP program\, describe the two MCP configura
 tions offered\, describe the operating modes of the Data Converter Tiles\,
  show some RF performance measurements of the DCTs\, and finally will disc
 uss some target applications for the MCP devices.&lt;br /&gt;Attend virtually or
  in person and enjoy a complimentary lunch while learning about this techn
 ology!&lt;/p&gt;\n&lt;p&gt;&lt;span style=&quot;font-size: 14pt\;&quot;&gt;&lt;strong&gt;Presenters:&amp;nbsp\;&lt;
 /strong&gt;&lt;/span&gt;&lt;/p&gt;\n&lt;p&gt;&amp;nbsp\; &amp;nbsp\;&lt;strong&gt;Dr. Darren Crum\, Technical
  Area Lead and &amp;nbsp\; Program Technical Manager\, NSWC Crane&lt;/strong&gt;&lt;/p&gt;
 \n&lt;p&gt;&lt;strong&gt;&amp;nbsp\; &amp;nbsp\;Mr. Ben Esposito\, Senior Principal Engineer\,
  Intel PSG&lt;/strong&gt;&lt;/p&gt;\n&lt;p&gt;&lt;strong&gt;&amp;nbsp\; &amp;nbsp\;Mr. Carmine Pagano\, SH
 IP Systems &amp;nbsp\;Architect &amp;amp\; Technical Director\, Intel PSG&lt;/strong&gt;
 &lt;/p&gt;&lt;br /&gt;&lt;br /&gt;Agenda: &lt;br /&gt;&lt;p&gt;Wednesday\, April 26\, 2023\,&amp;nbsp\;1130 
 AM-1:00 PM (EST)&lt;/p&gt;\n&lt;p&gt;Venue: L3Harris Technologies\, Auditorium\,&amp;nbsp\
 ;&amp;nbsp\;77 River Road\, Clifton\, NJ&lt;/p&gt;\n&lt;p&gt;&lt;em&gt;and &lt;/em&gt;&lt;u&gt;&lt;strong&gt;&lt;em&gt;Y
 OUR DESK &lt;/em&gt;&lt;/strong&gt;&lt;/u&gt;&lt;em&gt;via MS Teams!&lt;/em&gt;&lt;/p&gt;\n&lt;p&gt;&lt;strong&gt;&lt;em&gt;RSVP
  No Later Than Thursday\, April 18 to &lt;/em&gt;&lt;/strong&gt;&lt;em&gt;Nicole Zaretski\, 
 &lt;/em&gt;&lt;em&gt;&lt;a href=&quot;mailto:Nicole.Zaretski@l3harris.com?subject=RSVP:%2024%2
 0Jan%20AOC%20L&amp;amp\;L&quot;&gt;Nicole.Zaretski@l3harris.com&lt;/a&gt;&lt;/em&gt;&lt;em&gt; &lt;/em&gt;&lt;/p&gt;
 \n&lt;p&gt;&lt;strong&gt;&lt;em&gt;Please note: &lt;/em&gt;&lt;/strong&gt;&lt;u&gt;&lt;strong&gt;&lt;em&gt;in-person &lt;/em&gt;
 &lt;/strong&gt;&lt;/u&gt;&lt;strong&gt;&lt;em&gt;attendance is limited to &lt;/em&gt;&lt;/strong&gt;&lt;u&gt;&lt;strong
 &gt;&lt;em&gt;US-ONLY&lt;/em&gt;&lt;/strong&gt;&lt;/u&gt;&lt;strong&gt;&lt;em&gt;. Non-L3Harris individuals will 
 be required to provide information for security screening prior to arrival
 &amp;nbsp\;&lt;/em&gt;&lt;/strong&gt;&lt;strong&gt;&lt;em&gt;Seating is Limited - Pizza and Beverages 
 are Provided for Lunch Courtesy of&lt;/em&gt;&lt;/strong&gt;&lt;/p&gt;
END:VEVENT
END:VCALENDAR

