BEGIN:VCALENDAR
VERSION:2.0
PRODID:IEEE vTools.Events//EN
CALSCALE:GREGORIAN
BEGIN:VTIMEZONE
TZID:US/Eastern
BEGIN:DAYLIGHT
DTSTART:20230312T030000
TZOFFSETFROM:-0500
TZOFFSETTO:-0400
RRULE:FREQ=YEARLY;BYDAY=2SU;BYMONTH=3
TZNAME:EDT
END:DAYLIGHT
BEGIN:STANDARD
DTSTART:20231105T010000
TZOFFSETFROM:-0400
TZOFFSETTO:-0500
RRULE:FREQ=YEARLY;BYDAY=1SU;BYMONTH=11
TZNAME:EST
END:STANDARD
END:VTIMEZONE
BEGIN:VEVENT
DTSTAMP:20230330T210610Z
UID:4DC87936-8896-41D2-BA6B-E6137CAAB819
DTSTART;TZID=US/Eastern:20230327T183000
DTEND;TZID=US/Eastern:20230327T201500
DESCRIPTION:Berkshire Consultants Network Presents: CNET Meeting: Running a
  Consulting Business and How to Become a Consultant\n\nCo-sponsored by: Be
 rkshire Section\n\nSpeaker(s): Larry Nelson Sr. PE DFE \, Mark Fitzgerald 
 \n\nAgenda: \nIEEE CNET Consultants Larry Nelson Sr. and Mark Fitzgerald w
 ill discuss how to be an effective consultant and run a consulting busines
 s. Topics: becoming a consultant\, diversification of your consulting busi
 ness and keeping a steady cash flow\, PE Licenses pros and cons\, whether 
 to incorporate your business and have direct clients (C2C) or go W2 throug
 h an agency\, issues that are common to the consulting business\, revenue 
 stream and billing\, types of business and liability insurance\, among oth
 er topics. We also welcome your questions.\n\nThis talk covers information
  that engineers may find useful in a career choice of whether to become a 
 consultant and run a consulting business.\n\nVirtual: https://events.vtool
 s.ieee.org/m/352232
LOCATION:Virtual: https://events.vtools.ieee.org/m/352232
ORGANIZER:rkolod@ieee.org
SEQUENCE:6
SUMMARY:Berkshire Consultants Network Zoom Meeting
URL;VALUE=URI:https://events.vtools.ieee.org/m/352232
X-ALT-DESC:Description: &lt;br /&gt;&lt;p&gt;&lt;strong&gt;Berkshire Consultants Network Pres
 ents:&amp;nbsp\;&lt;/strong&gt;CNET Meeting: Running a Consulting Business and How t
 o Become a Consultant&lt;/p&gt;&lt;br /&gt;&lt;br /&gt;Agenda: &lt;br /&gt;&lt;p style=&quot;margin: 0in\;
  line-height: 13.5pt\;&quot;&gt;&lt;span style=&quot;font-family: &#39;Arial&#39;\,sans-serif\; co
 lor: #1d2228\; background: white\;&quot;&gt;IEEE CNET Consultants Larry Nelson Sr.
  and Mark Fitzgerald will discuss how to be an effective consultant and ru
 n a consulting business.&amp;nbsp\; Topics: becoming a consultant\, diversific
 ation of your consulting business and keeping a steady cash flow\, PE Lice
 nses pros and cons\, whether to incorporate your business and have direct 
 clients (C2C) or go W2 through an agency\, issues that are common to the c
 onsulting business\, revenue stream and billing\, types of business and li
 ability insurance\, among other topics.&amp;nbsp\; We also welcome your questi
 ons.&lt;/span&gt;&lt;/p&gt;\n&lt;p style=&quot;margin: 0in\; line-height: 13.5pt\; font-varian
 t-ligatures: normal\; font-variant-caps: normal\; orphans: 2\; text-align:
  start\; widows: 2\; -webkit-text-stroke-width: 0px\; text-decoration-thic
 kness: initial\; text-decoration-style: initial\; text-decoration-color: i
 nitial\; word-spacing: 0px\;&quot;&gt;&lt;span style=&quot;font-family: &#39;Arial&#39;\,sans-seri
 f\; color: #333333\;&quot;&gt;&amp;nbsp\;&lt;/span&gt;&lt;/p&gt;\n&lt;p style=&quot;margin: 0in\; line-hei
 ght: 13.5pt\; font-variant-ligatures: normal\; font-variant-caps: normal\;
  orphans: 2\; text-align: start\; widows: 2\; -webkit-text-stroke-width: 0
 px\; text-decoration-thickness: initial\; text-decoration-style: initial\;
  text-decoration-color: initial\; word-spacing: 0px\;&quot;&gt;&lt;span style=&quot;font-f
 amily: &#39;Arial&#39;\,sans-serif\; color: #333333\;&quot;&gt;This talk covers informatio
 n that engineers may find useful in a career choice of whether to become a
  consultant and run a consulting business.&lt;/span&gt;&lt;/p&gt;
END:VEVENT
END:VCALENDAR

