BEGIN:VCALENDAR
VERSION:2.0
PRODID:IEEE vTools.Events//EN
CALSCALE:GREGORIAN
BEGIN:VTIMEZONE
TZID:America/Lima
BEGIN:DAYLIGHT
DTSTART:20380118T221407
TZOFFSETFROM:-0500
TZOFFSETTO:-0500
RRULE:FREQ=YEARLY;BYDAY=3MO;BYMONTH=1
TZNAME:-05
END:DAYLIGHT
BEGIN:STANDARD
DTSTART:19940331T230000
TZOFFSETFROM:-0400
TZOFFSETTO:-0500
RRULE:FREQ=YEARLY;BYDAY=-1TH;BYMONTH=3
TZNAME:-05
END:STANDARD
END:VTIMEZONE
BEGIN:VEVENT
DTSTAMP:20230408T220638Z
UID:914E995C-6CCE-47E2-A307-4200CAB1B6D8
DTSTART;TZID=America/Lima:20230408T160000
DTEND;TZID=America/Lima:20230408T170000
DESCRIPTION:#MembresiaIEEE | ¿Sabes los beneficios y oportunidades que te 
 brinda la membresía del IEEE?\n\nLa Membresía IEEE le brinda a sus miemb
 ros acceso a la información técnica más esencial de la industria\, la a
 cademia y la investigación. Únete\, ven y aprende acerca de los benefici
 os de la membresía IEEE en el Webinar a cargo de los integrantes de las j
 untas directivas de la Rama Estudiantil IEEE UPN Lima Norte!\n¿Quieres pe
 rtenecer a la sociedad técnica más grande y destacada del mundo?\n¡Ento
 nces no pierdas esta gran oportunidad!\n\nVirtual: https://events.vtools.i
 eee.org/m/352294
LOCATION:Virtual: https://events.vtools.ieee.org/m/352294
ORGANIZER:reieeeupnlimanorte@gmail.com
SEQUENCE:5
SUMMARY:Conoce los beneficios de la membresía IEEE
URL;VALUE=URI:https://events.vtools.ieee.org/m/352294
X-ALT-DESC:Description: &lt;br /&gt;&lt;p&gt;&lt;span style=&quot;vertical-align: inherit\;&quot;&gt;&lt;s
 pan style=&quot;vertical-align: inherit\;&quot;&gt;#MembresiaIEEE | &lt;/span&gt;&lt;span style=
 &quot;vertical-align: inherit\;&quot;&gt;&amp;iquest\;Sabes los beneficios y oportunidades 
 que te brinda la membres&amp;iacute\;a del IEEE?&amp;nbsp\;&lt;/span&gt;&lt;/span&gt;&lt;/p&gt;\n&lt;p&gt;
 &lt;span style=&quot;vertical-align: inherit\;&quot;&gt;&lt;span style=&quot;vertical-align: inher
 it\;&quot;&gt;La Membres&amp;iacute\;a IEEE le brinda a sus miembros acceso a la infor
 maci&amp;oacute\;n t&amp;eacute\;cnica m&amp;aacute\;s esencial de la industria\, la a
 cademia y la investigaci&amp;oacute\;n. &lt;/span&gt;&lt;span style=&quot;vertical-align: in
 herit\;&quot;&gt;&amp;Uacute\;nete\, ven y aprende acerca de los beneficios de la memb
 res&amp;iacute\;a IEEE en el Webinar a cargo de los integrantes de las juntas 
 directivas de la Rama Estudiantil IEEE UPN Lima Norte! &lt;/span&gt;&lt;/span&gt;&lt;br /
 &gt;&lt;span style=&quot;vertical-align: inherit\;&quot;&gt;&lt;span style=&quot;vertical-align: inhe
 rit\;&quot;&gt;&amp;iquest\;Quieres pertenecer a la sociedad t&amp;eacute\;cnica m&amp;aacute\
 ;s grande y destacada del mundo? &lt;/span&gt;&lt;/span&gt;&lt;br /&gt;&lt;span style=&quot;vertical
 -align: inherit\;&quot;&gt;&lt;span style=&quot;vertical-align: inherit\;&quot;&gt;&amp;iexcl\;Entonce
 s no pierdas esta gran oportunidad!&lt;/span&gt;&lt;/span&gt;&lt;/p&gt;
END:VEVENT
END:VCALENDAR

