BEGIN:VCALENDAR
VERSION:2.0
PRODID:IEEE vTools.Events//EN
CALSCALE:GREGORIAN
BEGIN:VTIMEZONE
TZID:Asia/Kolkata
BEGIN:STANDARD
DTSTART:19451014T230000
TZOFFSETFROM:+0630
TZOFFSETTO:+0530
TZNAME:IST
END:STANDARD
END:VTIMEZONE
BEGIN:VEVENT
DTSTAMP:20230315T182758Z
UID:89C3737A-5CCA-49F1-866E-B22882455E6C
DTSTART;TZID=Asia/Kolkata:20230310T170000
DTEND;TZID=Asia/Kolkata:20230313T220000
DESCRIPTION:The purpose of these sessions was to provide an in-depth overvi
 ew of the Python programming language and its features\, as well as its us
 e in real-world applications. These sessions were well-attended by members
  of the club\, who were eager to learn more about Python and its capabilit
 ies.\n\nSession Overview\n\nThe speaker began the session by introducing t
 he history of Python and how it has evolved over the years. He then went o
 n to discuss the various features of the language\, such as its Standard L
 ibraries in Python like NumPy\, Pandas\, and their uses\, object-oriented 
 programming (OOP) capabilities etc. The sessions processed further with an
  IDE setup class and after the basic were completed some important Algorit
 hms that can be applied in a Python program were also discussed\, getting 
 deeper knowledge of the language and developing better programs.\n\nOne of
  the highlights of these sessions was the speaker&#39;s demonstration of how P
 ython can be used to develop complex software systems using Machine Learni
 ng and Artificial Intelligence. He provided examples of how Python has bee
 n used in areas such as gaming\, scientific computing\, and financial mode
 lling.\n\nThe speaker also discussed some of the challenges associated wit
 h developing software using Python\, such as memory management and debuggi
 ng. He provided best practices for addressing these challenges and ensurin
 g that software systems developed using Python are robust and reliable.\n\
 nInteractive Discussion\n\nThroughout the sessions\, the speaker encourage
 d members to ask questions and engage in a dialogue about Python. Many mem
 bers had questions about specific features of the language and how they co
 uld be applied in their own work. Various doubt and challenge sessions wer
 e frequently held during the week to help members with the problems that t
 hey are facing\, and to test their skills learnt so far.\n\nThe speaker wa
 s highly knowledgeable and was able to provide in-depth answers to the que
 stions raised by the attendees. The discussion was lively and provided mem
 bers with a deeper understanding of Python and its capabilities.\n\nJaypee
  University of Information Technology \, Solan\, Himachal Pradesh\, India\
 , 173234
LOCATION:Jaypee University of Information Technology \, Solan\, Himachal Pr
 adesh\, India\, 173234
ORGANIZER:ieee.juit@juitsolan.in
SEQUENCE:0
SUMMARY:Python Workshop
URL;VALUE=URI:https://events.vtools.ieee.org/m/352516
X-ALT-DESC:Description: &lt;br /&gt;&lt;p&gt;The purpose of these sessions was to provi
 de an in-depth overview of the Python programming language and its feature
 s\, as well as its use in real-world applications. These sessions were wel
 l-attended by members of the club\, who were eager to learn more about Pyt
 hon and its capabilities.&lt;/p&gt;\n&lt;p&gt;&lt;strong&gt;Session Overview&lt;/strong&gt;&lt;/p&gt;\n&lt;
 p&gt;The speaker began the session by introducing the history of Python and h
 ow it has evolved over the years. He then went on to discuss the various f
 eatures of the language\, such as its Standard Libraries in Python like Nu
 mPy\, Pandas\, and their uses\, object-oriented programming (OOP) capabili
 ties etc. The sessions processed further with an IDE setup class and after
  the basic were completed some important Algorithms that can be applied in
  a Python program were also discussed\, getting deeper knowledge of the la
 nguage and developing better programs.&lt;/p&gt;\n&lt;p&gt;One of the highlights of th
 ese sessions was the speaker&#39;s demonstration of how Python can be used to 
 develop complex software systems using Machine Learning and Artificial Int
 elligence. He provided examples of how Python has been used in areas such 
 as gaming\, scientific computing\, and financial modelling.&lt;/p&gt;\n&lt;p&gt;The sp
 eaker also discussed some of the challenges associated with developing sof
 tware using Python\, such as memory management and debugging. He provided 
 best practices for addressing these challenges and ensuring that software 
 systems developed using Python are robust and reliable.&lt;/p&gt;\n&lt;p&gt;Interactiv
 e Discussion&lt;/p&gt;\n&lt;p&gt;Throughout the sessions\, the speaker encouraged memb
 ers to ask questions and engage in a dialogue about Python. Many members h
 ad questions about specific features of the language and how they could be
  applied in their own work. Various doubt and challenge sessions were freq
 uently held during the week to help members with the problems that they ar
 e facing\, and to test their skills learnt so far.&lt;/p&gt;\n&lt;p&gt;The speaker was
  highly knowledgeable and was able to provide in-depth answers to the ques
 tions raised by the attendees. The discussion was lively and provided memb
 ers with a deeper understanding of Python and its capabilities.&amp;nbsp\;&lt;/p&gt;
END:VEVENT
END:VCALENDAR

