BEGIN:VCALENDAR
VERSION:2.0
PRODID:IEEE vTools.Events//EN
CALSCALE:GREGORIAN
BEGIN:VTIMEZONE
TZID:America/Chicago
BEGIN:DAYLIGHT
DTSTART:20230312T030000
TZOFFSETFROM:-0600
TZOFFSETTO:-0500
RRULE:FREQ=YEARLY;BYDAY=2SU;BYMONTH=3
TZNAME:CDT
END:DAYLIGHT
BEGIN:STANDARD
DTSTART:20231105T010000
TZOFFSETFROM:-0500
TZOFFSETTO:-0600
RRULE:FREQ=YEARLY;BYDAY=1SU;BYMONTH=11
TZNAME:CST
END:STANDARD
END:VTIMEZONE
BEGIN:VEVENT
DTSTAMP:20230430T175659Z
UID:7AA098F9-CAAC-4659-84E6-FB5375B52E69
DTSTART;TZID=America/Chicago:20230427T120000
DTEND;TZID=America/Chicago:20230427T143000
DESCRIPTION:IEEE New Orleans - Life Member Meeting - all IEEE members invit
 ed\n\nCo-sponsored by: Thomas E Slack\, North Lake Life Member Affinity Gr
 oup Chair \n\nAgenda: \n12:00 pm - 1200 hr. cst Social and lunch selection
 \n\n12:15 pm - 1215 hr. cst Lunch\n\n12:45 pm - 1245 hr. cst Open meeting 
 with old business\n\nNew Business\n\n2:00 pm - 1400 hr. cst Motion to adjo
 urn\n\n702 Water Street\, Madisonville\, Louisiana\, United States
LOCATION:702 Water Street\, Madisonville\, Louisiana\, United States
ORGANIZER:tslack@bellsouth.net
SEQUENCE:2
SUMMARY:April 30\, 2023\, Life Member Meeting
URL;VALUE=URI:https://events.vtools.ieee.org/m/352772
X-ALT-DESC:Description: &lt;br /&gt;&lt;p&gt;IEEE New Orleans - Life Member Meeting - a
 ll IEEE members invited&lt;/p&gt;&lt;br /&gt;&lt;br /&gt;Agenda: &lt;br /&gt;&lt;p&gt;12:00 pm - 1200 hr
 . cst&amp;nbsp\; &amp;nbsp\; &amp;nbsp\;Social and lunch selection&lt;/p&gt;\n&lt;p&gt;12:15 pm - 
 1215 hr. cst&amp;nbsp\; &amp;nbsp\; &amp;nbsp\;Lunch&lt;/p&gt;\n&lt;p&gt;12:45 pm - 1245 hr. cst&amp;n
 bsp\; &amp;nbsp\; Open meeting with old business&lt;/p&gt;\n&lt;p&gt;&amp;nbsp\; &amp;nbsp\; &amp;nbsp
 \; &amp;nbsp\; &amp;nbsp\; &amp;nbsp\; &amp;nbsp\; &amp;nbsp\; &amp;nbsp\; &amp;nbsp\; &amp;nbsp\; &amp;nbsp\;
  &amp;nbsp\; &amp;nbsp\; &amp;nbsp\; &amp;nbsp\; &amp;nbsp\; &amp;nbsp\; &amp;nbsp\; &amp;nbsp\; &amp;nbsp\;Ne
 w Business&lt;/p&gt;\n&lt;p&gt;2:00 pm - 1400 hr. cst&amp;nbsp\; &amp;nbsp\; &amp;nbsp\;Motion to 
 adjourn&lt;/p&gt;\n&lt;p&gt;&amp;nbsp\;&lt;/p&gt;
END:VEVENT
END:VCALENDAR

