BEGIN:VCALENDAR
VERSION:2.0
PRODID:IEEE vTools.Events//EN
CALSCALE:GREGORIAN
BEGIN:VTIMEZONE
TZID:America/Mexico_City
BEGIN:STANDARD
DTSTART:20221030T010000
TZOFFSETFROM:-0500
TZOFFSETTO:-0600
TZNAME:CST
END:STANDARD
END:VTIMEZONE
BEGIN:VEVENT
DTSTAMP:20230428T150111Z
UID:764A9587-2829-4882-A217-589C2A5795E1
DTSTART;TZID=America/Mexico_City:20230417T110000
DTEND;TZID=America/Mexico_City:20230421T130000
DESCRIPTION:Curso para los alumnos que estan iniciando en la progrmacion we
 b\n\nCo-sponsored by: Gustavo García Rodríguez \n\nMORELIA \, Michoacan 
 de Ocampo\, Mexico
LOCATION:MORELIA \, Michoacan de Ocampo\, Mexico
ORGANIZER:cs.itmorelia@gmail.com
SEQUENCE:2
SUMMARY:Curso de Desarrollo web
URL;VALUE=URI:https://events.vtools.ieee.org/m/352781
X-ALT-DESC:Description: &lt;br /&gt;&lt;p&gt;Curso para los alumnos que estan iniciando
  en la progrmacion web&lt;/p&gt;
END:VEVENT
END:VCALENDAR

