BEGIN:VCALENDAR
VERSION:2.0
PRODID:IEEE vTools.Events//EN
CALSCALE:GREGORIAN
BEGIN:VTIMEZONE
TZID:America/New_York
BEGIN:DAYLIGHT
DTSTART:20230312T030000
TZOFFSETFROM:-0500
TZOFFSETTO:-0400
RRULE:FREQ=YEARLY;BYDAY=2SU;BYMONTH=3
TZNAME:EDT
END:DAYLIGHT
BEGIN:STANDARD
DTSTART:20231105T010000
TZOFFSETFROM:-0400
TZOFFSETTO:-0500
RRULE:FREQ=YEARLY;BYDAY=1SU;BYMONTH=11
TZNAME:EST
END:STANDARD
END:VTIMEZONE
BEGIN:VEVENT
DTSTAMP:20230408T130144Z
UID:57CECECF-C02C-4F3E-8979-23A9BD8B79CD
DTSTART;TZID=America/New_York:20230401T080000
DTEND;TZID=America/New_York:20230401T130000
DESCRIPTION:IEEE Maine Section is once again sponsoring the Annual Maine St
 ate Science Fair. Section&#39;s members will enhance their professional develo
 pment by participating in the event as Judges.\n\nRegister to be a Judge [
 here](https://www.maine-state-science-fair.com/volunteers/judge/).\n\n168 
 College Ave\, Orono\, Maine\, United States\, 04469
LOCATION:168 College Ave\, Orono\, Maine\, United States\, 04469
ORGANIZER:uptonj@husson.edu
SEQUENCE:2
SUMMARY:2023 Maine State Science Fair
URL;VALUE=URI:https://events.vtools.ieee.org/m/352998
X-ALT-DESC:Description: &lt;br /&gt;&lt;p&gt;IEEE Maine Section is once again sponsorin
 g the Annual Maine State Science Fair. &amp;nbsp\;Section&#39;s members will enhan
 ce their professional development by participating in the event as Judges.
 &lt;/p&gt;\n&lt;p&gt;Register to be a Judge &lt;a title=&quot;https://www.maine-state-science-
 fair.com/volunteers/judge/&quot; href=&quot;https://www.maine-state-science-fair.com
 /volunteers/judge/&quot;&gt;here&lt;/a&gt;.&lt;/p&gt;
END:VEVENT
END:VCALENDAR

