BEGIN:VCALENDAR
VERSION:2.0
PRODID:IEEE vTools.Events//EN
CALSCALE:GREGORIAN
BEGIN:VTIMEZONE
TZID:America/New_York
BEGIN:DAYLIGHT
DTSTART:20230312T030000
TZOFFSETFROM:-0500
TZOFFSETTO:-0400
RRULE:FREQ=YEARLY;BYDAY=2SU;BYMONTH=3
TZNAME:EDT
END:DAYLIGHT
BEGIN:STANDARD
DTSTART:20231105T010000
TZOFFSETFROM:-0400
TZOFFSETTO:-0500
RRULE:FREQ=YEARLY;BYDAY=1SU;BYMONTH=11
TZNAME:EST
END:STANDARD
END:VTIMEZONE
BEGIN:VEVENT
DTSTAMP:20230319T002219Z
UID:99BC164F-E19A-4821-8027-6744730D3DCE
DTSTART;TZID=America/New_York:20230317T120000
DTEND;TZID=America/New_York:20230317T130000
DESCRIPTION:Mohawk Valley Section Officers Meeting\n\nVirtual: https://even
 ts.vtools.ieee.org/m/353109
LOCATION:Virtual: https://events.vtools.ieee.org/m/353109
ORGANIZER:ashley.prater@ieee.org
SEQUENCE:0
SUMMARY:Mohawk Valley Section Officers Meeting
URL;VALUE=URI:https://events.vtools.ieee.org/m/353109
X-ALT-DESC:Description: &lt;br /&gt;&lt;p&gt;Mohawk Valley Section Officers Meeting&lt;/p&gt;
END:VEVENT
END:VCALENDAR

