BEGIN:VCALENDAR
VERSION:2.0
PRODID:IEEE vTools.Events//EN
CALSCALE:GREGORIAN
BEGIN:VTIMEZONE
TZID:Pacific/Honolulu
BEGIN:STANDARD
DTSTART:19470608T023000
TZOFFSETFROM:-1130
TZOFFSETTO:-1000
TZNAME:HST
END:STANDARD
END:VTIMEZONE
BEGIN:VEVENT
DTSTAMP:20230406T020121Z
UID:6FF53CF2-77F4-42A5-9893-94B839A87699
DTSTART;TZID=Pacific/Honolulu:20230329T183000
DTEND;TZID=Pacific/Honolulu:20230329T193000
DESCRIPTION:Our LMAG is now chartered. This is a kickoff meeting to plan ou
 r activities.\nWho are we?\nHow can we share engineering and fellowship?\n
 How can we share engineering with the community?\n\nAgenda: \nIntroduction
 s -- who is here\, quick round of self-introductions\nFuture Birds of a Fe
 ather (social) -- in-person or virtual?\nActivities\n-- any ideas to share
 \n-- have you been volunteering for any STEM activities?\nscience fair\, r
 obotics\, math team\, or anything else?\nSome ideas from Gene Chang\n-- sh
 are our Career Journeys\n-- TryEngineering community events\nvisit https:/
 /tryengineering.org before the meeting and bring your thoughts.\n\nFunding
 :\nThe region LM organization has granted us a small fund for hosting four
  community events. The funds are for supplies\, and snacks. Let&#39;s put this
  to good use.\n\nVirtual: https://events.vtools.ieee.org/m/353442
LOCATION:Virtual: https://events.vtools.ieee.org/m/353442
ORGANIZER:eugene.chang@ieee.org
SEQUENCE:2
SUMMARY:Life Member Affinity Group (LMAG) Kickoff - virtual
URL;VALUE=URI:https://events.vtools.ieee.org/m/353442
X-ALT-DESC:Description: &lt;br /&gt;&lt;div&gt;&lt;span style=&quot;font-size: 14pt\;&quot;&gt;Our LMAG
  is now chartered. This is a kickoff meeting to plan our activities.&lt;/span
 &gt;&lt;/div&gt;\n&lt;div&gt;&lt;span style=&quot;font-size: 14pt\;&quot;&gt;Who are we?&amp;nbsp\;&lt;/span&gt;&lt;br
  /&gt;&lt;span style=&quot;font-size: 14pt\;&quot;&gt;How can we share engineering and fellow
 ship?&lt;/span&gt;&lt;/div&gt;\n&lt;div&gt;&lt;span style=&quot;font-size: 14pt\;&quot;&gt;How can we share 
 engineering with the community?&lt;/span&gt;&lt;/div&gt;\n&lt;p&gt;&amp;nbsp\;&lt;/p&gt;&lt;br /&gt;&lt;br /&gt;Ag
 enda: &lt;br /&gt;&lt;div&gt;&lt;span style=&quot;font-size: 14pt\;&quot;&gt;Introductions -- who is h
 ere\, quick round of self-introductions&lt;/span&gt;&lt;/div&gt;\n&lt;div&gt;&lt;span style=&quot;fo
 nt-size: 14pt\;&quot;&gt;Future Birds of a Feather (social) -- in-person or virtua
 l?&lt;/span&gt;&lt;/div&gt;\n&lt;div&gt;&lt;span style=&quot;font-size: 14pt\;&quot;&gt;Activities&lt;/span&gt;&lt;/d
 iv&gt;\n&lt;div&gt;&lt;span style=&quot;font-size: 14pt\;&quot;&gt;&amp;nbsp\; &amp;nbsp\; &amp;nbsp\; &amp;nbsp\; 
 -- any ideas to share&lt;/span&gt;&lt;/div&gt;\n&lt;div&gt;&lt;span style=&quot;font-size: 14pt\;&quot;&gt;&amp;
 nbsp\; &amp;nbsp\; &amp;nbsp\; &amp;nbsp\; -- have you been volunteering for any STEM 
 activities?&lt;/span&gt;&lt;/div&gt;\n&lt;div&gt;&lt;span style=&quot;font-size: 14pt\;&quot;&gt;&amp;nbsp\; &amp;nb
 sp\; &amp;nbsp\; &amp;nbsp\; &amp;nbsp\; &amp;nbsp\; &amp;nbsp\; &amp;nbsp\; &amp;nbsp\; &amp;nbsp\; &amp;nbsp
 \;science fair\, robotics\, math team\, or anything else?&lt;/span&gt;&lt;/div&gt;\n&lt;d
 iv&gt;&lt;span style=&quot;font-size: 14pt\;&quot;&gt;&amp;nbsp\; &amp;nbsp\; &amp;nbsp\; &amp;nbsp\; Some id
 eas from Gene Chang&lt;/span&gt;&lt;/div&gt;\n&lt;div&gt;&lt;span style=&quot;font-size: 14pt\;&quot;&gt;&amp;nb
 sp\; &amp;nbsp\; &amp;nbsp\; &amp;nbsp\; &amp;nbsp\; &amp;nbsp\; &amp;nbsp\; &amp;nbsp\; &amp;nbsp\; &amp;nbsp
 \; &amp;nbsp\;-- share our Career Journeys&lt;/span&gt;&lt;/div&gt;\n&lt;div&gt;&lt;span style=&quot;fon
 t-size: 14pt\;&quot;&gt;&amp;nbsp\; &amp;nbsp\; &amp;nbsp\; &amp;nbsp\; &amp;nbsp\; &amp;nbsp\; &amp;nbsp\; &amp;n
 bsp\; &amp;nbsp\; &amp;nbsp\; &amp;nbsp\;-- TryEngineering community events&amp;nbsp\;&lt;/sp
 an&gt;&lt;/div&gt;\n&lt;div&gt;&lt;span style=&quot;font-size: 14pt\;&quot;&gt;&amp;nbsp\; &amp;nbsp\; &amp;nbsp\; &amp;n
 bsp\; &amp;nbsp\; &amp;nbsp\; &amp;nbsp\; &amp;nbsp\; &amp;nbsp\; &amp;nbsp\; &amp;nbsp\; &amp;nbsp\; &amp;nbs
 p\; visit https://tryengineering.org before the meeting and bring your tho
 ughts.&lt;/span&gt;&lt;/div&gt;\n&lt;div&gt;&amp;nbsp\;&lt;/div&gt;\n&lt;div&gt;&lt;span style=&quot;font-size: 14pt
 \;&quot;&gt;Funding:&lt;/span&gt;&lt;/div&gt;\n&lt;div&gt;&lt;span style=&quot;font-size: 14pt\;&quot;&gt;&amp;nbsp\; &amp;n
 bsp\; &amp;nbsp\;The region LM organization has granted us a small fund for ho
 sting four community events. The funds are for supplies\, and snacks. Let&#39;
 s put this to good use.&lt;/span&gt;&lt;/div&gt;\n&lt;p&gt;&amp;nbsp\;&lt;/p&gt;
END:VEVENT
END:VCALENDAR

