BEGIN:VCALENDAR
VERSION:2.0
PRODID:IEEE vTools.Events//EN
CALSCALE:GREGORIAN
BEGIN:VTIMEZONE
TZID:America/Chicago
BEGIN:DAYLIGHT
DTSTART:20230312T030000
TZOFFSETFROM:-0600
TZOFFSETTO:-0500
RRULE:FREQ=YEARLY;BYDAY=2SU;BYMONTH=3
TZNAME:CDT
END:DAYLIGHT
BEGIN:STANDARD
DTSTART:20231105T010000
TZOFFSETFROM:-0500
TZOFFSETTO:-0600
RRULE:FREQ=YEARLY;BYDAY=1SU;BYMONTH=11
TZNAME:CST
END:STANDARD
END:VTIMEZONE
BEGIN:VEVENT
DTSTAMP:20230407T202321Z
UID:BABC0155-5783-43B1-972B-D08BB2920CB2
DTSTART;TZID=America/Chicago:20230327T140000
DTEND;TZID=America/Chicago:20230327T160000
DESCRIPTION:Cyberattacks are constantly ravaging valuable data\, wasting ti
 me and costly resources\, and negatively affecting the reputation of compa
 nies and institutions worldwide. Big\, high-profile organizations have suf
 fered the consequences of cyberattacks with high impact on the organizatio
 ns themselves\, their customers\, collaborators\, and society in general. 
 We are in the era of ubiquitous systems\; we expect more than 75 billion d
 evices or smart things connected by 2025. We observe the design of differe
 nt solutions to tackle this problem. However\, how is academia addressing 
 the sophistication in cyberattacks? Are we able to anticipate the next mov
 es of attackers to protect our information assets? How could academia bene
 fit from the data generated in the network\, to create security intelligen
 ce\, and prevent attacks? This talk intends to elicit a discussion around 
 these questions and present an overview of correlated research developed b
 y Dr. Nogueira’s research team\, and future directions in these topics.\
 n\nSpeaker(s): Michele Nogueira\, \n\nRoom: Bi214/215\, Bldg: Library\, Av
 . Eugenio Garza Sada 2501\, Monterrey\, Nuevo Leon\, Mexico\, 64849
LOCATION:Room: Bi214/215\, Bldg: Library\, Av. Eugenio Garza Sada 2501\, Mo
 nterrey\, Nuevo Leon\, Mexico\, 64849
ORGANIZER:cvargas@tec.mx
SEQUENCE:3
SUMMARY:Security\, Privacy and Resilience in the Internet of Health Things 
URL;VALUE=URI:https://events.vtools.ieee.org/m/353530
X-ALT-DESC:Description: &lt;br /&gt;&lt;p&gt;Cyberattacks are constantly ravaging valua
 ble data\, wasting time and costly resources\, and negatively affecting th
 e reputation of companies and institutions worldwide. Big\, high-profile o
 rganizations have suffered the consequences of cyberattacks with high impa
 ct on the organizations themselves\, their customers\, collaborators\, and
  society in general. We are in the era of ubiquitous systems\; we expect m
 ore than 75 billion devices or smart things connected by 2025. We observe 
 the design of different solutions to tackle this problem. However\, how is
  academia addressing the sophistication in cyberattacks? Are we able to an
 ticipate the next moves of attackers to protect our information assets? Ho
 w could academia benefit from the data generated in the network\, to creat
 e security intelligence\, and prevent attacks? This talk intends to elicit
  a discussion around these questions and present an overview of correlated
  research developed by Dr. Nogueira&amp;rsquo\;s research team\, and future di
 rections in these topics.&lt;/p&gt;
END:VEVENT
END:VCALENDAR

