BEGIN:VCALENDAR
VERSION:2.0
PRODID:IEEE vTools.Events//EN
CALSCALE:GREGORIAN
BEGIN:VTIMEZONE
TZID:Asia/Kolkata
BEGIN:STANDARD
DTSTART:19451014T230000
TZOFFSETFROM:+0630
TZOFFSETTO:+0530
TZNAME:IST
END:STANDARD
END:VTIMEZONE
BEGIN:VEVENT
DTSTAMP:20230330T085827Z
UID:A9D3F9AA-1338-4A3A-9CA3-B5FBBEC860EA
DTSTART;TZID=Asia/Kolkata:20230324T103000
DTEND;TZID=Asia/Kolkata:20230324T143000
DESCRIPTION:Silver Oak University IEEE Women in Engineering Affinity Group 
 and Silver Oak University AWS User Groups in association with Department o
 f Computer Engineering would like to invite you to celebrate WOMEN’S DAY
  with us.\n&quot;Strong Happening Empowered (SHE)&quot; is providing a roster of inc
 redible leaders for you to bask in their excellence.\n\nThe orators who wi
 ll be adorning our event are:\n1. Mrs. Poonam Patel: Project Consultant at
  Eternal Web Ltd\, UK\n2. Mrs. Dimple Vaghela: Co-Founder\, Electromech Cl
 oudtech Ltd\n3. Mrs. Asha Mangtani: CSM Certified Professional\, MavenVist
 a Technologies Ltd\n4. Mrs. Ridhima Kapoor: Developer Marketing Manager at
  AWS\n\nSilver Oak University\, Ahmedabad\, Gujarat\, India\, 382481
LOCATION:Silver Oak University\, Ahmedabad\, Gujarat\, India\, 382481
ORGANIZER:ieee.fbc@socet.edu.in
SEQUENCE:2
SUMMARY:Strong Happening Empowered (SHE)
URL;VALUE=URI:https://events.vtools.ieee.org/m/353766
X-ALT-DESC:Description: &lt;br /&gt;&lt;p&gt;Silver Oak University IEEE Women in Engine
 ering Affinity Group and Silver Oak University AWS User Groups in associat
 ion with Department of Computer Engineering would like to invite you to ce
 lebrate WOMEN&amp;rsquo\;S DAY with us.&amp;nbsp\;&lt;br /&gt;&quot;Strong Happening Empowere
 d (SHE)&quot; is providing a roster of incredible leaders for you to bask in th
 eir excellence.&lt;/p&gt;\n&lt;p&gt;The orators who will be adorning our event are:&lt;br
  /&gt;1. Mrs. Poonam Patel: Project Consultant at Eternal Web Ltd\, UK&lt;br /&gt;2
 . Mrs. Dimple Vaghela: Co-Founder\, Electromech Cloudtech Ltd &amp;nbsp\;&lt;br /
 &gt;3. Mrs. Asha Mangtani: CSM Certified Professional\, MavenVista Technologi
 es Ltd&lt;br /&gt;4. Mrs. Ridhima Kapoor: Developer Marketing Manager at AWS&lt;/p&gt;
END:VEVENT
END:VCALENDAR

