BEGIN:VCALENDAR
VERSION:2.0
PRODID:IEEE vTools.Events//EN
CALSCALE:GREGORIAN
BEGIN:VTIMEZONE
TZID:America/New_York
BEGIN:DAYLIGHT
DTSTART:20230312T030000
TZOFFSETFROM:-0500
TZOFFSETTO:-0400
RRULE:FREQ=YEARLY;BYDAY=2SU;BYMONTH=3
TZNAME:EDT
END:DAYLIGHT
BEGIN:STANDARD
DTSTART:20231105T010000
TZOFFSETFROM:-0400
TZOFFSETTO:-0500
RRULE:FREQ=YEARLY;BYDAY=1SU;BYMONTH=11
TZNAME:EST
END:STANDARD
END:VTIMEZONE
BEGIN:VEVENT
DTSTAMP:20250307T000336Z
UID:0477077F-6F79-42E9-95F6-84E8171CC9C4
DTSTART;TZID=America/New_York:20230421T170000
DTEND;TZID=America/New_York:20230421T190000
DESCRIPTION:Final part of the Sumobot building workshop series where studen
 ts compete against each other to see who&#39;s bot is the best.\n\nBldg: Tolen
 tine\, 862 E. Lancaster Ave.\, Villanova\, Pennsylvania\, United States\, 
 19085
LOCATION:Bldg: Tolentine\, 862 E. Lancaster Ave.\, Villanova\, Pennsylvania
 \, United States\, 19085
ORGANIZER:jfazio3@villanova.edu
SEQUENCE:3
SUMMARY:Sumobot Competition
URL;VALUE=URI:https://events.vtools.ieee.org/m/353913
X-ALT-DESC:Description: &lt;br /&gt;&lt;p&gt;Final part of the Sumobot building worksho
 p series where students compete against each other to see who&#39;s bot is the
  best.&lt;/p&gt;
END:VEVENT
END:VCALENDAR

