BEGIN:VCALENDAR
VERSION:2.0
PRODID:IEEE vTools.Events//EN
CALSCALE:GREGORIAN
BEGIN:VTIMEZONE
TZID:America/Chicago
BEGIN:DAYLIGHT
DTSTART:20230312T030000
TZOFFSETFROM:-0600
TZOFFSETTO:-0500
RRULE:FREQ=YEARLY;BYDAY=2SU;BYMONTH=3
TZNAME:CDT
END:DAYLIGHT
BEGIN:STANDARD
DTSTART:20231105T010000
TZOFFSETFROM:-0500
TZOFFSETTO:-0600
RRULE:FREQ=YEARLY;BYDAY=1SU;BYMONTH=11
TZNAME:CST
END:STANDARD
END:VTIMEZONE
BEGIN:VEVENT
DTSTAMP:20230421T141112Z
UID:24662348-235E-4BFB-97D5-DECBE369B01F
DTSTART;TZID=America/Chicago:20230418T120000
DTEND;TZID=America/Chicago:20230418T130000
DESCRIPTION:The April 18\, 2023 Dallas IEEE CVT event has a guest speaker\,
  Dr. Kurt Tutschku from Univ BTH in Sweden.\n\nThe merger of immersive com
 puter graphics and visualization with AI has gained recently rapid momentu
 m. The so-called “metaverse” has become an appealing concept. It offer
 s an almost infinite combination of persistent\, online\, fictional\, or e
 xtended reality virtual spaces where users can work\, meet\, game\, and so
 cialize. While the metaverse is eventually a massive ambition\, so-called 
 “Intelligent Realities (IR)”\, i.e.\, immersive virtual spaces which a
 re supported by AI or ML for decision making\, are expected to become a to
 ol for many users in next wave of digitalization.\n\nLunch is available to
  those who pre-register: The cost for lunch is below:\nPre-registered IEEE
  members $10\, IEEE Life members $5\, IEEE Student Members $5\,\nPre-regis
 tered IEEE Student Members (First 5 only) No cost\n\nNon-members or others
  $15\,\n\nNon-pre registered who which to have lunch will be asked to wait
  until those who have pre-registered have been served\n\nParking passes wi
 ll be emailed to the registered attendees prior to the meeting. Please onl
 y park in the correct color code as provided in the parking pass.\n\nIRs a
 re expected to exploit the idea of a compute-networking continuum. Here\, 
 the function for communication and for computing is interrelated and depen
 ds on each other. In this talk we discuss the needs and early concept for 
 the design of novel and adaptive network services for intelligent realitie
 s. The services need to fulfill strict needs of IRs for ultra-low e2e dela
 y and very high bandwidth communication. The design aims at mechanisms and
  services that provide the the right data\, at the right location\, and at
  the right time in an adaptive and well orchestrated way. Intelligent real
 ities are considered as the nextgeneration of IoT applications. However\, 
 in contrast to many of today’s IoT applications\, intelligent realities 
 need to process huge amounts of data\, preferably at locations that are co
 ntinuously adapted run-time. The adaptivity allows the application of effi
 cient hardware (e.g. accelerators at data centers) or data and algorithms 
 that are only available at special locations (e.g. due to GDPR).\n\nSpeake
 r(s): Kurt\, \n\nBldg: SPN 1\, 3000 Waterview Pkwy\, Richardson\, Texas\, 
 United States\, 75080
LOCATION:Bldg: SPN 1\, 3000 Waterview Pkwy\, Richardson\, Texas\, United St
 ates\, 75080
ORGANIZER:larryjhorner@gmail.com
SEQUENCE:7
SUMMARY:Dallas IEEE CVT April 18 meeting &quot;Toward Networking for Intelligent
  Realities&quot;
URL;VALUE=URI:https://events.vtools.ieee.org/m/354924
X-ALT-DESC:Description: &lt;br /&gt;&lt;p&gt;The April 18\, 2023 Dallas IEEE CVT event 
 has a guest speaker\, Dr. Kurt Tutschku from Univ BTH in Sweden.&amp;nbsp\;&lt;/p
 &gt;\n&lt;p&gt;The merger of immersive computer graphics and visualization with AI 
 has gained recently rapid momentum. The so-called &amp;ldquo\;metaverse&amp;rdquo\
 ; has become an appealing concept. It offers an almost infinite combinatio
 n of persistent\, online\, fictional\, or extended reality virtual spaces 
 where users can work\, meet\, game\, and socialize. While the metaverse is
  eventually a massive ambition\, so-called &amp;ldquo\;Intelligent Realities (
 IR)&amp;rdquo\;\, i.e.\, immersive virtual spaces which are supported by AI or
  ML for decision making\, are expected to become a tool for many users in 
 next wave of digitalization.&lt;/p&gt;\n&lt;p&gt;&amp;nbsp\;&lt;/p&gt;\n&lt;p style=&quot;font-family: C
 alibri\; font-size: 11.0pt\; margin: 0in\;&quot;&gt;&lt;span style=&quot;font-family: aria
 l\, helvetica\, sans-serif\; font-size: 12pt\;&quot;&gt;Lunch is available to thos
 e who pre-register: The cost for lunch is below:&lt;/span&gt;&lt;br /&gt;&lt;span style=&quot;
 font-family: arial\, helvetica\, sans-serif\; font-size: 12pt\;&quot;&gt;Pre-regis
 tered IEEE members $10\, IEEE Life members $5\, IEEE Student Members $5\, 
 &lt;/span&gt;&lt;br /&gt;&lt;span style=&quot;font-family: arial\, helvetica\, sans-serif\; fo
 nt-size: 12pt\;&quot;&gt;Pre-registered IEEE Student Members (First 5 only) No cos
 t&lt;/span&gt;&lt;/p&gt;\n&lt;p style=&quot;font-family: Calibri\; font-size: 11.0pt\; margin:
  0in\;&quot;&gt;&lt;span style=&quot;font-family: arial\, helvetica\, sans-serif\; font-si
 ze: 12pt\;&quot;&gt;Non-members or others $15\,&lt;/span&gt;&lt;/p&gt;\n&lt;p style=&quot;font-family:
  Calibri\; font-size: 11.0pt\; margin: 0in\;&quot;&gt;&lt;span style=&quot;font-family: ar
 ial\, helvetica\, sans-serif\; font-size: 12pt\;&quot;&gt;Non-pre registered who w
 hich to have lunch will be asked to wait until those who have pre-register
 ed have been served&lt;/span&gt;&lt;/p&gt;\n&lt;p&gt;Parking passes will be emailed to the r
 egistered attendees prior to the meeting. Please only park in the correct 
 color code as provided in the parking pass.&lt;/p&gt;\n&lt;p&gt;&amp;nbsp\;&lt;/p&gt;\n&lt;p&gt;IRs ar
 e expected to exploit the idea of a compute-networking continuum. Here\, t
 he function for communication and for computing is interrelated and depend
 s on each other. In this talk we discuss the needs and early concept for t
 he design of novel and adaptive network services for intelligent realities
 . The services need to fulfill strict needs of IRs for ultra-low e2e delay
  and very high bandwidth communication. The design aims at mechanisms and 
 services that provide the the right data\, at the right location\, and at 
 the right time in an adaptive and well orchestrated way. Intelligent reali
 ties are considered as the nextgeneration of IoT applications. However\, i
 n contrast to many of today&amp;rsquo\;s IoT applications\, intelligent realit
 ies need to process huge amounts of data\, preferably at locations that ar
 e continuously adapted run-time. The adaptivity allows the application of 
 efficient hardware (e.g. accelerators at data centers) or data and algorit
 hms that are only available at special locations (e.g. due to GDPR).&lt;/p&gt;
END:VEVENT
END:VCALENDAR

