BEGIN:VCALENDAR
VERSION:2.0
PRODID:IEEE vTools.Events//EN
CALSCALE:GREGORIAN
BEGIN:VTIMEZONE
TZID:America/New_York
BEGIN:DAYLIGHT
DTSTART:20230312T030000
TZOFFSETFROM:-0500
TZOFFSETTO:-0400
RRULE:FREQ=YEARLY;BYDAY=2SU;BYMONTH=3
TZNAME:EDT
END:DAYLIGHT
BEGIN:STANDARD
DTSTART:20231105T010000
TZOFFSETFROM:-0400
TZOFFSETTO:-0500
RRULE:FREQ=YEARLY;BYDAY=1SU;BYMONTH=11
TZNAME:EST
END:STANDARD
END:VTIMEZONE
BEGIN:VEVENT
DTSTAMP:20230417T184456Z
UID:89BD05D7-DBBE-4EC6-BB51-58C3A76F4701
DTSTART;TZID=America/New_York:20230413T083000
DTEND;TZID=America/New_York:20230413T153000
DESCRIPTION:Please join us for the UPJ Senior Project presentations April 1
 3. It is always interesting to see the creative student projects. Presenta
 tions start at 8:30 AM and run through about noon. Lunch is on your own ei
 ther nearby or at the Living and Learning Center cafeteria. Demonstrations
  will be after lunch I believe in the downstairs lab area of the Engineeri
 ng &amp; Sciences building. I will be in the back row with a Harley tie and ha
 ve scoring sheets so you can help determine our award winners.\n\nUniversi
 ty of Pittsburgh at Johnstown\, Heritage Hall Living and Learning Center\,
  500 Schoolhouse Road\, Johnstown\, PA 15904\n\nRSVP and Call 814-241-9281
  if you need me.\n\nAgenda: \n8:30—8:35 a.m.\nWelcome and Project Introd
 uctions\n8:35—8:55 a.m.\n“Neurodivergent Buddy ”\nLillian Bigler &amp; T
 edd Mabon\nAdvisor: Professor Cruse\n8:55—9:15 a.m.\n“Model Microgrid
 ”\nNicolas Smith &amp; Nicholas Patrick\nAdvisor: Professor Cruse\n9:15—9:
 35 a.m.\n“Smart Pet Monitoring System”\nAndrew Golik &amp; Pengxiang Wang\
 nAdvisor: Professor Cruse\n9:35—9:55 a.m.\n“Mixation Station”\nJorda
 n Moore &amp; Harrison Buss\nAdvisor: Professor Gabany\n9:55—10:15 a.m.\n“
  LasIR Harp”\nJared Korczyk &amp; Minh Hoang\nAdvisor: Professor Wieserman\n
 \n10:25—10:45 a.m.\n“Smart Chicken Coop”\nAbryana Martin &amp; Nathanial
  Andrews\nAdvisor: Professor Cruse\n10:45—11:05 a.m.\n“The Smart Backp
 ack”\nDaniel Smrekar &amp; Kuyler Zoller\nAdvisor: Professor Cruse\n11:05—
 11:25 a.m.\n“Home Medicine Carousel”\nStephen Palli &amp; Cody Knepper\nAd
 visor: Professor Gabany\n11:25—11:45 a.m.\n“Smart Fan”\nTrevor Roach
  &amp; Michael Trovato\nAdvisor: Professor Gabany\n\nRoom: Heritage Hall\, Bld
 g: Living and Learning Center\, 500 Schoolhouse Road\, Johnstown\, Pennsyl
 vania\, United States\, 15904
LOCATION:Room: Heritage Hall\, Bldg: Living and Learning Center\, 500 Schoo
 lhouse Road\, Johnstown\, Pennsylvania\, United States\, 15904
ORGANIZER:m.brandau@ieee.org
SEQUENCE:3
SUMMARY:UPJ Senior Project presentation and judging.
URL;VALUE=URI:https://events.vtools.ieee.org/m/354990
X-ALT-DESC:Description: &lt;br /&gt;&lt;p&gt;Please join us for the UPJ Senior Project 
 presentations April 13.&amp;nbsp\; It is always interesting to see the creativ
 e student projects.&amp;nbsp\; Presentations start at 8:30 AM and run through 
 about noon.&amp;nbsp\; Lunch is on your own either nearby or at the Living and
  Learning Center cafeteria.&amp;nbsp\; Demonstrations will be after lunch I be
 lieve in the downstairs lab area of the Engineering &amp;amp\; Sciences buildi
 ng.&amp;nbsp\; I will be in the back row with a Harley tie and have scoring sh
 eets so you can help determine our award winners.&amp;nbsp\;&amp;nbsp\;&lt;/p&gt;\n&lt;p&gt;Un
 iversity of Pittsburgh at Johnstown\, Heritage Hall Living and Learning Ce
 nter\, 500 Schoolhouse Road\, Johnstown\, PA 15904&lt;/p&gt;\n&lt;p&gt;RSVP and Call 8
 14-241-9281 if you need me.&lt;/p&gt;\n&lt;p&gt;&amp;nbsp\;&lt;/p&gt;&lt;br /&gt;&lt;br /&gt;Agenda: &lt;br /&gt;&lt;
 p&gt;8:30&amp;mdash\;8:35 a.m.&lt;br /&gt;Welcome and Project Introductions&lt;br /&gt;8:35&amp;m
 dash\;8:55 a.m.&lt;br /&gt;&amp;ldquo\;Neurodivergent Buddy &amp;rdquo\;&lt;br /&gt;Lillian Bi
 gler &amp;amp\; Tedd Mabon&lt;br /&gt;Advisor: Professor Cruse&lt;br /&gt;8:55&amp;mdash\;9:15
  a.m.&lt;br /&gt;&amp;ldquo\;Model Microgrid&amp;rdquo\;&lt;br /&gt;Nicolas Smith &amp;amp\; Nicho
 las Patrick&lt;br /&gt;Advisor: Professor Cruse&lt;br /&gt;9:15&amp;mdash\;9:35 a.m.&lt;br /&gt;
 &amp;ldquo\;Smart Pet Monitoring System&amp;rdquo\;&lt;br /&gt;Andrew Golik &amp;amp\; Pengx
 iang Wang&lt;br /&gt;Advisor: Professor Cruse&lt;br /&gt;9:35&amp;mdash\;9:55 a.m.&lt;br /&gt;&amp;l
 dquo\;Mixation Station&amp;rdquo\;&lt;br /&gt;Jordan Moore &amp;amp\; Harrison Buss&lt;br /
 &gt;Advisor: Professor Gabany&lt;br /&gt;9:55&amp;mdash\;10:15 a.m.&lt;br /&gt;&amp;ldquo\; LasIR
  Harp&amp;rdquo\;&lt;br /&gt;Jared Korczyk &amp;amp\; Minh Hoang&lt;br /&gt;Advisor: Professor
  Wieserman&lt;/p&gt;\n&lt;p&gt;10:25&amp;mdash\;10:45 a.m.&lt;br /&gt;&amp;ldquo\;Smart Chicken Coop
 &amp;rdquo\;&lt;br /&gt;Abryana Martin &amp;amp\; Nathanial Andrews&lt;br /&gt;Advisor: Profes
 sor Cruse&lt;br /&gt;10:45&amp;mdash\;11:05 a.m.&lt;br /&gt;&amp;ldquo\;The Smart Backpack&amp;rdq
 uo\;&lt;br /&gt;Daniel Smrekar &amp;amp\; Kuyler Zoller&lt;br /&gt;Advisor: Professor Crus
 e&lt;br /&gt;11:05&amp;mdash\;11:25 a.m.&lt;br /&gt;&amp;ldquo\;Home Medicine Carousel&amp;rdquo\;
 &lt;br /&gt;Stephen Palli &amp;amp\; Cody Knepper&lt;br /&gt;Advisor: Professor Gabany&lt;br 
 /&gt;11:25&amp;mdash\;11:45 a.m.&lt;br /&gt;&amp;ldquo\;Smart Fan&amp;rdquo\;&lt;br /&gt;Trevor Roach
  &amp;amp\; Michael Trovato&lt;br /&gt;Advisor: Professor Gabany&lt;/p&gt;
END:VEVENT
END:VCALENDAR

