BEGIN:VCALENDAR
VERSION:2.0
PRODID:IEEE vTools.Events//EN
CALSCALE:GREGORIAN
BEGIN:VTIMEZONE
TZID:America/New_York
BEGIN:DAYLIGHT
DTSTART:20230312T030000
TZOFFSETFROM:-0500
TZOFFSETTO:-0400
RRULE:FREQ=YEARLY;BYDAY=2SU;BYMONTH=3
TZNAME:EDT
END:DAYLIGHT
BEGIN:STANDARD
DTSTART:20231105T010000
TZOFFSETFROM:-0400
TZOFFSETTO:-0500
RRULE:FREQ=YEARLY;BYDAY=1SU;BYMONTH=11
TZNAME:EST
END:STANDARD
END:VTIMEZONE
BEGIN:VEVENT
DTSTAMP:20230430T125809Z
UID:5464A0D5-6E9E-436A-8CCC-EE08900C00A0
DTSTART;TZID=America/New_York:20230427T093000
DTEND;TZID=America/New_York:20230427T103000
DESCRIPTION:Multi-wavelength lasers have emerged as a promising solution fo
 r a range of applications: from sensing to high-frequency signal generatio
 n or all-optical processing. For instance\, they are an appealing solution
  to generate mm-wave or THz signals: besides the reduce footprint or the l
 ack of required alignment\, the coupling between modes leads to lower nois
 e level. However\, lasing is still a “winner takes it all” process\, t
 hus simultaneous emission at multiple wavelengths can be a challenging tar
 get to reach. A rather careful design or a precise control mechanism are t
 ypically required.\n\nIn this talk\, I will briefly review demonstrated sc
 hemes to implement multi-wavelength lasers on Photonic ICs\, with a partic
 ular focus on laser designs compatible with (active) generic foundry platf
 orms. I will discuss the difficult trade-off between flexibility\, tunabil
 ity and stability\, and highlight the approach we chose relying on a phase
 -controlled optical feedback loop. Finally\, I will present some of our re
 cent results exploiting such multi-wavelength lasers for new applications 
 such as spectral multiplication of frequency combs and wavelength conversi
 on.\n\nSpeaker(s): Martin Virte\, \n\nRoom: MC603\, Bldg: McConnell Engine
 ering building\, 3480 University Street\, Montreal\, Quebec\, Canada\, H3A
  0E9
LOCATION:Room: MC603\, Bldg: McConnell Engineering building\, 3480 Universi
 ty Street\, Montreal\, Quebec\, Canada\, H3A 0E9
ORGANIZER:matthew.t.posner@ieee.org
SEQUENCE:4
SUMMARY:Integrated multi-wavelength lasers : design\, control and applicati
 ons
URL;VALUE=URI:https://events.vtools.ieee.org/m/355040
X-ALT-DESC:Description: &lt;br /&gt;&lt;p&gt;Multi-wavelength lasers have emerged as a 
 promising solution for a range of applications: from sensing to high-frequ
 ency signal generation or all-optical processing. For instance\, they are 
 an appealing solution to generate mm-wave or THz signals: besides the redu
 ce footprint or the lack of required alignment\, the coupling between mode
 s leads to lower noise level. However\, lasing is still a &amp;ldquo\;winner t
 akes it all&amp;rdquo\; process\, thus simultaneous emission at multiple wavel
 engths can be a challenging target to reach. A rather careful design or a 
 precise control mechanism are typically required.&lt;/p&gt;\n&lt;p&gt;In this talk\, I
  will briefly review demonstrated schemes to implement multi-wavelength la
 sers on Photonic ICs\, with a particular focus on laser designs compatible
  with (active) generic foundry platforms. I will discuss the difficult tra
 de-off between flexibility\, tunability and stability\, and highlight the 
 approach we chose relying on a phase-controlled optical feedback loop. Fin
 ally\, I will present some of our recent results exploiting such multi-wav
 elength lasers for new applications such as spectral multiplication of fre
 quency combs and wavelength conversion.&lt;/p&gt;
END:VEVENT
END:VCALENDAR

