BEGIN:VCALENDAR
VERSION:2.0
PRODID:IEEE vTools.Events//EN
CALSCALE:GREGORIAN
BEGIN:VTIMEZONE
TZID:Asia/Kolkata
BEGIN:STANDARD
DTSTART:19451014T230000
TZOFFSETFROM:+0630
TZOFFSETTO:+0530
TZNAME:IST
END:STANDARD
END:VTIMEZONE
BEGIN:VEVENT
DTSTAMP:20230406T184305Z
UID:E1FB71B4-8FAB-4F79-A13C-12C6C5B6E7EA
DTSTART;TZID=Asia/Kolkata:20230331T103000
DTEND;TZID=Asia/Kolkata:20230331T143000
DESCRIPTION:Hello wonderful readers\,\nWe are delighted to announce that we
  have selected Viktor Frankl’s renowned “Man&#39;s Search for Meaning” f
 or the Grand Opening of Paperback Pals club and its review session of Marc
 h 2023.\n\nThis book is a harrowing experience of Frankl’s time as a pri
 soner in a Nazi concentration camp and his subsequent development of a new
  form of therapy\, called logotherapy.\n\nYou are all encouraged to read t
 he book and join us for this thrilling and engaging discussion. This book 
 provides a really powerful experience and we hope that it will be a very f
 un and informative experience for all of you.\n\nMake sure you don&#39;t miss 
 the session and be sure to attend it.\n\nEVENT DETAILS:\nDate: 31st March\
 , 2023\n\nTime: 10:30 AM IST Onwards\nVenue: B-120\, Apple Lab\, B-Block\,
  Silver Oak University\n\nTill then\, hoping for your good well being and 
 all the best for your reading journey.\n\nHappy Reading!!\n\nSilver Oak Un
 iversity\, Ahmedabad\, Gujarat\, India
LOCATION:Silver Oak University\, Ahmedabad\, Gujarat\, India
ORGANIZER:ieee.fbc@socet.edu.in
SEQUENCE:2
SUMMARY:Paperback Pals Grand Opening &amp; BOOK REVIEW
URL;VALUE=URI:https://events.vtools.ieee.org/m/355140
X-ALT-DESC:Description: &lt;br /&gt;&lt;p&gt;Hello wonderful readers\,&lt;br /&gt;We are deli
 ghted to announce that we have selected Viktor Frankl&amp;rsquo\;s renowned &amp;l
 dquo\;Man&#39;s Search for Meaning&amp;rdquo\; for the Grand Opening of Paperback 
 Pals club and its review session of March 2023.&amp;nbsp\;&lt;/p&gt;\n&lt;p&gt;This book i
 s a harrowing experience of Frankl&amp;rsquo\;s time as a prisoner in a Nazi c
 oncentration camp and his subsequent development of a new form of therapy\
 , called logotherapy.&lt;/p&gt;\n&lt;p&gt;You are all encouraged to read the book and 
 join us for this thrilling and engaging discussion. This book provides a r
 eally powerful experience and we hope that it will be a very fun and infor
 mative experience for all of you.&lt;/p&gt;\n&lt;p&gt;Make sure you don&#39;t miss the ses
 sion and be sure to attend it.&lt;/p&gt;\n&lt;p&gt;&amp;nbsp\;EVENT DETAILS:&lt;br /&gt;Date: 31
 st March\, 2023&lt;/p&gt;\n&lt;p&gt;Time: 10:30 AM IST Onwards&lt;br /&gt;Venue: B-120\, App
 le Lab\, B-Block\, Silver Oak University&lt;/p&gt;\n&lt;p&gt;Till then\, hoping for yo
 ur good well being and all the best for your reading journey.&lt;/p&gt;\n&lt;p&gt;Happ
 y Reading!!&lt;/p&gt;
END:VEVENT
END:VCALENDAR

