BEGIN:VCALENDAR
VERSION:2.0
PRODID:IEEE vTools.Events//EN
CALSCALE:GREGORIAN
BEGIN:VTIMEZONE
TZID:America/New_York
BEGIN:DAYLIGHT
DTSTART:20230312T030000
TZOFFSETFROM:-0500
TZOFFSETTO:-0400
RRULE:FREQ=YEARLY;BYDAY=2SU;BYMONTH=3
TZNAME:EDT
END:DAYLIGHT
BEGIN:STANDARD
DTSTART:20231105T010000
TZOFFSETFROM:-0400
TZOFFSETTO:-0500
RRULE:FREQ=YEARLY;BYDAY=1SU;BYMONTH=11
TZNAME:EST
END:STANDARD
END:VTIMEZONE
BEGIN:VEVENT
DTSTAMP:20230330T140836Z
UID:4F174AC9-8435-4A00-A192-A375F618E098
DTSTART;TZID=America/New_York:20230321T100000
DTEND;TZID=America/New_York:20230321T110000
DESCRIPTION:This technical presentation was to describe the function of lin
 e reclosers and sectionalizers and how they are used throughout a utilitie
 s distribution system to locate and isolate faults and to minimimize custo
 mer outage durations.\n\nCo-sponsored by: Larry Durante\n\nSpeaker(s): Mar
 k Carella\, \n\nAgenda: \nTo present the technical presentation.\n\nAsk qu
 estions to engage participation\n\nAnd to get PDH credits for PE licenses\
 n\nVirtual: https://events.vtools.ieee.org/m/355207
LOCATION:Virtual: https://events.vtools.ieee.org/m/355207
ORGANIZER:frederick.constance@nationalgrid.com
SEQUENCE:2
SUMMARY:Distribution &amp; Sub-T Line Recloser Applications
URL;VALUE=URI:https://events.vtools.ieee.org/m/355207
X-ALT-DESC:Description: &lt;br /&gt;&lt;p&gt;This technical presentation was to describ
 e the function of line reclosers and sectionalizers and how they are used 
 throughout a utilities distribution system to locate and isolate faults an
 d to minimimize customer outage durations.&lt;/p&gt;&lt;br /&gt;&lt;br /&gt;Agenda: &lt;br /&gt;&lt;p
 &gt;To present the technical presentation.&lt;/p&gt;\n&lt;p&gt;Ask questions to engage pa
 rticipation&lt;/p&gt;\n&lt;p&gt;And to get PDH credits for PE licenses&lt;/p&gt;
END:VEVENT
END:VCALENDAR

