BEGIN:VCALENDAR
VERSION:2.0
PRODID:IEEE vTools.Events//EN
CALSCALE:GREGORIAN
BEGIN:VTIMEZONE
TZID:Asia/Kolkata
BEGIN:STANDARD
DTSTART:19451014T230000
TZOFFSETFROM:+0630
TZOFFSETTO:+0530
TZNAME:IST
END:STANDARD
END:VTIMEZONE
BEGIN:VEVENT
DTSTAMP:20230331T094517Z
UID:5F7FE746-FB2F-4358-99FD-23D37062234A
DTSTART;TZID=Asia/Kolkata:20230222T100000
DTEND;TZID=Asia/Kolkata:20230222T110000
DESCRIPTION:A talk was conducted by IEEE GRSS CEPT University Student Branc
 h for the students on opportunities in the geospatial domain by Mr Ujaval 
 Gandhi\, Founder of Spatial Thoughts. An experienced person in the geospat
 ial domain\, Mr Gandhi gave the students an insight into the market demand
 s and the skills necessary to thrive as a professional in the geospatial d
 omain.\n\nAgenda: \nInsights on the opportunities and the skills required 
 for professionals in the geospatial domain.\n\nCEPT University\, Kasturbha
 i Lalbhai Campus\, University Rd\, Navrangpura\, Ahmedabad\, Gujarat\, Ahm
 edabad\, Gujarat\, India\, 380009
LOCATION:CEPT University\, Kasturbhai Lalbhai Campus\, University Rd\, Navr
 angpura\, Ahmedabad\, Gujarat\, Ahmedabad\, Gujarat\, India\, 380009
ORGANIZER:vasudha.pge22386@cept.ac.in
SEQUENCE:2
SUMMARY:Opportunities in Geospatial Domain
URL;VALUE=URI:https://events.vtools.ieee.org/m/355462
X-ALT-DESC:Description: &lt;br /&gt;&lt;p&gt;A talk was conducted by IEEE GRSS CEPT Uni
 versity Student Branch for the students on opportunities in the geospatial
  domain by Mr Ujaval Gandhi\, Founder of Spatial Thoughts. An experienced 
 person in the geospatial domain\, Mr Gandhi gave the students an insight i
 nto the market demands and the skills necessary to thrive as a professiona
 l in the geospatial domain.&amp;nbsp\;&lt;/p&gt;&lt;br /&gt;&lt;br /&gt;Agenda: &lt;br /&gt;&lt;p&gt;Insight
 s on the opportunities and the skills required for&amp;nbsp\; professionals in
  the geospatial domain.&lt;/p&gt;
END:VEVENT
END:VCALENDAR

