BEGIN:VCALENDAR
VERSION:2.0
PRODID:IEEE vTools.Events//EN
CALSCALE:GREGORIAN
BEGIN:VTIMEZONE
TZID:America/Los_Angeles
BEGIN:DAYLIGHT
DTSTART:20230312T030000
TZOFFSETFROM:-0800
TZOFFSETTO:-0700
RRULE:FREQ=YEARLY;BYDAY=2SU;BYMONTH=3
TZNAME:PDT
END:DAYLIGHT
BEGIN:STANDARD
DTSTART:20231105T010000
TZOFFSETFROM:-0700
TZOFFSETTO:-0800
RRULE:FREQ=YEARLY;BYDAY=1SU;BYMONTH=11
TZNAME:PST
END:STANDARD
END:VTIMEZONE
BEGIN:VEVENT
DTSTAMP:20230407T182430Z
UID:99DD3F84-F68D-428E-8F2B-2E8A5C590778
DTSTART;TZID=America/Los_Angeles:20230406T190000
DTEND;TZID=America/Los_Angeles:20230406T200000
DESCRIPTION:Knowing your own\, and others’\, communication style is one o
 f the most important aspects in building trust\, influencing\, and managin
 g people. Each communication style has its own strengths and drawbacks and
  it’s important for you to know what they are so you can leverage people
 s’ strengths and fill-in where there are gaps. You will identify your pe
 rsonal style and learn how to recognize other styles in order to adapt you
 r style to theirs. Great managers demonstrate flexibility to get the best 
 results.\n\nSpeaker(s): Jill Podolsky\, \n\nVirtual: https://events.vtools
 .ieee.org/m/355810
LOCATION:Virtual: https://events.vtools.ieee.org/m/355810
ORGANIZER:edcheng@ieee.org
SEQUENCE:2
SUMMARY:Know Your Communication Style
URL;VALUE=URI:https://events.vtools.ieee.org/m/355810
X-ALT-DESC:Description: &lt;br /&gt;&lt;p&gt;Knowing your own\, and others&amp;rsquo\;\, co
 mmunication style is one of the most important aspects in building trust\,
  influencing\, and managing people. Each communication style has its own s
 trengths and drawbacks and it&amp;rsquo\;s important for you to know what they
  are so you can leverage peoples&amp;rsquo\; strengths and fill-in where there
  are gaps. You will identify your personal style and learn how to recogniz
 e other styles in order to adapt your style to theirs. Great managers demo
 nstrate flexibility to get the best results.&lt;/p&gt;
END:VEVENT
END:VCALENDAR

