BEGIN:VCALENDAR
VERSION:2.0
PRODID:IEEE vTools.Events//EN
CALSCALE:GREGORIAN
BEGIN:VTIMEZONE
TZID:America/Los_Angeles
BEGIN:DAYLIGHT
DTSTART:20230312T030000
TZOFFSETFROM:-0800
TZOFFSETTO:-0700
RRULE:FREQ=YEARLY;BYDAY=2SU;BYMONTH=3
TZNAME:PDT
END:DAYLIGHT
BEGIN:STANDARD
DTSTART:20231105T010000
TZOFFSETFROM:-0700
TZOFFSETTO:-0800
RRULE:FREQ=YEARLY;BYDAY=1SU;BYMONTH=11
TZNAME:PST
END:STANDARD
END:VTIMEZONE
BEGIN:VEVENT
DTSTAMP:20230511T004639Z
UID:E8273C09-A0CF-4FDC-AF57-14954F494AF4
DTSTART;TZID=America/Los_Angeles:20230509T190000
DTEND;TZID=America/Los_Angeles:20230509T200000
DESCRIPTION:AI provides extraordinary opportunities to businesses\, but als
 o ex·ceedingly responsibility. Its direct impact on people’s lives in o
 ur society has elevated considerable questions around AI ethics\, data gov
 ernance\, trust and legality. In this meeting Kay Firth-Butterfield talks 
 about responsible AI and framework of that.\n\n[Image] [Image result for i
 eee computer society logo] [Image result for csudh]\n\nCo-sponsored by: Dr
 . Mehrdad Sharbaf IEEE CLAS Computer Society Chair\, Adjunct Professor CSU
 DH\n\nAgenda: \nPlease Join us for The IEEE CLAS Computer Society Chapter 
 Meeting on May 9.\n\nWelcome Message Time: 7:00 pm\n\nDr. Mehrdad S. Sharb
 af\, IEEE Coastal Los Angeles Computer Society- Chair\, Adjunct Professor 
 CSUDH\n\n[Linkedin](https://www.linkedin.com/in/mehrdad-sharbaf-30a23214)\
 n\n[Dr. Mehrdad Sharbaf - SecureTheVillage]\n\nDistinguished Guest Speaker
  Kay Firth-Butterfield\, Executive Director Centre for Trustworthy Technol
 ogy\, a World Economic Forum Centre for the Fourth Industrial Revolution\,
  7:05 pm\n\n[LinkedIn](https://www.linkedin.com/in/kay-firth-butterfield/)
 \n\n[Kay Firth-Butterfield]\n\nVirtual: https://events.vtools.ieee.org/m/3
 55840
LOCATION:Virtual: https://events.vtools.ieee.org/m/355840
ORGANIZER:msharbaf@csudh.edu
SEQUENCE:7
SUMMARY:Responsible AI? What now?
URL;VALUE=URI:https://events.vtools.ieee.org/m/355840
X-ALT-DESC:Description: &lt;br /&gt;&lt;p&gt;&lt;strong&gt;AI provides extraordinary opportun
 ities to businesses\, but also ex&amp;middot\;ceedingly responsibility. Its di
 rect impact on people&amp;rsquo\;s lives in our society has elevated considera
 ble questions around AI ethics\, data governance\, trust and legality. In 
 this meeting Kay Firth-Butterfield talks about responsible AI and framewor
 k of that.&lt;/strong&gt;&lt;/p&gt;\n&lt;p&gt;&amp;nbsp\;&lt;/p&gt;\n&lt;p&gt;&lt;img src=&quot;https://webinabox.vt
 ools.ieee.org/wibp_home/image/335&quot; alt=&quot;Image&quot; width=&quot;216&quot; height=&quot;109&quot; /&gt;
  &amp;nbsp\;&lt;img src=&quot;http://ieeetcca.org/wp-content/uploads/2017/06/Computer-
 Society-Logo.jpeg&quot; alt=&quot;Image result for ieee computer society logo&quot; width
 =&quot;205&quot; height=&quot;96&quot; /&gt; &amp;nbsp\;&lt;img src=&quot;https://yt3.ggpht.com/a-/AN66SAxySG
 vXswjK9kDV0UclXUZAV2o3FIpg4HqaFQ=s900-mo-c-c0xffffffff-rj-k-no&quot; alt=&quot;Image
  result for csudh&quot; width=&quot;116&quot; height=&quot;116&quot; /&gt;&lt;/p&gt;&lt;br /&gt;&lt;br /&gt;Agenda: &lt;br 
 /&gt;&lt;p&gt;&lt;strong&gt;&lt;em&gt;Please Join us for The IEEE CLAS Computer Society Chapter
  Meeting on May 9.&lt;/em&gt;&lt;/strong&gt;&lt;/p&gt;\n&lt;p&gt;&amp;nbsp\;&lt;strong&gt;Welcome Message Ti
 me: 7:00 pm&lt;/strong&gt;&lt;/p&gt;\n&lt;p&gt;&lt;strong&gt;&amp;nbsp\;&lt;/strong&gt;&lt;em&gt;&lt;strong&gt;Dr. Mehrd
 ad S. Sharbaf\,&lt;/strong&gt;&amp;nbsp\;&lt;strong&gt;IEEE Coastal Los Angeles Computer S
 ociety- Chair\,&lt;/strong&gt;&amp;nbsp\;&amp;nbsp\;&lt;strong&gt;Adjunct Professor CSUDH&lt;/str
 ong&gt;&lt;/em&gt;&lt;/p&gt;\n&lt;p&gt;&lt;strong&gt;&lt;em&gt;&amp;nbsp\;&lt;a href=&quot;https://www.linkedin.com/in/
 mehrdad-sharbaf-30a23214&quot;&gt;Linkedin&lt;/a&gt;&lt;/em&gt;&lt;/strong&gt;&lt;/p&gt;\n&lt;p&gt;&lt;strong&gt;&lt;em&gt;&lt;
 img src=&quot;https://securethevillage.org/wp-content/uploads/photo-180x180.jpg
 &quot; alt=&quot;Dr. Mehrdad Sharbaf - SecureTheVillage&quot; /&gt;&lt;/em&gt;&lt;/strong&gt;&lt;/p&gt;\n&lt;p&gt;&lt;s
 trong&gt;&lt;em&gt;Distinguished Guest Speaker Kay Firth-Butterfield\, Executive Di
 rector Centre for Trustworthy Technology\, a World Economic Forum Centre f
 or the Fourth Industrial Revolution\, 7:05 pm&lt;/em&gt;&lt;/strong&gt;&lt;/p&gt;\n&lt;p&gt;&lt;stron
 g&gt;&lt;em&gt;&lt;a href=&quot;https://www.linkedin.com/in/kay-firth-butterfield/&quot; target=
 &quot;_blank&quot; rel=&quot;noopener&quot;&gt;LinkedIn&lt;/a&gt;&lt;/em&gt;&lt;/strong&gt;&lt;/p&gt;\n&lt;p&gt;&lt;strong&gt;&lt;em&gt;&lt;im
 g src=&quot;https://media.licdn.com/dms/image/C5603AQFnQq-1JsRHUQ/profile-displ
 ayphoto-shrink_200_200/0/1623248292230?e=1686182400&amp;amp\;v=beta&amp;amp\;t=y7T
 SkE28Ac7clnOn2_Wlghs6z_85yG16ti1QP51FrCk&quot; alt=&quot;Kay Firth-Butterfield&quot; widt
 h=&quot;177&quot; height=&quot;177&quot; /&gt;&lt;/em&gt;&lt;/strong&gt;&lt;/p&gt;\n&lt;p&gt;&amp;nbsp\;&lt;/p&gt;
END:VEVENT
END:VCALENDAR

