BEGIN:VCALENDAR
VERSION:2.0
PRODID:IEEE vTools.Events//EN
CALSCALE:GREGORIAN
BEGIN:VTIMEZONE
TZID:America/Los_Angeles
BEGIN:DAYLIGHT
DTSTART:20230312T030000
TZOFFSETFROM:-0800
TZOFFSETTO:-0700
RRULE:FREQ=YEARLY;BYDAY=2SU;BYMONTH=3
TZNAME:PDT
END:DAYLIGHT
BEGIN:STANDARD
DTSTART:20231105T010000
TZOFFSETFROM:-0700
TZOFFSETTO:-0800
RRULE:FREQ=YEARLY;BYDAY=1SU;BYMONTH=11
TZNAME:PST
END:STANDARD
END:VTIMEZONE
BEGIN:VEVENT
DTSTAMP:20230415T203951Z
UID:8A84D572-ED2B-451E-B2ED-64A7EE6F5DD7
DTSTART;TZID=America/Los_Angeles:20230415T100000
DTEND;TZID=America/Los_Angeles:20230415T110000
DESCRIPTION:Speaker: Carl Zanon\n\nRegistration is optional\, but we want t
 o know who to expect.\n10:00 AM P.D.T. You can log in at 9:45 AM (12:45 PM
  Montreal) to check connection and say hello.\nAll IEEE members are welcom
 e\, especially those Life Members that don&#39;t have a local Affinity Group.\
 n\nWe are looking for speakers for the rest of the year\, contact Carl Zan
 on &lt;sczanon@shaw.ca&gt; if interested.\n\nSpeaker(s): Carl Zanon\, \n\nAgenda
 : \n9:45 AM Zoom opens\n10:00 AM Welcome and speaker introduction\n10:05 A
 M Speaker\n\nVirtual: https://events.vtools.ieee.org/m/355955
LOCATION:Virtual: https://events.vtools.ieee.org/m/355955
ORGANIZER:cguelke@telus.net
SEQUENCE:2
SUMMARY:Vancouver TALK 15: Coronation of Queen Elizabeth II in 1953 – Ref
 lections of a Life Member
URL;VALUE=URI:https://events.vtools.ieee.org/m/355955
X-ALT-DESC:Description: &lt;br /&gt;&lt;p&gt;Speaker: Carl Zanon&amp;nbsp\;&lt;/p&gt;\n&lt;p&gt;Registr
 ation is optional\, but we want to know who to expect.&lt;br /&gt;&lt;strong&gt;10:00 
 AM P.D.T. You can log in at 9:45 AM (12:45 PM Montreal) to check connectio
 n and say hello.&lt;br /&gt;&lt;/strong&gt;All IEEE members are welcome\, especially t
 hose Life Members that don&#39;t have a local Affinity Group.&lt;strong&gt;&lt;br /&gt;&lt;/s
 trong&gt;&lt;/p&gt;\n&lt;p&gt;We are looking for speakers for the rest of the year\, cont
 act Carl Zanon &amp;lt\;sczanon@shaw.ca&amp;gt\; if interested.&lt;/p&gt;&lt;br /&gt;&lt;br /&gt;Age
 nda: &lt;br /&gt;&lt;p&gt;9:45 AM Zoom opens&lt;br /&gt;10:00 AM Welcome and speaker introdu
 ction&lt;br /&gt;10:05 AM Speaker&lt;/p&gt;\n&lt;p&gt;&amp;nbsp\;&lt;/p&gt;
END:VEVENT
END:VCALENDAR

