BEGIN:VCALENDAR
VERSION:2.0
PRODID:IEEE vTools.Events//EN
CALSCALE:GREGORIAN
BEGIN:VTIMEZONE
TZID:America/New_York
BEGIN:DAYLIGHT
DTSTART:20230312T030000
TZOFFSETFROM:-0500
TZOFFSETTO:-0400
RRULE:FREQ=YEARLY;BYDAY=2SU;BYMONTH=3
TZNAME:EDT
END:DAYLIGHT
BEGIN:STANDARD
DTSTART:20231105T010000
TZOFFSETFROM:-0400
TZOFFSETTO:-0500
RRULE:FREQ=YEARLY;BYDAY=1SU;BYMONTH=11
TZNAME:EST
END:STANDARD
END:VTIMEZONE
BEGIN:VEVENT
DTSTAMP:20230408T212105Z
UID:19BEB559-2A38-4565-BAB6-324373BDD132
DTSTART;TZID=America/New_York:20230408T100000
DTEND;TZID=America/New_York:20230408T123000
DESCRIPTION:Tween robotics workshop.\n\nCo-sponsored by: Essex Library\n\nE
 ssex\, Connecticut\, United States
LOCATION:Essex\, Connecticut\, United States
ORGANIZER:p.kootsookos@ieee.org
SEQUENCE:2
SUMMARY:Tween robotics workshop.
URL;VALUE=URI:https://events.vtools.ieee.org/m/355999
X-ALT-DESC:Description: &lt;br /&gt;&lt;p&gt;Tween robotics workshop.&lt;/p&gt;
END:VEVENT
END:VCALENDAR

