BEGIN:VCALENDAR
VERSION:2.0
PRODID:IEEE vTools.Events//EN
CALSCALE:GREGORIAN
BEGIN:VTIMEZONE
TZID:US/Michigan
BEGIN:DAYLIGHT
DTSTART:20230312T030000
TZOFFSETFROM:-0500
TZOFFSETTO:-0400
RRULE:FREQ=YEARLY;BYDAY=2SU;BYMONTH=3
TZNAME:EDT
END:DAYLIGHT
BEGIN:STANDARD
DTSTART:20231105T010000
TZOFFSETFROM:-0400
TZOFFSETTO:-0500
RRULE:FREQ=YEARLY;BYDAY=1SU;BYMONTH=11
TZNAME:EST
END:STANDARD
END:VTIMEZONE
BEGIN:VEVENT
DTSTAMP:20240715T114718Z
UID:3876141F-26AF-4775-8579-2F799E8D2C76
DTSTART;TZID=US/Michigan:20230427T173000
DTEND;TZID=US/Michigan:20230427T193000
DESCRIPTION:Southeastern Michigan IEEE EMC Chapter technical meeting.\n\nEv
 ent YouTube/Zoom Video: https://youtu.be/m8r9zLFG2kI\nEducational series u
 sing Altair Feko: https://youtube.com/playlist?list=PLQ7KUGFuVz4vAcW-_8KMt
 Pzu1b8b8kBRn\n\nSAE CISPR Paper: https://www.emcsociety.org/wp-content/upl
 oads/2023/04/Altair_SAE_WCX2020_2020-01-1371.pdf\n\nZoom link: https://us0
 2web.zoom.us/j/82921221917?pwd=c0xEeWg4a25hK0hTR0RIZkMwbmZjdz09\n\nSpeaker
 (s): Fletcher Turner\, \n\nAgenda: \n5:30 Networking and Zoom setup\n\n6:0
 0 Presentation\n\n7:30 End\n\nVirtual: https://events.vtools.ieee.org/m/35
 6047
LOCATION:Virtual: https://events.vtools.ieee.org/m/356047
ORGANIZER:scott@emcsociety.org
SEQUENCE:21
SUMMARY:Modeling an EMC Issue **NEW DATE**
URL;VALUE=URI:https://events.vtools.ieee.org/m/356047
X-ALT-DESC:Description: &lt;br /&gt;&lt;p&gt;Southeastern Michigan IEEE EMC Chapter tec
 hnical meeting.&lt;/p&gt;\n&lt;p&gt;&lt;strong&gt;Event YouTube/Zoom&amp;nbsp\; Video:&lt;/strong&gt; 
 &lt;a href=&quot;https://youtu.be/m8r9zLFG2kI&quot;&gt;https://youtu.be/m8r9zLFG2kI&lt;/a&gt;&lt;/p
 &gt;\n&lt;div&gt;&lt;strong&gt;Educational series using Altair Feko:&lt;/strong&gt;&amp;nbsp\;&amp;nbsp
 \;&lt;a id=&quot;m_6789272369736449516LPNoLPOWALinkPreview&quot; href=&quot;https://youtube.
 com/playlist?list=PLQ7KUGFuVz4vAcW-_8KMtPzu1b8b8kBRn&quot; target=&quot;_blank&quot; rel=
 &quot;noopener&quot; data-saferedirecturl=&quot;https://www.google.com/url?q=https://yout
 ube.com/playlist?list%3DPLQ7KUGFuVz4vAcW-_8KMtPzu1b8b8kBRn&amp;amp\;source=gma
 il&amp;amp\;ust=1682785901763000&amp;amp\;usg=AOvVaw15E2_wsl324AFEqR9x6npU&quot;&gt;https:
 //youtube.com/playlist?&lt;wbr&gt;list=PLQ7KUGFuVz4vAcW-_&lt;wbr&gt;8KMtPzu1b8b8kBRn&lt;/
 a&gt;&lt;/div&gt;\n&lt;div&gt;&amp;nbsp\;&lt;/div&gt;\n&lt;div&gt;&lt;strong&gt;SAE CISPR Paper: &lt;/strong&gt;&lt;a hr
 ef=&quot;https://www.emcsociety.org/wp-content/uploads/2023/04/Altair_SAE_WCX20
 20_2020-01-1371.pdf&quot;&gt;https://www.emcsociety.org/wp-content/uploads/2023/04
 /Altair_SAE_WCX2020_2020-01-1371.pdf&lt;/a&gt;&lt;/div&gt;\n&lt;div&gt;&amp;nbsp\;&lt;/div&gt;\n&lt;p&gt;&lt;st
 rong&gt;Zoom link:&amp;nbsp\; &amp;nbsp\;&lt;/strong&gt;&lt;a href=&quot;https://us02web.zoom.us/j/
 82921221917?pwd=c0xEeWg4a25hK0hTR0RIZkMwbmZjdz09&quot;&gt;https://us02web.zoom.us/
 j/82921221917?pwd=c0xEeWg4a25hK0hTR0RIZkMwbmZjdz09&lt;/a&gt;&lt;/p&gt;\n&lt;p&gt;&amp;nbsp\;&lt;/p&gt;
 \n&lt;p&gt;&amp;nbsp\;&lt;/p&gt;\n&lt;p&gt;&amp;nbsp\;&lt;/p&gt;&lt;br /&gt;&lt;br /&gt;Agenda: &lt;br /&gt;&lt;p&gt;5:30&amp;nbsp\; N
 etworking and Zoom setup&lt;/p&gt;\n&lt;p&gt;6:00 Presentation&lt;/p&gt;\n&lt;p&gt;7:30 End&lt;/p&gt;
END:VEVENT
END:VCALENDAR

