BEGIN:VCALENDAR
VERSION:2.0
PRODID:IEEE vTools.Events//EN
CALSCALE:GREGORIAN
BEGIN:VTIMEZONE
TZID:America/Los_Angeles
BEGIN:DAYLIGHT
DTSTART:20230312T030000
TZOFFSETFROM:-0800
TZOFFSETTO:-0700
RRULE:FREQ=YEARLY;BYDAY=2SU;BYMONTH=3
TZNAME:PDT
END:DAYLIGHT
BEGIN:STANDARD
DTSTART:20231105T010000
TZOFFSETFROM:-0700
TZOFFSETTO:-0800
RRULE:FREQ=YEARLY;BYDAY=1SU;BYMONTH=11
TZNAME:PST
END:STANDARD
END:VTIMEZONE
BEGIN:VEVENT
DTSTAMP:20230426T052625Z
UID:2911C5F3-A4CF-4672-B2B2-17665667A1D3
DTSTART;TZID=America/Los_Angeles:20230411T180000
DTEND;TZID=America/Los_Angeles:20230411T190000
DESCRIPTION:The Seattle area has a long history of innovation in ultrasound
  products and technologies. In this talk Kendall R. Waters will highlight 
 selected medical ultrasound developments past and present and take a peek 
 at future opportunities.\n\n- Past: Seattle-area innovators have made cont
 ributions to medical ultrasound for many decades.\n- Present: Recent advan
 ces span a wide range of technologies\, including materials and process en
 gineering\, imaging algorithms\, and hardware architectures.\n- Future: Me
 dical ultrasound is expected to leverage core and adjacent technologies to
  expand the types of users as well as types of clinical applications.\n\nC
 o-sponsored by: Seattle University Student Chapter\n\nSpeaker(s): Kendall 
 Waters\n\nAgenda: \nAgenda:\n\n- 5.30 PM to 6.00 PM - Networking Event wit
 h the speaker and IEEE members.\n- 6.00 PM to 6.45 PM - Tech Talk and Ques
 tion Hour.\n\nRoom: Student Center\, Room # 130\, Seattle University\, 901
  12th Ave\, Seattle\, WA 98122\, Seattle\, Washington\, United States\, 98
 122\, Virtual: https://events.vtools.ieee.org/m/356078
LOCATION:Room: Student Center\, Room # 130\, Seattle University\, 901 12th 
 Ave\, Seattle\, WA 98122\, Seattle\, Washington\, United States\, 98122\, 
 Virtual: https://events.vtools.ieee.org/m/356078
ORGANIZER:dfischer@ieee.org
SEQUENCE:16
SUMMARY:IEEE Tech Talk - Seattle Ultrasounders: Past\, Present\, and Future
URL;VALUE=URI:https://events.vtools.ieee.org/m/356078
X-ALT-DESC:Description: &lt;br /&gt;&lt;p style=&quot;font-weight: 400\;&quot;&gt;The Seattle are
 a has a long history of innovation in ultrasound products and technologies
 . In this talk Kendall R. Waters will highlight selected medical ultrasoun
 d developments past and present and take a peek at future opportunities.&lt;/
 p&gt;\n&lt;ul&gt;\n&lt;li&gt;Past: Seattle-area innovators have made contributions to med
 ical ultrasound for many decades.&lt;/li&gt;\n&lt;li&gt;Present: Recent advances span 
 a wide range of technologies\, including materials and process engineering
 \, imaging algorithms\, and hardware architectures.&lt;/li&gt;\n&lt;li&gt;Future: Medi
 cal ultrasound is expected to leverage core and adjacent technologies to e
 xpand the types of users as well as types of clinical applications.&lt;/li&gt;\n
 &lt;/ul&gt;&lt;br /&gt;&lt;br /&gt;Agenda: &lt;br /&gt;&lt;p&gt;Agenda:&lt;/p&gt;\n&lt;ol&gt;\n&lt;li&gt;5.30 PM to 6.00 P
 M - Networking Event with the speaker and IEEE members.&lt;/li&gt;\n&lt;li&gt;6.00 PM 
 to&amp;nbsp\; 6.45 PM - Tech Talk and Question Hour.&lt;/li&gt;\n&lt;/ol&gt;
END:VEVENT
END:VCALENDAR

