BEGIN:VCALENDAR
VERSION:2.0
PRODID:IEEE vTools.Events//EN
CALSCALE:GREGORIAN
BEGIN:VTIMEZONE
TZID:Africa/Cairo
BEGIN:DAYLIGHT
DTSTART:20230428T010000
TZOFFSETFROM:+0200
TZOFFSETTO:+0300
RRULE:FREQ=YEARLY;BYDAY=-1FR;BYMONTH=4
TZNAME:EEST
END:DAYLIGHT
BEGIN:STANDARD
DTSTART:20140925T230000
TZOFFSETFROM:+0300
TZOFFSETTO:+0200
RRULE:FREQ=YEARLY;BYDAY=-1TH;BYMONTH=9
TZNAME:EET
END:STANDARD
END:VTIMEZONE
BEGIN:VEVENT
DTSTAMP:20230425T103433Z
UID:740C87C6-B508-4206-AC87-8B9E7B88B6A7
DTSTART;TZID=Africa/Cairo:20230405T200000
DTEND;TZID=Africa/Cairo:20230405T213000
DESCRIPTION:Have you ever thought how all these extensions on Chrom web sto
 re are made? Where do they come from?\n\nHave you got stuck with a problem
  during a task or more and thought like I wish I have an extension that so
 lves me this problem?\n\nYou are then in the right place\n\nJoin us tomorr
 ow\, Wednesday April 5\, 2023\, at 10 PM\, Beirut time\, for an interactiv
 e session to learn how to build your own chrom extension\, where our speak
 er\, Mahmoud Mahsoun\, will build infront of you an extension that summari
 zes a text just after highlighting it.\n\nAbout our speaker\, Mahmoud is s
 oftware engineer and founder of Lebancode! He is also an organizer at Goog
 le Developer Groups - Coast Lebanon and Google Developer Student Clubs. He
  is an experienced speaker with multiple sessions hosted on GDG Mena Digit
 al Days.\n\nTo reserve your spot\, don&#39;t forget to register at https://gds
 c.community.dev/e/mn2a38/\, or scan the Qr code at the post.\n\nSpeaker(s)
 : Mahmoud Mahsoun\, \, \n\nVirtual: https://events.vtools.ieee.org/m/35614
 9
LOCATION:Virtual: https://events.vtools.ieee.org/m/356149
ORGANIZER:zaynabatwi.143@gmail.com
SEQUENCE:3
SUMMARY:Build your own AI-powered Chrome Extension for Summarizing Text
URL;VALUE=URI:https://events.vtools.ieee.org/m/356149
X-ALT-DESC:Description: &lt;br /&gt;&lt;p&gt;Have you ever thought how all these extens
 ions on Chrom web store are made? Where do they come from?&lt;/p&gt;\n&lt;p&gt;Have yo
 u got stuck with a problem during a task or more and thought like I wish I
  have an extension that solves me this problem?&lt;/p&gt;\n&lt;p&gt;You are then in th
 e right place&lt;/p&gt;\n&lt;p&gt;Join us tomorrow\, Wednesday April 5\, 2023\, at 10 
 PM\, Beirut time\, for an interactive session to learn how to build your o
 wn chrom extension\, where our speaker\, Mahmoud Mahsoun\, will build infr
 ont of you an extension that summarizes a text just after highlighting it.
 &lt;/p&gt;\n&lt;p&gt;About our speaker\, Mahmoud is software engineer and founder of L
 ebancode! He is also an organizer at Google Developer Groups - Coast Leban
 on and Google Developer Student Clubs. He is an experienced speaker with m
 ultiple sessions hosted on GDG Mena Digital Days.&lt;/p&gt;\n&lt;p&gt;To reserve your 
 spot\, don&#39;t forget to register at https://gdsc.community.dev/e/mn2a38/\, 
 or scan the Qr code at the post.&lt;/p&gt;\n&lt;p&gt;&amp;nbsp\;&lt;/p&gt;
END:VEVENT
END:VCALENDAR

