BEGIN:VCALENDAR
VERSION:2.0
PRODID:IEEE vTools.Events//EN
CALSCALE:GREGORIAN
BEGIN:VTIMEZONE
TZID:America/Chicago
BEGIN:DAYLIGHT
DTSTART:20230312T030000
TZOFFSETFROM:-0600
TZOFFSETTO:-0500
RRULE:FREQ=YEARLY;BYDAY=2SU;BYMONTH=3
TZNAME:CDT
END:DAYLIGHT
BEGIN:STANDARD
DTSTART:20231105T010000
TZOFFSETFROM:-0500
TZOFFSETTO:-0600
RRULE:FREQ=YEARLY;BYDAY=1SU;BYMONTH=11
TZNAME:CST
END:STANDARD
END:VTIMEZONE
BEGIN:VEVENT
DTSTAMP:20230424T144546Z
UID:D8459C47-A033-4B9E-A97D-A42A1219A6DC
DTSTART;TZID=America/Chicago:20230419T120000
DTEND;TZID=America/Chicago:20230419T130000
DESCRIPTION:Fugro RAMMS (Rapid Airborne Multibeam Mapping System) is a cutt
 ing-edge technology developed jointly by Fugro and Arete Associates. It is
  a lightweight and easily mobilized airborne lidar bathymetric (ALB) syste
 m that is designed to provide high-quality coastal and nearshore bathymetr
 ic data sets. This data supports hydrographic and coastal resilience by pr
 oviding detailed information on the underwater topography and other featur
 es that are essential for maritime operations and coastal engineering.\n\n
 This presentation will delve into the basics of how Fugro RAMMS works\, in
 cluding the signal processing and machine learning concepts that are used 
 to extract information from the data collected by the system. Fugro RAMMS 
 uses advanced lidar technology to measure the distance between the aircraf
 t and the water surface\, as well as the depth of the water and the featur
 es on the seabed.\n\nSpeaker(s): Carl Sonnier\, \n\nAgenda: \nPresentation
 /Lunch to take place at Alesi Pizza House in Lafayette\, LA. Cost is $25 (
 includes drink\, tax\, and gratuity) and is payable online while registeri
 ng or on site via cash/check only. Please register by April 19\, 2023 at 9
 :00 AM to let us know you will be attending.\n\n12:00 - 1:00 pm - Lunch an
 d Presentation\n\nAlesi Pizza House is located at 4110 Johnston St\, Lafay
 ette\, LA 70503\n\nMenu selection:\n\nItalian Antipasto Salad\n\n10&quot; Pizza
 \n\nChicken Fettuccini\n\nSpaghetti and Meat Ball\n\nManicotti Stuffed wit
 h Cheese\n\nSeafood Manicotti with Shrimp\, Lobster\, &amp; Alfredo Sauce\n\nC
 annelloni Florentine Stuffed with Veal and Spinach\n\nBldg: Alesi Pizza Ho
 use\, 4110 Johnston St.\, Lafayette\, Louisiana\, United States\, 70503
LOCATION:Bldg: Alesi Pizza House\, 4110 Johnston St.\, Lafayette\, Louisian
 a\, United States\, 70503
ORGANIZER:tbroussard@ieee.org
SEQUENCE:18
SUMMARY:Rapid Airborne Multibeam Mapping System (RAMMS) - Combining Advance
 d LiDAR Technology and Ocean Surveying
URL;VALUE=URI:https://events.vtools.ieee.org/m/356186
X-ALT-DESC:Description: &lt;br /&gt;&lt;p&gt;Fugro RAMMS (Rapid Airborne Multibeam Mapp
 ing System) is a cutting-edge technology developed jointly by Fugro and Ar
 ete Associates. It is a lightweight and easily mobilized airborne lidar ba
 thymetric (ALB) system that is designed to provide high-quality coastal an
 d nearshore bathymetric data sets. This data supports hydrographic and coa
 stal resilience by providing detailed information on the underwater topogr
 aphy and other features that are essential for maritime operations and coa
 stal engineering.&lt;/p&gt;\n&lt;p&gt;This presentation will delve into the basics of 
 how Fugro RAMMS works\, including the signal processing and machine learni
 ng concepts that are used to extract information from the data collected b
 y the system. Fugro RAMMS uses advanced lidar technology to measure the di
 stance between the aircraft and the water surface\, as well as the depth o
 f the water and the features on the seabed.&lt;/p&gt;&lt;br /&gt;&lt;br /&gt;Agenda: &lt;br /&gt;&lt;
 p&gt;&lt;em&gt;Presentation/Lunch to take place at Alesi Pizza House in Lafayette\,
  LA. Cost is $25 (includes drink\, tax\, and gratuity) and is &lt;span style=
 &quot;text-decoration: underline\;&quot;&gt;payable online while registering&lt;/span&gt; or 
 &lt;span style=&quot;text-decoration: underline\;&quot;&gt;on site via cash/check only&lt;/sp
 an&gt;.&amp;nbsp\; &lt;span style=&quot;color: #e03e2d\;&quot;&gt;Please register by April 19\, 2
 023 at 9:00 AM &lt;/span&gt;to let us know you will be attending.&lt;/em&gt;&lt;/p&gt;\n&lt;p&gt;1
 2:00 - 1:00 pm - Lunch and Presentation&lt;/p&gt;\n&lt;p&gt;Alesi Pizza House is locat
 ed at 4110 Johnston St\, Lafayette\, LA 70503&lt;/p&gt;\n&lt;p&gt;Menu selection:&lt;/p&gt;\
 n&lt;p&gt;Italian Antipasto Salad&lt;/p&gt;\n&lt;p&gt;10&quot; Pizza&amp;nbsp\;&lt;/p&gt;\n&lt;p&gt;Chicken Fettu
 ccini&lt;/p&gt;\n&lt;p&gt;Spaghetti and Meat Ball&lt;/p&gt;\n&lt;p&gt;Manicotti Stuffed with Chees
 e&lt;/p&gt;\n&lt;p&gt;Seafood Manicotti with Shrimp\, Lobster\, &amp;amp\; Alfredo Sauce&lt;/
 p&gt;\n&lt;p&gt;Cannelloni Florentine Stuffed with Veal and Spinach&lt;/p&gt;
END:VEVENT
END:VCALENDAR

