BEGIN:VCALENDAR
VERSION:2.0
PRODID:IEEE vTools.Events//EN
CALSCALE:GREGORIAN
BEGIN:VTIMEZONE
TZID:America/New_York
BEGIN:DAYLIGHT
DTSTART:20230312T030000
TZOFFSETFROM:-0500
TZOFFSETTO:-0400
RRULE:FREQ=YEARLY;BYDAY=2SU;BYMONTH=3
TZNAME:EDT
END:DAYLIGHT
BEGIN:STANDARD
DTSTART:20231105T010000
TZOFFSETFROM:-0400
TZOFFSETTO:-0500
RRULE:FREQ=YEARLY;BYDAY=1SU;BYMONTH=11
TZNAME:EST
END:STANDARD
END:VTIMEZONE
BEGIN:VEVENT
DTSTAMP:20230515T142047Z
UID:554AB731-E539-40D0-9893-4F352AFCD026
DTSTART;TZID=America/New_York:20230509T120000
DTEND;TZID=America/New_York:20230509T130000
DESCRIPTION:In this presentation you will learn more about women in enginee
 ring and computing. New opportunities and challenges are presented and the
 re will be plenty of time for networking and discussions with your fellow 
 IEEE members\, researchers\, and industry participants.\n\nCo-sponsored by
 : IEEE Maine Section and IEEE Region-1\n\nSpeaker(s): Giovanna Guidoboni\,
  \n\nBldg: Barrows Hall\, Arthur St. John Hill Auditorium\, Orono\, Maine\
 , United States\, 04469
LOCATION:Bldg: Barrows Hall\, Arthur St. John Hill Auditorium\, Orono\, Mai
 ne\, United States\, 04469
ORGANIZER:shahrzad@ieee.org
SEQUENCE:4
SUMMARY:Women in Engineering and Computing: Opportunities and challenges
URL;VALUE=URI:https://events.vtools.ieee.org/m/356302
X-ALT-DESC:Description: &lt;br /&gt;&lt;p&gt;&lt;span style=&quot;font-weight: 400\;&quot;&gt;In this p
 resentation you will learn more about women in engineering and computing. 
 New opportunities and challenges are presented and there will be plenty of
  time for networking and discussions with your fellow IEEE members\, resea
 rchers\, and industry participants.&lt;/span&gt;&lt;/p&gt;
END:VEVENT
END:VCALENDAR

