BEGIN:VCALENDAR
VERSION:2.0
PRODID:IEEE vTools.Events//EN
CALSCALE:GREGORIAN
BEGIN:VTIMEZONE
TZID:America/New_York
BEGIN:DAYLIGHT
DTSTART:20230312T030000
TZOFFSETFROM:-0500
TZOFFSETTO:-0400
RRULE:FREQ=YEARLY;BYDAY=2SU;BYMONTH=3
TZNAME:EDT
END:DAYLIGHT
BEGIN:STANDARD
DTSTART:20231105T010000
TZOFFSETFROM:-0400
TZOFFSETTO:-0500
RRULE:FREQ=YEARLY;BYDAY=1SU;BYMONTH=11
TZNAME:EST
END:STANDARD
END:VTIMEZONE
BEGIN:VEVENT
DTSTAMP:20230510T192951Z
UID:B6F7E83C-5230-4217-83D6-B2C487E503B7
DTSTART;TZID=America/New_York:20230510T110000
DTEND;TZID=America/New_York:20230510T120000
DESCRIPTION:More than 38% of global energy is consumed by industry\, and wi
 thin industry almost 70% of electricity is consumed by electric motors. Gi
 ven the huge energy cost associated with running these motors\, even a 1% 
 increase in operational efficiency will result in huge cost savings. Equip
 ment maintenance is key to optimal motor performance.\n\nIn general\, equi
 pment maintenance can be divided into two broad categories. In the first\,
  equipment is taken out of service on a regular schedule (Preventative Mai
 ntenance- PM) and in the second\, maintenance occurs when the equipment fa
 ils (Corrective Maintenance or &quot;run-to failure&quot;). One occurs too early\, t
 he other too late\; both are wasteful in terms of time and resources.\n\nA
  third option is Condition-Based Maintenance/Condition-Based Monitoring (C
 bM). This places sensors where they can detect subsystem trends or excursi
 ons from baseline performance to alert process owners about specific probl
 ems- before failures occur- allowing replacement parts to be on hand at a 
 conveniently planned repair time. The process owner is no longer replacing
  good parts on a scheduled maintenance plan\, nor is he or she in crisis h
 air-on-fire mode because the equipment failed unexpectedly.\n\nPlease join
  us as Richard Anslow\, System Applications Manager within the Industrial 
 Automation Business Unit at Analog Devices\, gives us a fascinating introd
 uction to CbM\, and how it can improve the availability and reduce costs o
 f systems that we support and work with!\n\nPresentation Overview:\n\nBack
 ground for CbM\n\n-\nWhat is CbM?\n\n-\nWhat are the benefits? What are th
 e limitations?\n\n-\nReal life examples.\n\n-\nHow do I spot faults from F
 FT signatures of a motor?\n\nInsights from Different CbM Sensor technologi
 es\n\n-\nVibration\n\n-\nTemperature\n\n-\nMagnetic\n\nSensor types and Ma
 rket outlook\n\n-\nMarket outlook for wired and wireless sensors\n\n-\nWir
 eless sensor examples\n\n-\nWired sensor examples\n\n-\nCloud and Edge Art
 ificial Intelligence\n\nSpeaker(s): Richard Anslow\, \n\nAgenda: \n11:00 A
 M Technical Presentation\n\n11:45 AM Questions and Answers\n\n12:00 PM Adj
 ournment\n\nVirtual: https://events.vtools.ieee.org/m/356460
LOCATION:Virtual: https://events.vtools.ieee.org/m/356460
ORGANIZER:michael.bannan@ieee.org 
SEQUENCE:9
SUMMARY:Webinar - Condition Based Monitoring For Industrial Machines
URL;VALUE=URI:https://events.vtools.ieee.org/m/356460
X-ALT-DESC:Description: &lt;br /&gt;&lt;p&gt;More than 38% of global energy is consumed
  by industry\, and within industry almost 70% of electricity is consumed b
 y electric motors. Given the huge energy cost associated with running thes
 e motors\, even a 1% increase in operational efficiency will result in hug
 e cost savings. Equipment maintenance is key to optimal motor performance.
 &lt;/p&gt;\n&lt;p&gt;In general\, equipment maintenance can be divided into two broad 
 categories.&amp;nbsp\; In the first\, equipment is taken out of service&amp;nbsp\;
  on a regular schedule (Preventative Maintenance- PM) and in the second\, 
 maintenance occurs when the equipment fails (Corrective Maintenance or &quot;ru
 n-to failure&quot;).&amp;nbsp\; One occurs too early\, the other too late\; both ar
 e wasteful in terms of time and resources.&amp;nbsp\;&lt;/p&gt;\n&lt;p&gt;A third option i
 s Condition-Based Maintenance/Condition-Based Monitoring (CbM).&amp;nbsp\; Thi
 s places sensors where they can detect subsystem trends or excursions from
  baseline performance to alert process owners about specific problems- &lt;em
 &gt;before failures occur&lt;/em&gt;- allowing replacement parts to be on hand at a
  conveniently planned repair time.&amp;nbsp\; The process owner is no longer r
 eplacing good parts on a scheduled maintenance plan\, nor is he or she in 
 crisis hair-on-fire mode because the equipment failed unexpectedly.&lt;/p&gt;\n&lt;
 p&gt;Please join us as Richard Anslow\, System Applications Manager within th
 e Industrial Automation Business Unit at Analog Devices\, gives us a fasci
 nating introduction to CbM\, and how it can improve the availability and r
 educe costs of systems that we support and work with!&lt;/p&gt;\n&lt;p&gt;&lt;span style=
 &quot;font-size: 14pt\;&quot;&gt;&lt;strong&gt;&lt;span style=&quot;color: #222222\;&quot;&gt;&lt;span style=&quot;fo
 nt-family: Arial\, Helvetica\, sans-serif\;&quot;&gt;Presentation Overview:&lt;/span&gt;
 &lt;/span&gt;&lt;/strong&gt;&lt;/span&gt;&lt;/p&gt;\n&lt;p&gt;&lt;span style=&quot;font-size: 12pt\;&quot;&gt;&lt;strong&gt;&lt;s
 pan style=&quot;color: #222222\;&quot;&gt;&lt;span style=&quot;font-family: Arial\, Helvetica\,
  sans-serif\;&quot;&gt;Background for CbM&lt;/span&gt;&lt;/span&gt;&lt;/strong&gt;&lt;/span&gt;&lt;/p&gt;\n&lt;ul t
 ype=&quot;disc&quot;&gt;\n&lt;li&gt;\n&lt;p&gt;&lt;span style=&quot;color: #222222\; font-size: 12pt\;&quot;&gt;&lt;sp
 an style=&quot;font-family: Calibri\, sans-serif\;&quot;&gt;What is CbM?&lt;/span&gt;&lt;/span&gt;&lt;
 /p&gt;\n&lt;/li&gt;\n&lt;li&gt;\n&lt;p&gt;&lt;span style=&quot;color: #222222\; font-size: 12pt\;&quot;&gt;&lt;spa
 n style=&quot;font-family: Calibri\, sans-serif\;&quot;&gt;What are the benefits? What 
 are the limitations?&lt;/span&gt;&lt;/span&gt;&lt;/p&gt;\n&lt;/li&gt;\n&lt;li&gt;\n&lt;p&gt;&lt;span style=&quot;color
 : #222222\; font-size: 12pt\;&quot;&gt;&lt;span style=&quot;font-family: Calibri\, sans-se
 rif\;&quot;&gt;Real life examples.&lt;/span&gt;&lt;/span&gt;&lt;/p&gt;\n&lt;ul type=&quot;circle&quot;&gt;\n&lt;li&gt;\n&lt;p
 &gt;&lt;span style=&quot;color: #222222\; font-size: 12pt\;&quot;&gt;&lt;span style=&quot;font-family
 : Calibri\, sans-serif\;&quot;&gt;How do I spot faults from FFT signatures of a mo
 tor?&lt;/span&gt;&lt;/span&gt;&lt;/p&gt;\n&lt;/li&gt;\n&lt;/ul&gt;\n&lt;/li&gt;\n&lt;/ul&gt;\n&lt;p&gt;&lt;strong&gt;&lt;span style
 =&quot;color: #222222\; font-size: 12pt\;&quot;&gt;&lt;span style=&quot;font-family: Arial\, He
 lvetica\, sans-serif\;&quot;&gt;Insights from Different CbM Sensor technologies&lt;/s
 pan&gt;&lt;/span&gt;&lt;/strong&gt;&lt;/p&gt;\n&lt;ul type=&quot;disc&quot;&gt;\n&lt;li&gt;\n&lt;p&gt;&lt;span style=&quot;color: #
 222222\; font-size: 12pt\;&quot;&gt;&lt;span style=&quot;font-family: Calibri\, sans-serif
 \;&quot;&gt;Vibration&lt;/span&gt;&lt;/span&gt;&lt;/p&gt;\n&lt;/li&gt;\n&lt;li&gt;\n&lt;p&gt;&lt;span style=&quot;color: #2222
 22\; font-size: 12pt\;&quot;&gt;&lt;span style=&quot;font-family: Calibri\, sans-serif\;&quot;&gt;
 Temperature&lt;/span&gt;&lt;/span&gt;&lt;/p&gt;\n&lt;/li&gt;\n&lt;li&gt;\n&lt;p&gt;&lt;span style=&quot;color: #222222
 \; font-size: 12pt\;&quot;&gt;&lt;span style=&quot;font-family: Calibri\, sans-serif\;&quot;&gt;Ma
 gnetic&lt;/span&gt;&lt;/span&gt;&lt;/p&gt;\n&lt;/li&gt;\n&lt;/ul&gt;\n&lt;p&gt;&lt;strong&gt;&lt;span style=&quot;color: #22
 2222\; font-size: 12pt\;&quot;&gt;&lt;span style=&quot;font-family: Arial\, Helvetica\, sa
 ns-serif\;&quot;&gt;Sensor types and Market outlook&lt;/span&gt;&lt;/span&gt;&lt;/strong&gt;&lt;/p&gt;\n&lt;u
 l type=&quot;disc&quot;&gt;\n&lt;li&gt;\n&lt;p&gt;&lt;span style=&quot;color: #222222\; font-size: 12pt\;&quot;&gt;
 &lt;span style=&quot;font-family: Calibri\, sans-serif\;&quot;&gt;Market outlook for wired
  and wireless sensors&lt;/span&gt;&lt;/span&gt;&lt;/p&gt;\n&lt;/li&gt;\n&lt;li&gt;\n&lt;p&gt;&lt;span style=&quot;colo
 r: #222222\; font-size: 12pt\;&quot;&gt;&lt;span style=&quot;font-family: Calibri\, sans-s
 erif\;&quot;&gt;Wireless sensor examples&lt;/span&gt;&lt;/span&gt;&lt;/p&gt;\n&lt;/li&gt;\n&lt;li&gt;\n&lt;p&gt;&lt;span 
 style=&quot;color: #222222\; font-size: 12pt\;&quot;&gt;&lt;span style=&quot;font-family: Calib
 ri\, sans-serif\;&quot;&gt;Wired sensor examples&lt;/span&gt;&lt;/span&gt;&lt;/p&gt;\n&lt;/li&gt;\n&lt;li&gt;\n&lt;
 p&gt;&lt;span style=&quot;color: #222222\; font-size: 12pt\;&quot;&gt;&lt;span style=&quot;font-famil
 y: Calibri\, sans-serif\;&quot;&gt;Cloud and Edge Artificial Intelligence&lt;/span&gt;&lt;/
 span&gt;&lt;/p&gt;\n&lt;/li&gt;\n&lt;/ul&gt;&lt;br /&gt;&lt;br /&gt;Agenda: &lt;br /&gt;&lt;p&gt;&lt;strong&gt;11:00 AM&lt;/stro
 ng&gt;&amp;nbsp\;&amp;nbsp\;&amp;nbsp\;Technical Presentation&lt;/p&gt;\n&lt;p&gt;&lt;strong&gt;11:45 AM&lt;/s
 trong&gt;&amp;nbsp\;&amp;nbsp\; Questions and Answers&lt;/p&gt;\n&lt;p&gt;&lt;strong&gt;12:00 PM&lt;/stron
 g&gt;&amp;nbsp\;&amp;nbsp\;&amp;nbsp\;Adjournment&lt;/p&gt;
END:VEVENT
END:VCALENDAR

