BEGIN:VCALENDAR
VERSION:2.0
PRODID:IEEE vTools.Events//EN
CALSCALE:GREGORIAN
BEGIN:VTIMEZONE
TZID:America/Los_Angeles
BEGIN:DAYLIGHT
DTSTART:20230312T030000
TZOFFSETFROM:-0800
TZOFFSETTO:-0700
RRULE:FREQ=YEARLY;BYDAY=2SU;BYMONTH=3
TZNAME:PDT
END:DAYLIGHT
BEGIN:STANDARD
DTSTART:20231105T010000
TZOFFSETFROM:-0700
TZOFFSETTO:-0800
RRULE:FREQ=YEARLY;BYDAY=1SU;BYMONTH=11
TZNAME:PST
END:STANDARD
END:VTIMEZONE
BEGIN:VEVENT
DTSTAMP:20230502T182949Z
UID:F8327C6B-A7A8-43F7-8CFF-D952A7F7AA9F
DTSTART;TZID=America/Los_Angeles:20230501T090000
DTEND;TZID=America/Los_Angeles:20230501T110000
DESCRIPTION:IEEE/SCU SoE Virtual Panel Session\n\nOpen Networking was promi
 sed to be a new paradigm for the telecom\, cloud and enterprise networking
  industries when it was introduced in 2011 by the Open Networking Foundati
 on (ONF). This &quot;new epoch&quot; in networking was based on Software Defined Net
 working (SDN)\, which dictated a strict separation of the Control and Data
  planes with OpenFlow as the API/protocol between them. A SDN controller r
 unning on a compute server was responsible for hierarchical routing within
  a given physical network domain\, with “packet forwarding engines” re
 placing hop by hop IP routers in the wide area network. Virtual networks v
 ia an overlay model were not permitted and were referred to as “SDN Wash
 ing” by Guru Parulkar\, who ran the Open Networking Summit’s for many 
 years.\n\nPanelists:\n\n- Roy Chua\, AvidThink\n- Arpit Joshipura\, LF Net
 working\n- Run Almog\, DriveNets\n\nModerator: Alan J Weissberger\, IEEE T
 echblog\, SCU SoE\n\nCo-sponsored by: Santa Clara University\n\nAgenda: \n
 Agenda:\n\n- Opening remarks by Moderator and IEEE Future Networks – 8 t
 o 10 minutes\n- Panelist’s Position Presentations – 55 minutes\n- Pre-
 determined issues/questions for the 3 panelists to discuss and debate -30 
 minutes\n- Issues/questions that arise from the presentations/discussion-f
 rom Moderator &amp; Host -8 to 10 minutes\n- Audience Q &amp;A via ZOOM Chat box o
 r Question box (TBD) -15 minutes\n- Wrap-up and Thanks (Moderator) – 2 m
 inutes\n\nVirtual: https://events.vtools.ieee.org/m/356552
LOCATION:Virtual: https://events.vtools.ieee.org/m/356552
ORGANIZER:bdezfouli@scu.edu
SEQUENCE:4
SUMMARY:Open Source vs Proprietary Software Running on Disaggregated Hardwa
 re
URL;VALUE=URI:https://events.vtools.ieee.org/m/356552
X-ALT-DESC:Description: &lt;br /&gt;&lt;p&gt;&lt;strong&gt;IEEE/SCU SoE Virtual Panel Session
 &lt;/strong&gt;&lt;/p&gt;\n&lt;p&gt;&lt;strong&gt;Open Networking&lt;/strong&gt;&lt;span style=&quot;font-weight
 : 400\;&quot;&gt; was promised to be a new paradigm for the telecom\, cloud and en
 terprise networking industries when it was introduced in 2011 by the &lt;/spa
 n&gt;&lt;strong&gt;Open Networking Foundation (ONF)&lt;/strong&gt;&lt;span style=&quot;font-weigh
 t: 400\;&quot;&gt;.&amp;nbsp\; This &quot;new epoch&quot; in networking was based on &lt;/span&gt;&lt;str
 ong&gt;Software Defined Networking (SDN)\,&lt;/strong&gt;&lt;span style=&quot;font-weight: 
 400\;&quot;&gt; which dictated a strict separation of the Control and Data planes 
 with &lt;/span&gt;&lt;strong&gt;OpenFlow &lt;/strong&gt;&lt;span style=&quot;font-weight: 400\;&quot;&gt;as 
 the API/protocol between them.&amp;nbsp\; A SDN controller running on a comput
 e server was responsible for hierarchical routing within a given physical 
 network domain\, with &amp;ldquo\;packet forwarding engines&amp;rdquo\; replacing 
 hop by hop IP routers in the wide area network.&amp;nbsp\; Virtual networks vi
 a an overlay model were not permitted and were referred to as &amp;ldquo\;SDN 
 Washing&amp;rdquo\; by Guru Parulkar\, who ran the Open Networking Summit&amp;rsqu
 o\;s for many years.&lt;/span&gt;&lt;/p&gt;\n&lt;p&gt;&lt;strong&gt;Panelists:&lt;/strong&gt;&lt;/p&gt;\n&lt;ul&gt;\
 n&lt;li style=&quot;font-weight: 400\;&quot; aria-level=&quot;1&quot;&gt;&lt;span style=&quot;font-weight: 4
 00\;&quot;&gt;Roy Chua\, AvidThink&lt;/span&gt;&lt;/li&gt;\n&lt;li style=&quot;font-weight: 400\;&quot; ari
 a-level=&quot;1&quot;&gt;&lt;span style=&quot;font-weight: 400\;&quot;&gt;Arpit Joshipura\, LF Networki
 ng&lt;/span&gt;&lt;/li&gt;\n&lt;li style=&quot;font-weight: 400\;&quot; aria-level=&quot;1&quot;&gt;&lt;span style=
 &quot;font-weight: 400\;&quot;&gt;Run Almog\,&amp;nbsp\; DriveNets&lt;/span&gt;&lt;/li&gt;\n&lt;/ul&gt;\n&lt;p&gt;&lt;
 strong&gt;Moderator:&lt;/strong&gt;&lt;span style=&quot;font-weight: 400\;&quot;&gt;&amp;nbsp\; Alan J 
 Weissberger\, IEEE Techblog\, SCU SoE&lt;/span&gt;&lt;/p&gt;&lt;br /&gt;&lt;br /&gt;Agenda: &lt;br /&gt;
 &lt;p&gt;&lt;strong&gt;Agenda:&lt;/strong&gt;&lt;/p&gt;\n&lt;ul&gt;\n&lt;li style=&quot;font-weight: 400\;&quot; aria
 -level=&quot;1&quot;&gt;&lt;span style=&quot;font-weight: 400\;&quot;&gt;Opening remarks by Moderator a
 nd IEEE Future Networks &amp;ndash\; 8 to 10 minutes&lt;/span&gt;&lt;/li&gt;\n&lt;li style=&quot;f
 ont-weight: 400\;&quot; aria-level=&quot;1&quot;&gt;&lt;span style=&quot;font-weight: 400\;&quot;&gt;Panelis
 t&amp;rsquo\;s Position Presentations &amp;ndash\; 55 minutes&lt;/span&gt;&lt;/li&gt;\n&lt;li sty
 le=&quot;font-weight: 400\;&quot; aria-level=&quot;1&quot;&gt;&lt;span style=&quot;font-weight: 400\;&quot;&gt;Pr
 e-determined issues/questions for the 3 panelists to discuss and debate -3
 0 minutes&lt;/span&gt;&lt;/li&gt;\n&lt;li style=&quot;font-weight: 400\;&quot; aria-level=&quot;1&quot;&gt;&lt;span
  style=&quot;font-weight: 400\;&quot;&gt;Issues/questions that arise from the presentat
 ions/discussion-from Moderator &amp;amp\; Host -8 to 10 minutes&lt;/span&gt;&lt;/li&gt;\n&lt;
 li style=&quot;font-weight: 400\;&quot; aria-level=&quot;1&quot;&gt;&lt;span style=&quot;font-weight: 400
 \;&quot;&gt;Audience Q &amp;amp\;A via ZOOM Chat box or Question box (TBD) -15 minutes
 &lt;/span&gt;&lt;/li&gt;\n&lt;li style=&quot;font-weight: 400\;&quot; aria-level=&quot;1&quot;&gt;&lt;span style=&quot;f
 ont-weight: 400\;&quot;&gt;Wrap-up and Thanks (Moderator) &amp;ndash\; 2 minutes&lt;/span
 &gt;&lt;/li&gt;\n&lt;/ul&gt;
END:VEVENT
END:VCALENDAR

