BEGIN:VCALENDAR
VERSION:2.0
PRODID:IEEE vTools.Events//EN
CALSCALE:GREGORIAN
BEGIN:VTIMEZONE
TZID:US/Eastern
BEGIN:DAYLIGHT
DTSTART:20230312T030000
TZOFFSETFROM:-0500
TZOFFSETTO:-0400
RRULE:FREQ=YEARLY;BYDAY=2SU;BYMONTH=3
TZNAME:EDT
END:DAYLIGHT
BEGIN:STANDARD
DTSTART:20231105T010000
TZOFFSETFROM:-0400
TZOFFSETTO:-0500
RRULE:FREQ=YEARLY;BYDAY=1SU;BYMONTH=11
TZNAME:EST
END:STANDARD
END:VTIMEZONE
BEGIN:VEVENT
DTSTAMP:20230408T221812Z
UID:4D18F199-8486-4513-81B8-E69CD6564DF5
DTSTART;TZID=US/Eastern:20230331T180000
DTEND;TZID=US/Eastern:20230331T210000
DESCRIPTION:A beloved sequel to our previous through-hole soldering worksho
 p hosted by Amanda Berryman. This workshop will also feature a tutorial wi
 th PCB boards but have easier boards\, so it&#39;ll be even more suited to sol
 dering beginners. Once again\, the project is light-up glasses. Feel free 
 to bring along complete beginners for a fun and informative through-hole s
 oldering session!\n\nFor the benefits of learning how to solder\, Amanda s
 ays: &quot;Soldering is a skill that should be in everybody&#39;s arsenal. In a wor
 ld of increasing technological surroundings\, it is important that people 
 not only understand the technologies they use every day but also be able t
 o build\, alter\, and fix them as well. Soldering is one of many skills th
 at will empower you to do just that.&quot; For more information\, please contac
 t Amanda or the IEEE board members on Discord!\n\nAgenda: \n\n\nRoom: 190\
 , Bldg: ETEC\, 1400 Washington Avenue\, University at Albany\, Albany\, Ne
 w York\, United States\, 12222
LOCATION:Room: 190\, Bldg: ETEC\, 1400 Washington Avenue\, University at Al
 bany\, Albany\, New York\, United States\, 12222
ORGANIZER:ieee@albany.edu
SEQUENCE:1
SUMMARY:Through-Hole Soldering Workshop (The Sequel!)
URL;VALUE=URI:https://events.vtools.ieee.org/m/356630
X-ALT-DESC:Description: &lt;br /&gt;&lt;p&gt;A beloved sequel to our previous through-h
 ole soldering workshop hosted by Amanda Berryman. This workshop will also 
 feature a tutorial with PCB boards but have&amp;nbsp\;&lt;em&gt;easier boards\, so i
 t&#39;ll be even more suited to soldering beginners.&lt;/em&gt;&amp;nbsp\;Once again\, t
 he project is light-up glasses. Feel free to bring along complete beginner
 s for a fun and informative through-hole soldering session!&lt;br /&gt;&lt;br /&gt;For
  the benefits of learning how to solder\, Amanda says: &quot;Soldering is a ski
 ll that should be in everybody&#39;s arsenal. In a world of increasing technol
 ogical surroundings\, it is important that people not only understand the 
 technologies they use every day but also be able to build\, alter\, and fi
 x them as well. Soldering is one of many skills that will empower you to d
 o just that.&quot; For more information\, please contact Amanda or the IEEE boa
 rd members on Discord!&lt;/p&gt;&lt;br /&gt;&lt;br /&gt;Agenda: &lt;br /&gt;&lt;p&gt;&amp;nbsp\;&lt;/p&gt;\n&lt;p&gt;&amp;nb
 sp\;&lt;/p&gt;
END:VEVENT
END:VCALENDAR

