BEGIN:VCALENDAR
VERSION:2.0
PRODID:IEEE vTools.Events//EN
CALSCALE:GREGORIAN
BEGIN:VTIMEZONE
TZID:Asia/Kolkata
BEGIN:STANDARD
DTSTART:19451014T230000
TZOFFSETFROM:+0630
TZOFFSETTO:+0530
TZNAME:IST
END:STANDARD
END:VTIMEZONE
BEGIN:VEVENT
DTSTAMP:20230422T075653Z
UID:BD835D4C-C064-4FAC-B178-8B5D1609CC13
DTSTART;TZID=Asia/Kolkata:20230410T113000
DTEND;TZID=Asia/Kolkata:20230418T163000
DESCRIPTION:&quot;Logic will get you from A to B. Imagination will take you ever
 ywhere.&quot; - Albert Einstein\n\nAre you ready to let your imagination run wi
 ld and take your programming skills to the next level? Join us for a 10-da
 y training program on “Logic Development Programming” led by the exper
 t\, Dr. Satvik Khara. He is a true visionary and trailblazer in the field\
 , holding the position and responsibility of Dean\, Diploma Engineering\, 
 Silver Oak University\, Head\, Department of Computer Engineering\, SOCET\
 , Founding Member\, Silver Oak University IEEE Student Branch\, Chairperso
 n of SIGHT\, IEEE Gujarat Section\, and Secretary of Computer Society\, IE
 EE Gujarat Section.\n\nIn this immersive program organized by Silver Oak U
 niversity IEEE Student Branch\, you&#39;ll learn to combine logic with imagina
 tion and creativity to develop solutions that are both innovative and prac
 tical. With interactive learning\, real-world examples\, and hands-on exer
 cises\, you&#39;ll be able to tackle complex problems with ease and come up wi
 th creative solutions.\n\nThis program is perfect for everyone who focuses
  on improving their Problem-Solving Skills. And who knows? You may even di
 scover a newfound love for logic development!\n\nSo don&#39;t wait! Join Us\, 
 and take the first step towards unlocking your full potential!\n\nSpeaker(
 s): Dr. Satvik Khara\n\nAhmedabad\, Gujarat\, India\, 382481
LOCATION:Ahmedabad\, Gujarat\, India\, 382481
ORGANIZER:ieee.fbc@socet.edu.in
SEQUENCE:3
SUMMARY:Logic Development Programming
URL;VALUE=URI:https://events.vtools.ieee.org/m/356675
X-ALT-DESC:Description: &lt;br /&gt;&lt;p&gt;&quot;Logic will get you from A to B. Imaginati
 on will take you everywhere.&quot; - Albert Einstein &amp;nbsp\;&lt;/p&gt;\n&lt;p&gt;Are you re
 ady to let your imagination run wild and take your programming skills to t
 he next level? Join us for a 10-day training program on &amp;ldquo\;Logic Deve
 lopment Programming&amp;rdquo\; led by the expert\, Dr. Satvik Khara. He is a 
 true visionary and trailblazer in the field\, holding the position and res
 ponsibility of Dean\, Diploma Engineering\, Silver Oak University\, Head\,
  Department of Computer Engineering\, SOCET\, Founding Member\, Silver Oak
  University IEEE Student Branch\, Chairperson of SIGHT\, IEEE Gujarat Sect
 ion\, and Secretary of Computer Society\, IEEE Gujarat Section.&lt;/p&gt;\n&lt;p&gt;In
  this immersive program organized by Silver Oak University IEEE Student Br
 anch\, you&#39;ll learn to combine logic with imagination and creativity to de
 velop solutions that are both innovative and practical. With interactive l
 earning\, real-world examples\, and hands-on exercises\, you&#39;ll be able to
  tackle complex problems with ease and come up with creative solutions.&lt;/p
 &gt;\n&lt;p&gt;This program is perfect for everyone who focuses on improving their 
 Problem-Solving Skills. And who knows? You may even discover a newfound lo
 ve for logic development! &amp;nbsp\;&amp;nbsp\;&lt;/p&gt;\n&lt;p&gt;So don&#39;t wait! Join Us\, 
 and take the first step towards unlocking your full potential!&lt;/p&gt;
END:VEVENT
END:VCALENDAR

