BEGIN:VCALENDAR
VERSION:2.0
PRODID:IEEE vTools.Events//EN
CALSCALE:GREGORIAN
BEGIN:VTIMEZONE
TZID:America/New_York
BEGIN:DAYLIGHT
DTSTART:20230312T030000
TZOFFSETFROM:-0500
TZOFFSETTO:-0400
RRULE:FREQ=YEARLY;BYDAY=2SU;BYMONTH=3
TZNAME:EDT
END:DAYLIGHT
BEGIN:STANDARD
DTSTART:20231105T010000
TZOFFSETFROM:-0400
TZOFFSETTO:-0500
RRULE:FREQ=YEARLY;BYDAY=1SU;BYMONTH=11
TZNAME:EST
END:STANDARD
END:VTIMEZONE
BEGIN:VEVENT
DTSTAMP:20230410T001039Z
UID:137F3287-66B1-48B7-A70A-CB7D6C509B3B
DTSTART;TZID=America/New_York:20230322T090000
DTEND;TZID=America/New_York:20230322T113000
DESCRIPTION:Hands-on STEM activity with 4th and 5th Grade students of Daven
 port Ridge Elementary School\, Stamford\, CT\n\nCo-sponsored by: Fairfield
  University\n\nFairfield University Innovation Annex\, Fairfield\, Connect
 icut\, United States\, 06824
LOCATION:Fairfield University Innovation Annex\, Fairfield\, Connecticut\, 
 United States\, 06824
ORGANIZER:ubalaji@ieee.org
SEQUENCE:1
SUMMARY:Sustainability and Energy
URL;VALUE=URI:https://events.vtools.ieee.org/m/356752
X-ALT-DESC:Description: &lt;br /&gt;&lt;p&gt;Hands-on STEM activity with 4th and 5th Gr
 ade students of Davenport Ridge Elementary School\, Stamford\, CT&lt;/p&gt;
END:VEVENT
END:VCALENDAR

