BEGIN:VCALENDAR
VERSION:2.0
PRODID:IEEE vTools.Events//EN
CALSCALE:GREGORIAN
BEGIN:VTIMEZONE
TZID:America/Bogota
BEGIN:DAYLIGHT
DTSTART:20380118T221407
TZOFFSETFROM:-0500
TZOFFSETTO:-0500
RRULE:FREQ=YEARLY;BYDAY=3MO;BYMONTH=1
TZNAME:-05
END:DAYLIGHT
BEGIN:STANDARD
DTSTART:19930206T230000
TZOFFSETFROM:-0400
TZOFFSETTO:-0500
RRULE:FREQ=YEARLY;BYDAY=1SA;BYMONTH=2
TZNAME:-05
END:STANDARD
END:VTIMEZONE
BEGIN:VEVENT
DTSTAMP:20230425T033812Z
UID:026E2A8D-6DB6-49CA-A442-ABFDE386CE1D
DTSTART;TZID=America/Bogota:20230424T123000
DTEND;TZID=America/Bogota:20230424T163000
DESCRIPTION:La Rama Estudiantil IEEE UTP\, a través de su capítulo Técni
 co de Potencia y Energía (PES)\, tiene el placer de invitarlos a un talle
 r de dimensionamiento de paneles solares\, en conmemoración del PES DAY\,
  bajo el lema &quot;Powering a Climate Safer Future&quot;.\n\nEn este taller\, dicta
 do por el Ing. Tomás Abrahams\, los participantes tendrán la oportunidad
  de aprender sobre los aspectos a considerar\, cálculos\, costos\, presup
 uestos y [softwares especializados](https://sam.nrel.gov/) en el diseño d
 e un sistema solar.\n\n¿Qué mejor para un &quot;Climate Safer Future&quot; que las
  habilidades técnicas para ser parte del cambio y la transición energét
 ica? Únete!\n\n**Opcionalmente traer PC con el Software [&quot;System Advisor 
 Model&quot;](La%20Rama%20Estudiantil%20IEEE%20UTP\,%20a%20través%20de%20su%20c
 apítulo%20Técnico%20de%20Potencia%20y%20Energía%20(PES)\,%20tiene%20el%
 20placer%20de%20invitarlos%20a%20un%20taller%20de%20dimensionamiento%20de%
 20paneles%20solares\,%20en%20conmemoración%20del%20PES%20DAY\,%20bajo%20e
 l%20lema%20&quot;Powering%20a%20Climate%20Safer%20Future&quot;.%20En%20este%20taller
 \,%20dictado%20por%20el%20Ing.%20Tomás%20Abrahams\,%20los%20participantes
 %20tendrán%20la%20oportunidad%20de%20aprender%20sobre%20los%20aspectos%20
 a%20considerar\,%20cálculos\,%20costos\,%20presupuestos%20y%20softwares%2
 0especializados%20en%20el%20diseño%20de%20un%20sistema%20solar.%20¿Qué%
 20mejor%20para%20un%20&quot;Climate%20Safer%20Future&quot;%20que%20las%20habilidades
 %20técnicas%20para%20ser%20parte%20del%20cambio%20y%20la%20transición%20
 energética?%20%20Únete!) (SAM) del NREL. Es un software gratuito.\n\nIns
 cripción:\n\nEstudiante miembro PES --- 5$\n\nEstudiante miembro IEEE ---
 - 10$\n\nEstudiante no miembro ----- 20$\n\nSpeaker(s): Tomás\n\nAgenda: 
 \nContenido del taller:\n\n1. Aspectos de construcción de los paneles sol
 ares\n\n2. Información necesaria del sitio para el dimensionamiento de un
 a fuente solar.\n\n3. Cálculos promediados y/o específicos con el uso de
  software para el dimensionamiento de la planta solar.\n\n4. Selección de
  equipos y presupuestos\n\n5. Introducción a los Sistemas híbridos solar
 es.\n\nRoom: Auditorio Roberto Barraza\, Bldg: Edificio 1\, Universidad Te
 cnológica de Panamá \, Panamá\, Panama\, Panama
LOCATION:Room: Auditorio Roberto Barraza\, Bldg: Edificio 1\, Universidad T
 ecnológica de Panamá \, Panamá\, Panama\, Panama
ORGANIZER:sbc.utp.pes@ieee.org
SEQUENCE:12
SUMMARY:Taller - Dimensionamiento de paneles solares 
URL;VALUE=URI:https://events.vtools.ieee.org/m/356937
X-ALT-DESC:Description: &lt;br /&gt;&lt;p&gt;La Rama Estudiantil IEEE UTP\, a trav&amp;eacu
 te\;s de su cap&amp;iacute\;tulo T&amp;eacute\;cnico de Potencia y Energ&amp;iacute\;a
  (PES)\, tiene el placer de invitarlos a un taller de dimensionamiento de 
 paneles solares\, en conmemoraci&amp;oacute\;n del &lt;strong&gt;PES DAY&lt;/strong&gt;\, 
 bajo el lema &quot;Powering a Climate Safer Future&quot;.&lt;/p&gt;\n&lt;p&gt;En este taller\, d
 ictado por el Ing. Tom&amp;aacute\;s Abrahams\, los participantes tendr&amp;aacute
 \;n la oportunidad de aprender sobre los aspectos a considerar\, c&amp;aacute\
 ;lculos\, costos\, presupuestos y &lt;a href=&quot;https://sam.nrel.gov/&quot;&gt;software
 s especializados&lt;/a&gt; en el dise&amp;ntilde\;o de un sistema solar.&lt;/p&gt;\n&lt;p&gt;&lt;sp
 an style=&quot;background-color: #ecf9e9\;&quot;&gt;&amp;iquest\;Qu&amp;eacute\; mejor para un 
 &quot;Climate Safer Future&quot; que las habilidades t&amp;eacute\;cnicas para ser parte
  del cambio y la transici&amp;oacute\;n energ&amp;eacute\;tica?&amp;nbsp\; &amp;Uacute\;ne
 te!&lt;/span&gt;&lt;/p&gt;\n&lt;p&gt;**Opcionalmente traer PC con el Software &lt;a href=&quot;La%20
 Rama%20Estudiantil%20IEEE%20UTP\,%20a%20trav&amp;eacute\;s%20de%20su%20cap&amp;iac
 ute\;tulo%20T&amp;eacute\;cnico%20de%20Potencia%20y%20Energ&amp;iacute\;a%20(PES)\
 ,%20tiene%20el%20placer%20de%20invitarlos%20a%20un%20taller%20de%20dimensi
 onamiento%20de%20paneles%20solares\,%20en%20conmemoraci&amp;oacute\;n%20del%20
 PES%20DAY\,%20bajo%20el%20lema%20&amp;quot\;Powering%20a%20Climate%20Safer%20F
 uture&amp;quot\;.%20En%20este%20taller\,%20dictado%20por%20el%20Ing.%20Tom&amp;aac
 ute\;s%20Abrahams\,%20los%20participantes%20tendr&amp;aacute\;n%20la%20oportun
 idad%20de%20aprender%20sobre%20los%20aspectos%20a%20considerar\,%20c&amp;aacut
 e\;lculos\,%20costos\,%20presupuestos%20y%20softwares%20especializados%20e
 n%20el%20dise&amp;ntilde\;o%20de%20un%20sistema%20solar.%20&amp;iquest\;Qu&amp;eacute\
 ;%20mejor%20para%20un%20&amp;quot\;Climate%20Safer%20Future&amp;quot\;%20que%20las
 %20habilidades%20t&amp;eacute\;cnicas%20para%20ser%20parte%20del%20cambio%20y%
 20la%20transici&amp;oacute\;n%20energ&amp;eacute\;tica?%20%20&amp;Uacute\;nete!&quot;&gt;&quot;Syst
 em Advisor Model&quot;&lt;/a&gt; (SAM) del NREL. Es un software gratuito.&lt;/p&gt;\n&lt;p&gt;&amp;nb
 sp\;&lt;/p&gt;\n&lt;p&gt;Inscripci&amp;oacute\;n:&lt;/p&gt;\n&lt;p&gt;Estudiante miembro PES ---&amp;nbsp\
 ; &amp;nbsp\;5$&lt;/p&gt;\n&lt;p&gt;Estudiante miembro IEEE ---- 10$&lt;/p&gt;\n&lt;p&gt;Estudiante no
  miembro&amp;nbsp\; -----&amp;nbsp\; 20$&lt;/p&gt;&lt;br /&gt;&lt;br /&gt;Agenda: &lt;br /&gt;&lt;p&gt;Contenido
  del taller:&amp;nbsp\;&lt;/p&gt;\n&lt;p&gt;1. Aspectos de construcci&amp;oacute\;n de los pan
 eles solares&lt;/p&gt;\n&lt;p&gt;2. Informaci&amp;oacute\;n necesaria del sitio para el di
 mensionamiento de una fuente solar.&lt;/p&gt;\n&lt;p&gt;3. C&amp;aacute\;lculos promediado
 s y/o espec&amp;iacute\;ficos con el uso de software para el dimensionamiento 
 de la planta solar.&lt;/p&gt;\n&lt;p&gt;4. Selecci&amp;oacute\;n de equipos y presupuestos
 &lt;/p&gt;\n&lt;p&gt;5. Introducci&amp;oacute\;n a los Sistemas h&amp;iacute\;bridos solares.&lt;
 /p&gt;
END:VEVENT
END:VCALENDAR

