BEGIN:VCALENDAR
VERSION:2.0
PRODID:IEEE vTools.Events//EN
CALSCALE:GREGORIAN
BEGIN:VTIMEZONE
TZID:America/Los_Angeles
BEGIN:DAYLIGHT
DTSTART:20230312T030000
TZOFFSETFROM:-0800
TZOFFSETTO:-0700
RRULE:FREQ=YEARLY;BYDAY=2SU;BYMONTH=3
TZNAME:PDT
END:DAYLIGHT
BEGIN:STANDARD
DTSTART:20231105T010000
TZOFFSETFROM:-0700
TZOFFSETTO:-0800
RRULE:FREQ=YEARLY;BYDAY=1SU;BYMONTH=11
TZNAME:PST
END:STANDARD
END:VTIMEZONE
BEGIN:VEVENT
DTSTAMP:20230522T205356Z
UID:C6402F6C-5429-4DA5-A09B-5DCBFBE96172
DTSTART;TZID=America/Los_Angeles:20230502T190000
DTEND;TZID=America/Los_Angeles:20230502T210000
DESCRIPTION:This event will be a conversation with Stan Mazor as led by Bri
 an Berg. Stan will discuss his work at Fairchild Semiconductor and Intel u
 nder Gordon Moore\, and Moore’s impact on these companies and the indust
 ry itself. Mazor will also discuss work he did at these companies\, includ
 ing his role in development of Fairchild’s Symbol high-level language fo
 r the [Symbol computer](https://fermatslibrary.com/s/fairchild-symbol-comp
 uter). This computer’s implementation of virtual memory led to an early 
 patent for Stan and two others on his team.\n\nThe conversation will inclu
 de Stan’s role in development of Intel’s 4004\, the first commercially
 -available single-chip microprocessor\, as well as the 8008 and the very s
 uccessful 8080. Mazor will also discuss the work he did as an early employ
 ee of Silicon Compiler Systems and Synopsys. He will also provide his pers
 pective of the impact of Moore’s Law as he saw technology progress over 
 his career.\n\nCo-sponsored by: IEEE-SCV Life Member Affinity Group (LMAG)
 \n\nSpeaker(s): Stan Mazor\, Brian Berg\n\n567 Yosemite Dr\, Milpitas\, Ca
 lifornia\, United States\, 95035\, Virtual: https://events.vtools.ieee.org
 /m/357215
LOCATION:567 Yosemite Dr\, Milpitas\, California\, United States\, 95035\, 
 Virtual: https://events.vtools.ieee.org/m/357215
ORGANIZER:david@42tek.com
SEQUENCE:6
SUMMARY:Stan Mazor: Reflections on Gordon Moore\, Fairchild\, and Intel
URL;VALUE=URI:https://events.vtools.ieee.org/m/357215
X-ALT-DESC:Description: &lt;br /&gt;&lt;p&gt;This event will be a conversation with Sta
 n Mazor as led by Brian Berg. Stan will discuss his work at Fairchild Semi
 conductor and Intel under Gordon Moore\, and Moore&amp;rsquo\;s impact on thes
 e companies and the industry itself. Mazor will also discuss work he did a
 t these companies\, including his role in development of Fairchild&amp;rsquo\;
 s Symbol high-level language for the &lt;a href=&quot;https://fermatslibrary.com/s
 /fairchild-symbol-computer&quot; target=&quot;_blank&quot; rel=&quot;noopener nofollow&quot;&gt;Symbol
  computer&lt;/a&gt;. This computer&amp;rsquo\;s implementation of virtual memory led
  to an early patent for Stan and two others on his team.&lt;/p&gt;\n&lt;p&gt;The conve
 rsation will include Stan&amp;rsquo\;s role in development of Intel&amp;rsquo\;s 4
 004\, the first commercially-available single-chip microprocessor\, as wel
 l as the 8008 and the very successful 8080. Mazor will also discuss the wo
 rk he did as an early employee of Silicon Compiler Systems and Synopsys. H
 e will also provide his perspective of the impact of Moore&amp;rsquo\;s Law as
  he saw technology progress over his career.&lt;/p&gt;
END:VEVENT
END:VCALENDAR

