BEGIN:VCALENDAR
VERSION:2.0
PRODID:IEEE vTools.Events//EN
CALSCALE:GREGORIAN
BEGIN:VTIMEZONE
TZID:America/New_York
BEGIN:DAYLIGHT
DTSTART:20220313T030000
TZOFFSETFROM:-0500
TZOFFSETTO:-0400
RRULE:FREQ=YEARLY;BYDAY=2SU;BYMONTH=3
TZNAME:EDT
END:DAYLIGHT
BEGIN:STANDARD
DTSTART:20221106T010000
TZOFFSETFROM:-0400
TZOFFSETTO:-0500
RRULE:FREQ=YEARLY;BYDAY=1SU;BYMONTH=11
TZNAME:EST
END:STANDARD
END:VTIMEZONE
BEGIN:VEVENT
DTSTAMP:20230413T155611Z
UID:0C6A094D-5562-48A6-B409-F1CCEECF447A
DTSTART;TZID=America/New_York:20221020T180000
DTEND;TZID=America/New_York:20221020T190000
DESCRIPTION:Graduate student roundtable for undergraduate students to learn
  more about graduate school\n\nRoom: 103\, Bldg: West Hall\, 601 W Main St
 reet\, Richmond\, Virginia\, United States\, 23284
LOCATION:Room: 103\, Bldg: West Hall\, 601 W Main Street\, Richmond\, Virgi
 nia\, United States\, 23284
ORGANIZER:sharmav23@vcu.edu
SEQUENCE:0
SUMMARY:Graduate Student Panel
URL;VALUE=URI:https://events.vtools.ieee.org/m/357373
X-ALT-DESC:Description: &lt;br /&gt;&lt;p&gt;Graduate student roundtable for undergradu
 ate students to learn more about graduate school&lt;/p&gt;
END:VEVENT
END:VCALENDAR

