BEGIN:VCALENDAR
VERSION:2.0
PRODID:IEEE vTools.Events//EN
CALSCALE:GREGORIAN
BEGIN:VTIMEZONE
TZID:Asia/Kolkata
BEGIN:STANDARD
DTSTART:19451014T230000
TZOFFSETFROM:+0630
TZOFFSETTO:+0530
TZNAME:IST
END:STANDARD
END:VTIMEZONE
BEGIN:VEVENT
DTSTAMP:20230612T180459Z
UID:DCAD48BE-15A1-4916-B2D9-5AEC3155958C
DTSTART;TZID=Asia/Kolkata:20230415T093000
DTEND;TZID=Asia/Kolkata:20230415T143000
DESCRIPTION:The program was initiated by Dr. P. Gopala Krishna sir (Dean\, 
 Assessments &amp; Accreditations) ceremonially igniting the lamp. Before the c
 ontest began\, students were given a paper of instructions containing the 
 rules and regulations to be followed throughout the event. The event began
  with the bidding of around 45 questions\, each with a different base priz
 e. The bidding had to start from the base prize\, with increments of 500 u
 p to 10\,000\, and increments of 1\,000 thereafter.\n\nThe students partic
 ipated in the bidding in an interactive and entertaining way\, purchasing 
 the questions. The bidding of 45 questions ended around 12:00 p.m.\, and a
 fter that\, the students started solving the questions. The students who w
 ere facing any kind of problem while solving were given an opportunity to 
 approach the panel for help and receive hints for a certain amount of mone
 y. Not only bidding and solving\, students were also given the opportunity
  of trading solutions for money to improve their trading and negotiation s
 kills.\n\nAfter the solving session\, students were given around 15 minute
 s to trade their solutions. This meant that they could sell their answers 
 to their co-participants\, while those who were unable to solve their ques
 tions could buy solutions from their peers.\n\nAfter the allotted time was
  up\, the panel decided the winners and runner-up based on the questions t
 hey solved and the money they were remained with. Winners are awarded a ch
 eque of Rs.1000/- and runners receive a cheque of Rs.500/-\, along with ac
 hievement certificates. The remaining 13 teams were given participation ce
 rtificates.\n\nRoom: 2407\, Bldg: ECE BLOCK\, GOKARAJU RANGARAJU INSTITUTE
  OF ENGINEERING AND TECHNOLOGY \, BACHUPALLI\, KUKATPALLY\, Hyderabad\, An
 dhra Pradesh\, India\, 500090
LOCATION:Room: 2407\, Bldg: ECE BLOCK\, GOKARAJU RANGARAJU INSTITUTE OF ENG
 INEERING AND TECHNOLOGY \, BACHUPALLI\, KUKATPALLY\, Hyderabad\, Andhra Pr
 adesh\, India\, 500090
ORGANIZER:ieeegrietcis@gmail.com
SEQUENCE:1
SUMMARY:Code Estate
URL;VALUE=URI:https://events.vtools.ieee.org/m/358240
X-ALT-DESC:Description: &lt;br /&gt;&lt;p&gt;&lt;span style=&quot;font-size: 16.0pt\;&quot;&gt;The prog
 ram was initiated by Dr. P. Gopala Krishna sir (&lt;span style=&quot;color: #20212
 4\; background: white\;&quot;&gt;Dean\, Assessments &amp;amp\; Accreditations&lt;/span&gt;&lt;/
 span&gt;&lt;span style=&quot;font-size: 10.0pt\; font-family: &#39;Arial&#39;\,sans-serif\; c
 olor: #202124\; background: white\;&quot;&gt;)&lt;/span&gt;&lt;span style=&quot;font-size: 16.0p
 t\;&quot;&gt; ceremonially igniting the lamp. Before the contest began\, students 
 were given a paper of instructions containing the rules and regulations to
  be followed throughout the event. The event began with the bidding of aro
 und 45 questions\, each with a different base prize. The bidding had to st
 art from the base prize\, with increments of 500 up to 10\,000\, and incre
 ments of 1\,000 thereafter.&lt;/span&gt;&lt;/p&gt;\n&lt;p&gt;&lt;span style=&quot;font-size: 16.0pt\
 ;&quot;&gt;The students participated in the bidding in an interactive and entertai
 ning way\, purchasing the questions. The bidding of 45 questions ended aro
 und 12:00 p.m.\, and after that\, the students started solving the questio
 ns. The students who were &amp;nbsp\;facing any kind of problem while solving 
 were given an opportunity to approach the panel for help and receive hints
  for a certain amount of money. Not only bidding and solving\, students we
 re also given the opportunity of trading solutions for money to improve th
 eir trading and negotiation skills.&lt;/span&gt;&lt;/p&gt;\n&lt;p&gt;&lt;span style=&quot;font-size:
  16.0pt\;&quot;&gt;After the solving session\, students were given around 15 minut
 es to trade their solutions. This meant that they could sell their answers
  to their co-participants\, while those who were unable to solve their que
 stions could buy solutions from their peers. &lt;/span&gt;&lt;/p&gt;\n&lt;p&gt;&lt;span style=&quot;
 font-size: 16.0pt\;&quot;&gt;After the allotted time was up\, the panel decided th
 e winners and runner-up based on the questions they solved and the money t
 hey were remained with. Winners are awarded a cheque of Rs.1000/- and runn
 ers receive a cheque of Rs.500/-\, along with achievement certificates. Th
 e remaining 13 teams were given participation certificates.&lt;/span&gt;&lt;/p&gt;
END:VEVENT
END:VCALENDAR

