BEGIN:VCALENDAR
VERSION:2.0
PRODID:IEEE vTools.Events//EN
CALSCALE:GREGORIAN
BEGIN:VTIMEZONE
TZID:America/Lima
BEGIN:DAYLIGHT
DTSTART:20380118T221407
TZOFFSETFROM:-0500
TZOFFSETTO:-0500
RRULE:FREQ=YEARLY;BYDAY=3MO;BYMONTH=1
TZNAME:-05
END:DAYLIGHT
BEGIN:STANDARD
DTSTART:19940331T230000
TZOFFSETFROM:-0400
TZOFFSETTO:-0500
RRULE:FREQ=YEARLY;BYDAY=-1TH;BYMONTH=3
TZNAME:-05
END:STANDARD
END:VTIMEZONE
BEGIN:VEVENT
DTSTAMP:20230510T005338Z
UID:27C409C0-B407-4BC2-9721-5C68CAA89929
DTSTART;TZID=America/Lima:20230506T193000
DTEND;TZID=America/Lima:20230506T203000
DESCRIPTION:#ComSocUNFV presenta:\n\nEn CIVERVILLA encontraras ponencias re
 lacionadas a la ciberseguridad donde nuestros ponentes nacionales e intern
 acionales brindaran charlas interesantes.\n\nFecha: 6 de mayo 2023\n\nHora
 rio: 7:30 pm a 8:30 pm\n\nPlataforma: Meet\n\nFormulario: https://bit.ly/3
 GQmgYq\n\n¡Te esperamos!\n\n#IEEECOMSOCUNFV\n\nSpeaker(s): Gerardo Castro
  Arica\n\nVirtual: https://events.vtools.ieee.org/m/358662
LOCATION:Virtual: https://events.vtools.ieee.org/m/358662
ORGANIZER:stacygr2009@hotmail.com
SEQUENCE:3
SUMMARY:CYBERVILLA: Fundamentos de Seguridad en AWS
URL;VALUE=URI:https://events.vtools.ieee.org/m/358662
X-ALT-DESC:Description: &lt;br /&gt;&lt;p&gt;#ComSocUNFV presenta:&lt;/p&gt;\n&lt;p&gt;En CIVERVILL
 A encontraras ponencias relacionadas a la ciberseguridad donde nuestros po
 nentes nacionales e internacionales brindaran charlas interesantes.&lt;/p&gt;\n&lt;
 p&gt;Fecha: 6 de mayo 2023&lt;/p&gt;\n&lt;p&gt;Horario: 7:30 pm a 8:30 pm&lt;/p&gt;\n&lt;p&gt;Platafo
 rma: Meet&lt;/p&gt;\n&lt;p&gt;Formulario: https://bit.ly/3GQmgYq&lt;/p&gt;\n&lt;p&gt;&amp;iexcl\;Te es
 peramos!&amp;nbsp\;&lt;/p&gt;\n&lt;p&gt;#IEEECOMSOCUNFV&lt;/p&gt;
END:VEVENT
END:VCALENDAR

