BEGIN:VCALENDAR
VERSION:2.0
PRODID:IEEE vTools.Events//EN
CALSCALE:GREGORIAN
BEGIN:VTIMEZONE
TZID:America/Lima
BEGIN:DAYLIGHT
DTSTART:20380118T221407
TZOFFSETFROM:-0500
TZOFFSETTO:-0500
RRULE:FREQ=YEARLY;BYDAY=3MO;BYMONTH=1
TZNAME:-05
END:DAYLIGHT
BEGIN:STANDARD
DTSTART:19940331T230000
TZOFFSETFROM:-0400
TZOFFSETTO:-0500
RRULE:FREQ=YEARLY;BYDAY=-1TH;BYMONTH=3
TZNAME:-05
END:STANDARD
END:VTIMEZONE
BEGIN:VEVENT
DTSTAMP:20230510T002205Z
UID:A9EA1AEE-F74C-41D3-931D-E91103C49EFB
DTSTART;TZID=America/Lima:20230505T193000
DTEND;TZID=America/Lima:20230505T203000
DESCRIPTION:La charla pretende dar conocimientos de profundidad del ataque 
 que termina en cifrado de la información\n\nCo-sponsored by: Sandra Patri
 cia Bonilla Gerena\n\nVirtual: https://events.vtools.ieee.org/m/358665
LOCATION:Virtual: https://events.vtools.ieee.org/m/358665
ORGANIZER: stacygr2009@hotmail.com
SEQUENCE:5
SUMMARY:CYBERVILLA: Ransomware más allá de un cifrado
URL;VALUE=URI:https://events.vtools.ieee.org/m/358665
X-ALT-DESC:Description: &lt;br /&gt;&lt;p&gt;&lt;span style=&quot;font-weight: 400\;&quot;&gt;La charla
  pretende dar conocimientos de profundidad del ataque que termina en cifra
 do de la informaci&amp;oacute\;n&lt;/span&gt;&lt;/p&gt;
END:VEVENT
END:VCALENDAR

