BEGIN:VCALENDAR
VERSION:2.0
PRODID:IEEE vTools.Events//EN
CALSCALE:GREGORIAN
BEGIN:VTIMEZONE
TZID:Asia/Kolkata
BEGIN:STANDARD
DTSTART:19451014T230000
TZOFFSETFROM:+0630
TZOFFSETTO:+0530
TZNAME:IST
END:STANDARD
END:VTIMEZONE
BEGIN:VEVENT
DTSTAMP:20230627T155125Z
UID:B5C35945-37D9-4AC6-A3F0-B663865AC6B4
DTSTART;TZID=Asia/Kolkata:20230419T133000
DTEND;TZID=Asia/Kolkata:20230419T143000
DESCRIPTION:Hello all!\n\nIEEE VNRVJIET SB and SPS Chapter in collaboration
  with Department of ECE organises a guest lecture on Applications and Chal
 lenges of Artificial Intelligence in Signal Processing.\n\nSignal processi
 ng captures\, interprets\, describes and manipulates physical phenomena. M
 athematics\, statistics\, probability\, and stochastic processes are among
  the signal processing languages we use to interpret real-world phenomena\
 , model them\, and extract useful information.Signal Processing and Machin
 e Learning with Applications presents methods that are used to perform var
 ious Machine Learning and Artificial Intelligence tasks in conjunction wit
 h their applications. It is organized in three parts: Realms of Signal Pro
 cessing\; Machine Learning and Recognition\; and Advanced Applications and
  Artificial Intelligence.\n\nSpeaker: Anil Kumar Vuppala. Venue:APJ Audito
 rium.\n\nTimings:1:30 P.M.-2:30 P.M.\n\nContact:\nVeda - 7331121203\n\nSpe
 aker(s): Anil Kumar\, \n\nRoom: APJ Auditorium\, Bldg: D-Block\, VNR Vigna
 na Jyothi Institute of Engineering &amp; Technology \, Bachupally \, Hyderabad
 \, Andhra Pradesh\, India\, 500090
LOCATION:Room: APJ Auditorium\, Bldg: D-Block\, VNR Vignana Jyothi Institut
 e of Engineering &amp; Technology \, Bachupally \, Hyderabad\, Andhra Pradesh\
 , India\, 500090
ORGANIZER:vedamouktika12@gmail.com
SEQUENCE:4
SUMMARY:IEEE VNRVJIET SB and SPS Chapter in collaboration with Department o
 f ECE organises a guest lecture on Applications and Challenges of Artifici
 al Intelligence in Signal Processing 
URL;VALUE=URI:https://events.vtools.ieee.org/m/358705
X-ALT-DESC:Description: &lt;br /&gt;&lt;p&gt;Hello all! &amp;nbsp\; &amp;nbsp\; &amp;nbsp\; &amp;nbsp\;
  &amp;nbsp\; &amp;nbsp\; &amp;nbsp\; &amp;nbsp\; &amp;nbsp\; &amp;nbsp\; &amp;nbsp\; &amp;nbsp\; &amp;nbsp\; &amp;
 nbsp\; &amp;nbsp\; &amp;nbsp\; &amp;nbsp\; &amp;nbsp\; &amp;nbsp\; &amp;nbsp\;&lt;/p&gt;\n&lt;p&gt;IEEE VNRVJI
 ET SB and SPS Chapter in collaboration with Department of ECE organises a 
 guest lecture on Applications and Challenges of Artificial Intelligence in
  Signal Processing.&lt;/p&gt;\n&lt;p&gt;Signal processing captures\, interprets\, desc
 ribes and manipulates physical phenomena. Mathematics\, statistics\, proba
 bility\, and stochastic processes are among the signal processing language
 s we use to interpret real-world phenomena\, model them\, and extract usef
 ul information.&lt;em&gt;Signal Processing and Machine Learning with Application
 s&lt;/em&gt;&amp;nbsp\;presents methods that are used to perform various Machine Lea
 rning and Artificial Intelligence tasks in conjunction with their applicat
 ions. It is organized in three parts: Realms of Signal Processing\; Machin
 e Learning and Recognition\; and Advanced Applications and Artificial Inte
 lligence.&lt;/p&gt;\n&lt;p&gt;Speaker: Anil Kumar Vuppala. Venue:APJ Auditorium. &amp;nbsp
 \; &amp;nbsp\; &amp;nbsp\; &amp;nbsp\; &amp;nbsp\; &amp;nbsp\; &amp;nbsp\; &amp;nbsp\;&lt;/p&gt;\n&lt;p&gt;Timings
 :1:30 P.M.-2:30 P.M.&lt;/p&gt;\n&lt;p&gt;Contact: &amp;nbsp\; &amp;nbsp\; &amp;nbsp\; &amp;nbsp\; &amp;nbs
 p\; &amp;nbsp\; &amp;nbsp\; &amp;nbsp\; &amp;nbsp\; &amp;nbsp\; &amp;nbsp\; &amp;nbsp\; &amp;nbsp\; &amp;nbsp\
 ; &amp;nbsp\;&amp;nbsp\;&lt;br /&gt;Veda - 7331121203&lt;/p&gt;
END:VEVENT
END:VCALENDAR

