BEGIN:VCALENDAR
VERSION:2.0
PRODID:IEEE vTools.Events//EN
CALSCALE:GREGORIAN
BEGIN:VTIMEZONE
TZID:America/New_York
BEGIN:DAYLIGHT
DTSTART:20230312T030000
TZOFFSETFROM:-0500
TZOFFSETTO:-0400
RRULE:FREQ=YEARLY;BYDAY=2SU;BYMONTH=3
TZNAME:EDT
END:DAYLIGHT
BEGIN:STANDARD
DTSTART:20231105T010000
TZOFFSETFROM:-0400
TZOFFSETTO:-0500
RRULE:FREQ=YEARLY;BYDAY=1SU;BYMONTH=11
TZNAME:EST
END:STANDARD
END:VTIMEZONE
BEGIN:VEVENT
DTSTAMP:20230523T153147Z
UID:F9A75CDD-E96A-40F6-94DD-B83B3A166F49
DTSTART;TZID=America/New_York:20230525T050000
DTEND;TZID=America/New_York:20230525T070000
DESCRIPTION:IEEE P3329 Quantum Energy Initiative Working Group Kickoff Meet
 ing\n\nVirtual: https://events.vtools.ieee.org/m/358730
LOCATION:Virtual: https://events.vtools.ieee.org/m/358730
ORGANIZER:goldberg.j@ieee.org
SEQUENCE:1
SUMMARY:IEEE P3329 Quantum Energy Initiative Working Group
URL;VALUE=URI:https://events.vtools.ieee.org/m/358730
X-ALT-DESC:Description: &lt;br /&gt;&lt;p&gt;&amp;nbsp\;&lt;/p&gt;\n&lt;div class=&quot;Qr7Oae&quot; role=&quot;lis
 titem&quot;&gt;\n&lt;div class=&quot;OxAavc NVbRL&quot; data-required=&quot;true&quot; data-item-id=&quot;1267
 795562&quot;&gt;\n&lt;div class=&quot;Ih4Dzb&quot;&gt;\n&lt;div class=&quot;q4tvle JqSWld yqQS1&quot;&gt;IEEE P332
 9 Quantum Energy Initiative Working Group Kickoff Meeting&lt;/div&gt;\n&lt;/div&gt;\n&lt;
 /div&gt;\n&lt;/div&gt;\n&lt;div class=&quot;Qr7Oae&quot; role=&quot;listitem&quot;&gt;\n&lt;div class=&quot;OxAavc NV
 bRL&quot; data-required=&quot;true&quot; data-item-id=&quot;1300378158&quot;&gt;\n&lt;div class=&quot;pYfr3c&quot;&gt;
 \n&lt;div class=&quot;prOLdf&quot;&gt;\n&lt;div class=&quot;g53bl&quot;&gt;\n&lt;div class=&quot;cTDvob D1wxyf Rjs
 PE&quot; role=&quot;heading&quot; aria-level=&quot;3&quot; aria-describedby=&quot;i.desc.1300378158 c281
 &quot;&gt;&amp;nbsp\;&lt;/div&gt;\n&lt;/div&gt;\n&lt;/div&gt;\n&lt;/div&gt;\n&lt;/div&gt;\n&lt;/div&gt;
END:VEVENT
END:VCALENDAR

