BEGIN:VCALENDAR
VERSION:2.0
PRODID:IEEE vTools.Events//EN
CALSCALE:GREGORIAN
BEGIN:VTIMEZONE
TZID:Europe/Madrid
BEGIN:DAYLIGHT
DTSTART:20230326T030000
TZOFFSETFROM:+0100
TZOFFSETTO:+0200
RRULE:FREQ=YEARLY;BYDAY=-1SU;BYMONTH=3
TZNAME:CEST
END:DAYLIGHT
BEGIN:STANDARD
DTSTART:20231029T020000
TZOFFSETFROM:+0200
TZOFFSETTO:+0100
RRULE:FREQ=YEARLY;BYDAY=-1SU;BYMONTH=10
TZNAME:CET
END:STANDARD
END:VTIMEZONE
BEGIN:VEVENT
DTSTAMP:20230515T085143Z
UID:8739F934-8FF3-4A17-94B6-9B6A13CD291E
DTSTART;TZID=Europe/Madrid:20230510T094500
DTEND;TZID=Europe/Madrid:20230510T140000
DESCRIPTION:Jornada con conferencias relacionadas con la electrónica a car
 go de responsables de I+D\, ingenieros y comerciales de empresas de electr
 ónica y competición de robots mini-sumo realizados por estudiantes de in
 geniería de las especialidades de electrónica\n\nCo-sponsored by: Univer
 sidad Pública de Navarra\n\nAgenda: \nAgenda de la jornada:\n9:45-10:00: 
 Apertura de la jornada\nCarlos Ruiz Zamarreño - Chair of IEEE Sensors Cou
 ncil &amp; Systems Council Joint Chapter\n10:00-10:30: Tecnologías y proyecto
 s reales de las tecnologías electrónicas del IoT\nMikel Meoki Izaguirre 
 - Comercial y co-fundador de Embeblue\n10:30-11:00: Desafíos para los cir
 cuitos integrados de potencia y la electrificación\nGuillermo Zatorre Nav
 arro - Licenciado en Ciencias Físicas y Doctor en Ingeniería Electrónic
 a por la\nUniversidad de Zaragoza\, Senior IC Design Engineer. Semiconduct
 or Business Unit. Littelfuse Spain\n11:00-11:30: Una incubadora neonatal o
 pen-source\nPablo Sánchez Bergasa - Ingeniero electrónico en IED Electro
 nics\n11:30-12:00: Pausa café\n12:00-14:00: Competición sumo-bots\n\nRoo
 m: Aula 09\, Bldg: Campus Arrosadía\, AULARIO\, Universidad Pública de N
 avarra\, Campus Arrosadía\, Pamplona\, Navarra\, Spain\, 31006
LOCATION:Room: Aula 09\, Bldg: Campus Arrosadía\, AULARIO\, Universidad P
 ública de Navarra\, Campus Arrosadía\, Pamplona\, Navarra\, Spain\, 3100
 6
ORGANIZER:zamarreno@ieee.org
SEQUENCE:6
SUMMARY:JORNADAS DE ELECTRÓNICA &amp; competición de sumo-bots
URL;VALUE=URI:https://events.vtools.ieee.org/m/358782
X-ALT-DESC:Description: &lt;br /&gt;&lt;p&gt;Jornada con conferencias relacionadas con 
 la electr&amp;oacute\;nica a cargo de responsables de I+D\, ingenieros y comer
 ciales de empresas de electr&amp;oacute\;nica y competici&amp;oacute\;n de robots 
 mini-sumo realizados por estudiantes de ingenier&amp;iacute\;a de las especial
 idades de electr&amp;oacute\;nica&lt;/p&gt;&lt;br /&gt;&lt;br /&gt;Agenda: &lt;br /&gt;&lt;p&gt;Agenda de la
  jornada:&lt;br /&gt;9:45-10:00: Apertura de la jornada&lt;br /&gt;Carlos Ruiz Zamarre
 &amp;ntilde\;o - Chair of IEEE Sensors Council &amp;amp\; Systems Council Joint Ch
 apter&lt;br /&gt;10:00-10:30: Tecnolog&amp;iacute\;as y proyectos reales de las tecn
 olog&amp;iacute\;as electr&amp;oacute\;nicas del IoT&lt;br /&gt;Mikel Meoki Izaguirre - 
 Comercial y co-fundador de Embeblue&lt;br /&gt;10:30-11:00: Desaf&amp;iacute\;os par
 a los circuitos integrados de potencia y la electrificaci&amp;oacute\;n&lt;br /&gt;G
 uillermo Zatorre Navarro - Licenciado en Ciencias F&amp;iacute\;sicas y Doctor
  en Ingenier&amp;iacute\;a Electr&amp;oacute\;nica por la&lt;br /&gt;Universidad de Zara
 goza\, Senior IC Design Engineer. Semiconductor Business Unit. Littelfuse 
 Spain&lt;br /&gt;11:00-11:30: Una incubadora neonatal open-source&lt;br /&gt;Pablo S&amp;a
 acute\;nchez Bergasa - Ingeniero electr&amp;oacute\;nico en IED Electronics&lt;br
  /&gt;11:30-12:00: Pausa caf&amp;eacute\;&lt;br /&gt;12:00-14:00: Competici&amp;oacute\;n s
 umo-bots&lt;/p&gt;
END:VEVENT
END:VCALENDAR

