BEGIN:VCALENDAR
VERSION:2.0
PRODID:IEEE vTools.Events//EN
CALSCALE:GREGORIAN
BEGIN:VTIMEZONE
TZID:Europe/Stockholm
BEGIN:DAYLIGHT
DTSTART:20230326T030000
TZOFFSETFROM:+0100
TZOFFSETTO:+0200
RRULE:FREQ=YEARLY;BYDAY=-1SU;BYMONTH=3
TZNAME:CEST
END:DAYLIGHT
BEGIN:STANDARD
DTSTART:20231029T020000
TZOFFSETFROM:+0200
TZOFFSETTO:+0100
RRULE:FREQ=YEARLY;BYDAY=-1SU;BYMONTH=10
TZNAME:CET
END:STANDARD
END:VTIMEZONE
BEGIN:VEVENT
DTSTAMP:20230509T004600Z
UID:EABAD082-1EE8-4820-9653-B21E494EADBF
DTSTART;TZID=Europe/Stockholm:20230508T150000
DTEND;TZID=Europe/Stockholm:20230508T170000
DESCRIPTION:IEEE Sweden WIE Affinity Group and Signal Processing Chapter in
 vite you to the hybrid event with a presentation by Assistance Professor S
 eraina Dual\n\nSpeaker(s):  Assistant Professor Seraina Dual\n\nBldg: Digi
 tal Futures \, KTH Royal Institute of Technology\, Osquars backe 5\, Stock
 holm\, Stockholms lan\, Sweden\, SE-114 28 \, Virtual: https://events.vtoo
 ls.ieee.org/m/358998
LOCATION:Bldg: Digital Futures \, KTH Royal Institute of Technology\, Osqua
 rs backe 5\, Stockholm\, Stockholms lan\, Sweden\, SE-114 28 \, Virtual: h
 ttps://events.vtools.ieee.org/m/358998
ORGANIZER:amlikelati@ieee.org
SEQUENCE:13
SUMMARY:IEEE Sweden WIE Affinity Group and Signal Processing Chapter - Oppo
 rtunities for Biomedical Signal Processing in Cardiovascular Technology
URL;VALUE=URI:https://events.vtools.ieee.org/m/358998
X-ALT-DESC:Description: &lt;br /&gt;&lt;p&gt;IEEE Sweden WIE Affinity Group and Signal 
 Processing Chapter invite you to the hybrid event with a presentation by A
 ssistance Professor Seraina Dual&lt;/p&gt;
END:VEVENT
END:VCALENDAR

