BEGIN:VCALENDAR
VERSION:2.0
PRODID:IEEE vTools.Events//EN
CALSCALE:GREGORIAN
BEGIN:VTIMEZONE
TZID:Asia/Kolkata
BEGIN:STANDARD
DTSTART:19451014T230000
TZOFFSETFROM:+0630
TZOFFSETTO:+0530
TZNAME:IST
END:STANDARD
END:VTIMEZONE
BEGIN:VEVENT
DTSTAMP:20230424T072854Z
UID:BE40665C-FA96-4AD7-BC2A-1D01F330BCA6
DTSTART;TZID=Asia/Kolkata:20230421T100000
DTEND;TZID=Asia/Kolkata:20230421T163000
DESCRIPTION:Kavach-2023 is a unique National Hackathon\, launched by MOE&#39;s 
 Innovation cell\, AICTE along with Bureau of Police Reasearch and Developm
 ent in collaboration with IEEE Computer Society. The aim of the hackathon 
 is to identify innovative concepts and technology solutions for addressing
  the security challenges of 21st century faced by our intelligence agencie
 s. This hackathon has 20 Problem statements related to the cyber security 
 domain against which the innovative minds will be able to submit their ide
 as and compete against each other.\n\nRoom: P-003\, Bldg: PG Block\, VNR V
 ignana Jyothi Institute of Engineering and Technology\, Bachupally\, Hyder
 abad\, Andhra Pradesh\, India\, 500090
LOCATION:Room: P-003\, Bldg: PG Block\, VNR Vignana Jyothi Institute of Eng
 ineering and Technology\, Bachupally\, Hyderabad\, Andhra Pradesh\, India\
 , 500090
ORGANIZER:pranav.paruchuri6@gmail.com
SEQUENCE:0
SUMMARY:KAVACH-2023
URL;VALUE=URI:https://events.vtools.ieee.org/m/359051
X-ALT-DESC:Description: &lt;br /&gt;&lt;p&gt;Kavach-2023 is a unique National Hackathon
 \, launched by MOE&#39;s Innovation cell\, AICTE along with Bureau of Police R
 easearch and Development in collaboration with IEEE Computer Society. The 
 aim of the hackathon is to identify innovative concepts and technology sol
 utions for addressing the security challenges of 21st century faced by our
  intelligence agencies. This hackathon has 20 Problem statements related t
 o the cyber security domain against which the innovative minds will be abl
 e to submit their ideas and compete against each other.&lt;/p&gt;
END:VEVENT
END:VCALENDAR

