BEGIN:VCALENDAR
VERSION:2.0
PRODID:IEEE vTools.Events//EN
CALSCALE:GREGORIAN
BEGIN:VTIMEZONE
TZID:Asia/Seoul
BEGIN:STANDARD
DTSTART:19881009T020000
TZOFFSETFROM:+1000
TZOFFSETTO:+0900
TZNAME:KST
END:STANDARD
END:VTIMEZONE
BEGIN:VEVENT
DTSTAMP:20230529T015742Z
UID:9DAEF0DB-6C12-4E80-BE6E-7C10A625DBE3
DTSTART;TZID=Asia/Seoul:20230523T170000
DTEND;TZID=Asia/Seoul:20230523T180000
DESCRIPTION:IEEE Magnetic Society DL lecture (Prof. Ping Liu) at Sookmyung 
 Women’s University\n\nSpeaker(s): Ping Liu\, \n\nSeoul\, Seoul\, South K
 orea
LOCATION:Seoul\, Seoul\, South Korea
ORGANIZER:bgpark@kaist.ac.kr
SEQUENCE:2
SUMMARY:IEEE Magnetic Society DL lecture
URL;VALUE=URI:https://events.vtools.ieee.org/m/359075
X-ALT-DESC:Description: &lt;br /&gt;&lt;p&gt;IEEE Magnetic Society DL lecture (Prof. Pi
 ng Liu) at Sookmyung Women&amp;rsquo\;s University&lt;/p&gt;
END:VEVENT
END:VCALENDAR

